Workbook

Sheet Database kontormøbler - 2021
CB1: Utregningsrubikker:
A2: Årstall | B2: Doffinkode | C2: Dato for kunngjøring | D2: Publisert av | E2: Organisasjonsnummer | F2: Tittel | G2: Fylke | H2: Oppdragsgiver | I2: Hoved CPV | J2: Dynamisk innkjøpsordning | K2: Varekategori | L2: Type konkurranse | M2: Delkontrakt | N2: Estimert verdi | O2: Kontormøbler | P2: Link til konkurransegrunnlag | Q2: Epost kontaktperson | R2: Kolonne1 | S2: Vekting av miljø (%) | T2: Vekting av pris (%) | U2: Vekting av kvalitet og service (%) | V2: Miljø som tildelings kriterium | W2: Miljømerke som tildelings kriterium | X2: EPD som tildelings kriterium | Y2: Miljø som kontrakts vilkår | Z2: Miljø som kvalifikasjons krav | AA2: Miljø som krav spesifikasjon | AB2: Miljø/sikrulært fokus i tittel? | AC2: Miljø/sirkulært nevnt/fokus i formål/behov/ beskrivelse av konkurransen? | AD2: Minimere energibruk | AE2: Klimafotavtrykk/ klimagassutslipp | AF2: Minimere/ redusere miljøbelastning/ miljøpåvirkning | AG2: Miljøledelsessystem (ISO14001, Miljøfyrtårn etc.) | AH2: Miljømerking som krav, tildelingskriterium, eller kontraktsvilkår - Type 1 (Svanemerket, EU Eco-label, Svensk Møbelfakta, osv.) | AI2: EPD/Miljødeklarasjon - som krav, tildelingskriterium, kontraktsvilkår eller dokumentasjon | AJ2: Bærekraftig trevirke/skogbruk - tømmerforordningen, FSC eller PEFC | AK2: Krav til kvalitet / EN standarder/henvisning til Norsk møbelfakta | AL2: Robuste møbeltekstiler/ kvalitet på møbeltrekk | AM2: Leverandøren skal kunne levere brukte møbler | AN2: Brukte møbler er untatt fra avtalen | AO2: Design for lang levetid (Demontering, Reservedeler, produktinformasjon om montering og vedlikehold) | AP2: Merking av plast | AQ2: Leie/ leasing av møbler | AR2: Leverandøren skal ta tilbake brukte møbler | AS2: Avhending, videresalg, materialgjenvinnes/resirkuleres, (at de ber om en tjeneste om at leverandøren skal ta inn oppdragsgivers brukte møbler og videreselge, eller materialgjenvinne/resirkulere). Dette stille kanskje oftest som kontraktvilkår. | AT2: Serviceavtale/ reparasjonsavtale | AU2: TCO/ LCC (Livssyklus kostnader) | AV2: Garantitid (år) | AW2: Vask og rengjøring av møbler | AX2: Bruk av resirkulert materiale/resirkulert andel | AY2: Skal kunne materialgjenvinnes/ resirkuleres, eller at de ber om en tjeneste om at leverandøren | AZ2: Minimere emballasje | BA2: Emballasjen skal være resirkulerbar/ gjenbrukbar (kravet om miljøvennelig emballasje) | BB2: Emballasje (retur- grønt punkt, gjenvinning) (kravet om gjenvinnbar emballasje) | BC2: Kjemikalietabellen (unngå skadelige kjemikaler) | BD2: Kjemikalieinnhold og -håndtering | BE2: REACH (prioritetslisten, kandidatlisten) | BF2: Produkt-forskriften | BG2: CLP-forordningen kjemikalier klassifisert etter faresetninger i CLP | BH2: VOC | BI2: Formaldehyd | BJ2: Flammehemmere | BK2: PVC | BL2: Tungmetaller | BM2: Kvikksølv | BN2: Krom (både 3/III og 6/IV) | BO2: Bly | BP2: Kadmium | BQ2: Tinn | BR2: Sosiale hensyn og menneske-rettigheter er inkludert | BS2: Menneske-rettigheter som tildelingskriterium | BT2: Menneske-rettigheter som kontraktsvilkår | BU2: Menneske-rettigheter som kvalifikasjonskrav | BV2: Menneske-rettigheter som kravspesifikasjon | BW2: Dokumentnavn | BX2: Kommentarer | CB2: Har satt krav til sirkulær økonomi | CC2: Krav til kvalitet på produktet | CD2: Krav til sirkulære "forretningsmodeller" | CE2: Rad nummer | CF2: Har brukt Kriterie veiviseren
A3: 2021 | B3: 2021-388763 | C3: 44307 | D3: Grenlandkommunenes Innkjøpsenhet | E3: 991799710 | F3: Møbler og inventar - delkontrakt 1 kontormøbler | G3: Vestfold og Telemark | H3: Fylkeskommune | I3: 39000000 | J3: 0 | K3: Varer | L3: Åpen anbudskonkurranse | M3: 1 | N3: 40000000 | O3: 1 | P3: https://dirfo.sharepoint.com/:f:/r/sites/Grnneanskaffelser/Shared%20Documents/M%C3%B8bler/Statistikk%20og%20m%C3%A5ling/M%C3%A5ling%202022%20-%20Hedda/Konkurransegrunnlag/Konkurransegrunnlag%202021/Grenlandkommunenes%20Innkj%C3%B8psenhet%20-%2021.04.2021?csf=1&web=1&e=LQXhmp | Q3: ninaelisabethsorensen.rybraten@skien.kommune.no | S3: 0 | T3: 0.55 | U3: 0.45 | V3: 0 | W3: 0 | X3: 0 | Y3: 1 | Z3: 1 | AA3: 1 | AB3: 0 | AC3: 0 | AD3: 0 | AE3: 1 | AF3: 1 | AG3: 1 | AH3: 0 | AI3: 0 | AJ3: 1 | AK3: 1 | AL3: 1 | AM3: 0 | AN3: 0 | AO3: 1 | AP3: 0 | AQ3: 0 | AR3: 1 | AS3: 0 | AT3: 0 | AU3: 0 | AV3: 2 | AW3: 1 | AX3: 1 | AY3: 0 | AZ3: 1 | BA3: 1 | BB3: 1 | BC3: 0 | BD3: 1 | BE3: 0 | BF3: 1 | BG3: 0 | BH3: 1 | BI3: 1 | BJ3: 1 | BK3: 1 | BL3: 0 | BM3: 0 | BN3: 0 | BO3: 1 | BP3: 0 | BQ3: 0 | BR3: 1 | BS3: 0 | BT3: 1 | BU3: 1 | BV3: 0 | BW3: https://dirfo.sharepoint.com/:b:/r/sites/Grnneanskaffelser/Shared%20Documents/M%C3%B8bler/Statistikk%20og%20m%C3%A5ling/M%C3%A5ling%202022%20-%20Hedda/Konkurransegrunnlag/Konkurransegrunnlag%202021/Grenlandkommunenes%20Innkj%C3%B8psenhet%20-%2021.04.2021/Konkurransegrunnlag.pdf?csf=1&web=1&e=GZx4KM | CB3: =IF((AK3+AL3+AO3+AP3+AS3+AT3+AU3+AW3)>=1,1,0) -> 1 | CC3: =IF((AK3+AL3+AO3+AP3+AU3+AW3+AX3+AY3)>=1,1,0) -> 1 | CD3: =IF((AM3+AN3+AQ3+AR3+AS3+AT3)>=1,1,0) -> 1 | CE3: 4 | CF3: {=+_xlfn.IFS(Tabell2[[#This Row],[EPD/Miljødeklarasjon - som krav, tildelingskriterium, kontraktsvilkår eller dokumentasjon]]=2,"Ja",Tabell2[[#This Row],[Bærekraftig trevirke/skogbruk - tømmerforordningen, FSC eller PEFC ]]=2,"Ja",Tabell2[[#This Row],[Krav til kvalitet / EN standarder/henvisning til Norsk møbelfakta]]=2,"Ja",Tabell2[[#This Row],[Robuste møbeltekstiler/ kvalitet på møbeltrekk]]=2,"Ja",Tabell2[[#This Row],[Design for lang levetid (Demontering, Reservedeler, produktinformasjon om montering og vedlikehold)]]=2,"Ja",Tabell2[[#This Row],[Merking av plast]]=2,"Ja",Tabell2[[#This Row],[Vask og rengjøring av møbler]]=2,"Ja",Tabell2[[#This Row],[Emballasjen skal være resirkulerbar/ gjenbrukbar (kravet om miljøvennelig emballasje)]]=2,"Ja",Tabell2[[#This Row],[Emballasje (retur- grønt punkt, gjenvinning) (kravet om gjenvinnbar emballasje)]]=2,"Ja",Tabell2[[#This Row],[Kjemikalietabellen (unngå skadelige kjemikaler)]]=2,"Ja",Tabell2[[#This Row],[Flammehemmere]]=2,"Ja",Tabell2[[#This Row],[PVC]]=2,"Ja",Tabell2[[#This Row],[Sosiale hensyn og menneske-rettigheter er inkludert]]=2,"Ja")} -> #N/A
A4: 2021 | B4: 2021-315749 | C4: 44266 | D4: Jernbanedirektoratet | E4: 916810962 | F4: Kontormøbler, inventar, interiørdesign og interiør. | G4: Oslo | H4: Statlig virksomhet | I4: 39130000 | J4: 0 | K4: Varer | L4: Åpen anbudskonkurranse | M4: 0 | N4: 1800000 | O4: 1 | P4: https://eu.eu-supply.com/app/rfq/publicpurchase_docs.asp?PID=294150&LID=345247&AllowPrint=1 | Q4: arild.bakke@jernbanedirektoratet.no | S4: 0 | T4: 0.4 | U4: 0.6 | V4: 0 | W4: 0 | X4: 0 | Y4: 1 | Z4: 1 | AA4: 1 | AB4: 0 | AC4: 0 | AD4: 0 | AE4: 1 | AF4: 0 | AG4: 1 | AH4: 0 | AI4: 0 | AJ4: 0 | AK4: 1 | AL4: 1 | AM4: 1 | AN4: 0 | AO4: 1 | AP4: 0 | AQ4: 0 | AR4: 1 | AS4: 0 | AT4: 0 | AU4: 0 | AV4: - | AW4: 1 | AX4: 0 | AY4: 0 | AZ4: 0 | BA4: 0 | BB4: 0 | BC4: 0 | BD4: 0 | BE4: 0 | BF4: 0 | BG4: 0 | BH4: 0 | BI4: 0 | BJ4: 0 | BK4: 0 | BL4: 0 | BM4: 0 | BN4: 0 | BO4: 0 | BP4: 0 | BQ4: 0 | BR4: 0 | BS4: 0 | BT4: 1 | BU4: 0 | BV4: 0 | BW4: https://dirfo.sharepoint.com/:b:/r/sites/Grnneanskaffelser/Shared%20Documents/M%C3%B8bler/Statistikk%20og%20m%C3%A5ling/M%C3%A5ling%202022%20-%20Hedda/Konkurransegrunnlag/Konkurransegrunnlag%202021/Jernbanedirektoratet%20-%2011.03.2021/Bilag%205%20Etiske%20krav.pdf?csf=1&web=1&e=UD9sjJ | CB4: =IF((AK4+AL4+AO4+AP4+AS4+AT4+AU4+AW4)>=1,1,0) -> 1 | CC4: =IF((AK4+AL4+AO4+AP4+AU4+AW4+AX4+AY4)>=1,1,0) -> 1 | CD4: =IF((AM4+AN4+AQ4+AR4+AS4+AT4)>=1,1,0) -> 1 | CE4: =+CE3+1 -> 5 | CF4: {=+_xlfn.IFS(Tabell2[[#This Row],[EPD/Miljødeklarasjon - som krav, tildelingskriterium, kontraktsvilkår eller dokumentasjon]]=2,"Ja",Tabell2[[#This Row],[Bærekraftig trevirke/skogbruk - tømmerforordningen, FSC eller PEFC ]]=2,"Ja",Tabell2[[#This Row],[Krav til kvalitet / EN standarder/henvisning til Norsk møbelfakta]]=2,"Ja",Tabell2[[#This Row],[Robuste møbeltekstiler/ kvalitet på møbeltrekk]]=2,"Ja",Tabell2[[#This Row],[Design for lang levetid (Demontering, Reservedeler, produktinformasjon om montering og vedlikehold)]]=2,"Ja",Tabell2[[#This Row],[Merking av plast]]=2,"Ja",Tabell2[[#This Row],[Vask og rengjøring av møbler]]=2,"Ja",Tabell2[[#This Row],[Emballasjen skal være resirkulerbar/ gjenbrukbar (kravet om miljøvennelig emballasje)]]=2,"Ja",Tabell2[[#This Row],[Emballasje (retur- grønt punkt, gjenvinning) (kravet om gjenvinnbar emballasje)]]=2,"Ja",Tabell2[[#This Row],[Kjemikalietabellen (unngå skadelige kjemikaler)]]=2,"Ja",Tabell2[[#This Row],[Flammehemmere]]=2,"Ja",Tabell2[[#This Row],[PVC]]=2,"Ja",Tabell2[[#This Row],[Sosiale hensyn og menneske-rettigheter er inkludert]]=2,"Ja")} -> #N/A
A5: 2021 | B5: 2021-326299 | C5: 44484 | D5: Meteorologisk Institutt | E5: 971274042 | F5: Rammeavtale for kjøp av møbler og inventar - Del III | G5: Oslo | H5: Statlig virksomhet | I5: 39130000 | J5: 0 | K5: Varer | L5: Åpen anbudskonkurranse | M5: 0 | N5: 4000000 | O5: 1 | P5: https://www.mercell.com/nb-no/anbud/165210618/rammeavtale-for-kjoep-av-moebler-og-inventar---del-iii--anbud.aspx | Q5: post@met.no | S5: 0.2 | T5: 0.4 | U5: 0.4 | V5: 1 | W5: 0 | X5: 0 | Y5: 0 | Z5: 1 | AA5: 1 | AB5: 0 | AC5: 1 | AD5: 0 | AE5: 0 | AF5: 0 | AG5: 1 | AH5: 0 | AI5: 0 | AJ5: 0 | AK5: 2 | AL5: 2 | AM5: 0 | AN5: 1 | AO5: 2 | AP5: 2 | AQ5: 0 | AR5: 0 | AS5: 0 | AT5: 0 | AU5: 0 | AV5: 5 | AW5: 2 | AX5: 0 | AY5: 0 | AZ5: 1 | BA5: 2 | BB5: 1 | BC5: 2 | BD5: 1 | BE5: 1 | BF5: 1 | BG5: 1 | BH5: 0 | BI5: 0 | BJ5: 2 | BK5: 2 | BL5: 0 | BM5: 1 | BN5: 1 | BO5: 1 | BP5: 1 | BQ5: 0 | BR5: 1 | BS5: 0 | BT5: 0 | BU5: 0 | BV5: 1 | BW5: https://dirfo.sharepoint.com/:w:/r/sites/Grnneanskaffelser/Shared%20Documents/M%C3%B8bler/Statistikk%20og%20m%C3%A5ling/M%C3%A5ling%202022%20-%20Hedda/Konkurransegrunnlag/Konkurransegrunnlag%202021/Meteorologisk%20Institutt%20-%2015.10.2021/Vedlegg%201%20-%20Kravspesifikasjon.docx?d=wa4a51a85b12246b5ace57a6d0af7af36&csf=1&web=1&e=8ByDJp | CB5: =IF((AK5+AL5+AO5+AP5+AS5+AT5+AU5+AW5)>=1,1,0) -> 1 | CC5: =IF((AK5+AL5+AO5+AP5+AU5+AW5+AX5+AY5)>=1,1,0) -> 1 | CD5: =IF((AM5+AN5+AQ5+AR5+AS5+AT5)>=1,1,0) -> 1 | CE5: =+CE4+1 -> 6 | CF5: {=+_xlfn.IFS(Tabell2[[#This Row],[EPD/Miljødeklarasjon - som krav, tildelingskriterium, kontraktsvilkår eller dokumentasjon]]=2,"Ja",Tabell2[[#This Row],[Bærekraftig trevirke/skogbruk - tømmerforordningen, FSC eller PEFC ]]=2,"Ja",Tabell2[[#This Row],[Krav til kvalitet / EN standarder/henvisning til Norsk møbelfakta]]=2,"Ja",Tabell2[[#This Row],[Robuste møbeltekstiler/ kvalitet på møbeltrekk]]=2,"Ja",Tabell2[[#This Row],[Design for lang levetid (Demontering, Reservedeler, produktinformasjon om montering og vedlikehold)]]=2,"Ja",Tabell2[[#This Row],[Merking av plast]]=2,"Ja",Tabell2[[#This Row],[Vask og rengjøring av møbler]]=2,"Ja",Tabell2[[#This Row],[Emballasjen skal være resirkulerbar/ gjenbrukbar (kravet om miljøvennelig emballasje)]]=2,"Ja",Tabell2[[#This Row],[Emballasje (retur- grønt punkt, gjenvinning) (kravet om gjenvinnbar emballasje)]]=2,"Ja",Tabell2[[#This Row],[Kjemikalietabellen (unngå skadelige kjemikaler)]]=2,"Ja",Tabell2[[#This Row],[Flammehemmere]]=2,"Ja",Tabell2[[#This Row],[PVC]]=2,"Ja",Tabell2[[#This Row],[Sosiale hensyn og menneske-rettigheter er inkludert]]=2,"Ja")} -> Ja
A6: 2021 | B6: 2021-358997 | C6: 44203 | D6: NORCE Norwegian Research Centre AS | E6: 919408049 | F6: Rammeavtale på nye møbler og inventar for NORCE Norwegian Research Centre AS | G6: Hele landet | H6: Statlig virksomhet | I6: 39000000 | J6: 0 | K6: Varer | L6: Åpen anbudskonkurranse | M6: 0 | N6: 8000000 | O6: 1 | P6: https://www.mercell.com/nb-no/anbud/146641908/rammeavtale-paa-nye-moebler-og-inventar-for-norce-norwegian-research-centre-as-anbud.aspx | Q6: aniv@norceresearch.no | S6: 0 | T6: 0.4 | U6: 0.6 | V6: 0 | W6: 0 | X6: 0 | Y6: 1 | Z6: 1 | AA6: 1 | AB6: 0 | AC6: 1 | AD6: 0 | AE6: 0 | AF6: 1 | AG6: 1 | AH6: 0 | AI6: 0 | AJ6: 1 | AK6: 1 | AL6: 1 | AM6: 0 | AN6: 1 | AO6: 1 | AP6: 0 | AQ6: 0 | AR6: 0 | AS6: 0 | AT6: 0 | AU6: 0 | AV6: 5 | AW6: 1 | AX6: 0 | AY6: 0 | AZ6: 0 | BA6: 0 | BB6: 1 | BC6: 0 | BD6: 1 | BE6: 1 | BF6: 1 | BG6: 0 | BH6: 0 | BI6: 0 | BJ6: 0 | BK6: 0 | BL6: 0 | BM6: 0 | BN6: 1 | BO6: 0 | BP6: 0 | BQ6: 0 | BR6: 2 | BS6: 0 | BT6: 1 | BU6: 1 | BV6: 0 | BW6: https://dirfo.sharepoint.com/:w:/r/sites/Grnneanskaffelser/Shared%20Documents/M%C3%B8bler/Statistikk%20og%20m%C3%A5ling/M%C3%A5ling%202022%20-%20Hedda/Konkurransegrunnlag/Konkurransegrunnlag%202021/NORCE%20Norwegian%20Research%20Centre%20AS%20-%2007.01.2021/Bilag%203%20-%2010.docx?d=w851df837d59c45a0bc29912a3af0b313&csf=1&web=1&e=li0aNE | BX6: Må redgjøre for hvordan de jobber mot sirkulær økonomi, samfunnsansvar og miljø | CB6: =IF((AK6+AL6+AO6+AP6+AS6+AT6+AU6+AW6)>=1,1,0) -> 1 | CC6: =IF((AK6+AL6+AO6+AP6+AU6+AW6+AX6+AY6)>=1,1,0) -> 1 | CD6: =IF((AM6+AN6+AQ6+AR6+AS6+AT6)>=1,1,0) -> 1 | CE6: =+CE5+1 -> 7 | CF6: {=+_xlfn.IFS(Tabell2[[#This Row],[EPD/Miljødeklarasjon - som krav, tildelingskriterium, kontraktsvilkår eller dokumentasjon]]=2,"Ja",Tabell2[[#This Row],[Bærekraftig trevirke/skogbruk - tømmerforordningen, FSC eller PEFC ]]=2,"Ja",Tabell2[[#This Row],[Krav til kvalitet / EN standarder/henvisning til Norsk møbelfakta]]=2,"Ja",Tabell2[[#This Row],[Robuste møbeltekstiler/ kvalitet på møbeltrekk]]=2,"Ja",Tabell2[[#This Row],[Design for lang levetid (Demontering, Reservedeler, produktinformasjon om montering og vedlikehold)]]=2,"Ja",Tabell2[[#This Row],[Merking av plast]]=2,"Ja",Tabell2[[#This Row],[Vask og rengjøring av møbler]]=2,"Ja",Tabell2[[#This Row],[Emballasjen skal være resirkulerbar/ gjenbrukbar (kravet om miljøvennelig emballasje)]]=2,"Ja",Tabell2[[#This Row],[Emballasje (retur- grønt punkt, gjenvinning) (kravet om gjenvinnbar emballasje)]]=2,"Ja",Tabell2[[#This Row],[Kjemikalietabellen (unngå skadelige kjemikaler)]]=2,"Ja",Tabell2[[#This Row],[Flammehemmere]]=2,"Ja",Tabell2[[#This Row],[PVC]]=2,"Ja",Tabell2[[#This Row],[Sosiale hensyn og menneske-rettigheter er inkludert]]=2,"Ja")} -> Ja
A7: 2021 | B7: 2021-331342 | C7: 44384 | D7: Statsforvalteren i Troms og Finnmark | E7: 967311014 | F7: Anskaffelse av kontormøbler og løst inventar til Statsforvalteren i Troms og Finnmark (kontorsted Vadsø) | G7: Troms og Finnmark | H7: Statlig virksomhet | I7: 39130000 | J7: Ikke spesifisert | K7: Varer | L7: Åpen anbudskonkurranse | M7: 0 | N7: Ikke spesifisert | O7: 1 | P7: https://dirfo.sharepoint.com/:f:/r/sites/Grnneanskaffelser/Shared%20Documents/M%C3%B8bler/Statistikk%20og%20m%C3%A5ling/M%C3%A5ling%202022%20-%20Hedda/Konkurransegrunnlag/Konkurransegrunnlag%202021/Statsforvalteren%20i%20Troms%20og%20Finnmark%20-%2007.07.2021?csf=1&web=1&e=9WTIFd | Q7: kjersti.fosse@statsforvalteren.no | S7: 0 | T7: 0.3 | U7: 0.7 | V7: 0 | W7: 0 | X7: 0 | Y7: 0 | Z7: 1 | AA7: 0 | AB7: 0 | AC7: 0 | AD7: 0 | AE7: 0 | AF7: 0 | AG7: 1 | AH7: 0 | AI7: 0 | AJ7: 0 | AK7: 0 | AL7: 0 | AM7: 0 | AN7: 0 | AO7: 0 | AP7: 0 | AQ7: 0 | AR7: 0 | AS7: 0 | AT7: 0 | AU7: 0 | AV7: 0 | AW7: 0 | AX7: 0 | AY7: 0 | AZ7: 0 | BA7: 0 | BB7: 0 | BC7: 0 | BD7: 0 | BE7: 0 | BF7: 0 | BG7: 0 | BH7: 0 | BI7: 0 | BJ7: 0 | BK7: 0 | BL7: 0 | BM7: 0 | BN7: 0 | BO7: 0 | BP7: 0 | BQ7: 0 | BR7: 0 | BS7: 0 | BT7: 0 | BU7: 0 | BV7: 0 | BW7: - | BX7: Mye manglende dokumenter (har bare konkurransegrunnlaget) | CB7: =IF((AK7+AL7+AO7+AP7+AS7+AT7+AU7+AW7)>=1,1,0) -> 0 | CC7: =IF((AK7+AL7+AO7+AP7+AU7+AW7+AX7+AY7)>=1,1,0) -> 0 | CD7: =IF((AM7+AN7+AQ7+AR7+AS7+AT7)>=1,1,0) -> 0 | CE7: =+CE6+1 -> 8 | CF7: {=+_xlfn.IFS(Tabell2[[#This Row],[EPD/Miljødeklarasjon - som krav, tildelingskriterium, kontraktsvilkår eller dokumentasjon]]=2,"Ja",Tabell2[[#This Row],[Bærekraftig trevirke/skogbruk - tømmerforordningen, FSC eller PEFC ]]=2,"Ja",Tabell2[[#This Row],[Krav til kvalitet / EN standarder/henvisning til Norsk møbelfakta]]=2,"Ja",Tabell2[[#This Row],[Robuste møbeltekstiler/ kvalitet på møbeltrekk]]=2,"Ja",Tabell2[[#This Row],[Design for lang levetid (Demontering, Reservedeler, produktinformasjon om montering og vedlikehold)]]=2,"Ja",Tabell2[[#This Row],[Merking av plast]]=2,"Ja",Tabell2[[#This Row],[Vask og rengjøring av møbler]]=2,"Ja",Tabell2[[#This Row],[Emballasjen skal være resirkulerbar/ gjenbrukbar (kravet om miljøvennelig emballasje)]]=2,"Ja",Tabell2[[#This Row],[Emballasje (retur- grønt punkt, gjenvinning) (kravet om gjenvinnbar emballasje)]]=2,"Ja",Tabell2[[#This Row],[Kjemikalietabellen (unngå skadelige kjemikaler)]]=2,"Ja",Tabell2[[#This Row],[Flammehemmere]]=2,"Ja",Tabell2[[#This Row],[PVC]]=2,"Ja",Tabell2[[#This Row],[Sosiale hensyn og menneske-rettigheter er inkludert]]=2,"Ja")} -> #N/A
A8: 2021 | B8: 2021-335986 | C8: 44487 | D8: Utlendingsnemnda | E8: 982019095 | F8: (21/00502) Kontor- og konferansemøbler, rammeavtale | G8: Oslo | H8: Statlig virksomhet | I8: 39130000 | J8: 0 | K8: Varer | L8: Ikke spesifisert | M8: 0 | N8: 1299000 | O8: 1 | P8: https://dirfo.sharepoint.com/:f:/r/sites/Grnneanskaffelser/Shared%20Documents/M%C3%B8bler/Statistikk%20og%20m%C3%A5ling/M%C3%A5ling%202022%20-%20Hedda/Konkurransegrunnlag/Konkurransegrunnlag%202021/Utlendingsnemnda%20-%2018.10.2021?csf=1&web=1&e=UVQYc3 | Q8: karlpetter@innkjopskontoret.no | S8: 0.1 | T8: 0.4 | U8: 0.5 | V8: 1 | W8: 0 | X8: 0 | Y8: 0 | Z8: 0 | AA8: 1 | AB8: 0 | AC8: 0 | AD8: 0 | AE8: 0 | AF8: 1 | AG8: 1 | AH8: 0 | AI8: 1 | AJ8: 1 | AK8: 1 | AL8: 2 | AM8: 0 | AN8: 1 | AO8: 1 | AP8: 1 | AQ8: 0 | AR8: 0 | AS8: 0 | AT8: 0 | AU8: 0 | AV8: 5 | AW8: 1 | AX8: 0 | AY8: 0 | AZ8: 1 | BA8: 0 | BB8: 2 | BC8: 0 | BD8: 1 | BE8: 1 | BF8: 1 | BG8: 0 | BH8: 1 | BI8: 1 | BJ8: 1 | BK8: 0 | BL8: 0 | BM8: 0 | BN8: 0 | BO8: 0 | BP8: 0 | BQ8: 0 | BR8: 1 | BS8: 0 | BT8: 1 | BU8: 0 | BV8: 1 | BW8: https://dirfo.sharepoint.com/:b:/r/sites/Grnneanskaffelser/Shared%20Documents/M%C3%B8bler/Statistikk%20og%20m%C3%A5ling/M%C3%A5ling%202022%20-%20Hedda/Konkurransegrunnlag/Konkurransegrunnlag%202021/Utlendingsnemnda%20-%2018.10.2021/Kunngjort%20konkurransegrunnlag.pdf?csf=1&web=1&e=qKMtvg | CB8: =IF((AK8+AL8+AO8+AP8+AS8+AT8+AU8+AW8)>=1,1,0) -> 1 | CC8: =IF((AK8+AL8+AO8+AP8+AU8+AW8+AX8+AY8)>=1,1,0) -> 1 | CD8: =IF((AM8+AN8+AQ8+AR8+AS8+AT8)>=1,1,0) -> 1 | CE8: =+CE7+1 -> 9 | CF8: {=+_xlfn.IFS(Tabell2[[#This Row],[EPD/Miljødeklarasjon - som krav, tildelingskriterium, kontraktsvilkår eller dokumentasjon]]=2,"Ja",Tabell2[[#This Row],[Bærekraftig trevirke/skogbruk - tømmerforordningen, FSC eller PEFC ]]=2,"Ja",Tabell2[[#This Row],[Krav til kvalitet / EN standarder/henvisning til Norsk møbelfakta]]=2,"Ja",Tabell2[[#This Row],[Robuste møbeltekstiler/ kvalitet på møbeltrekk]]=2,"Ja",Tabell2[[#This Row],[Design for lang levetid (Demontering, Reservedeler, produktinformasjon om montering og vedlikehold)]]=2,"Ja",Tabell2[[#This Row],[Merking av plast]]=2,"Ja",Tabell2[[#This Row],[Vask og rengjøring av møbler]]=2,"Ja",Tabell2[[#This Row],[Emballasjen skal være resirkulerbar/ gjenbrukbar (kravet om miljøvennelig emballasje)]]=2,"Ja",Tabell2[[#This Row],[Emballasje (retur- grønt punkt, gjenvinning) (kravet om gjenvinnbar emballasje)]]=2,"Ja",Tabell2[[#This Row],[Kjemikalietabellen (unngå skadelige kjemikaler)]]=2,"Ja",Tabell2[[#This Row],[Flammehemmere]]=2,"Ja",Tabell2[[#This Row],[PVC]]=2,"Ja",Tabell2[[#This Row],[Sosiale hensyn og menneske-rettigheter er inkludert]]=2,"Ja")} -> Ja
A9: 2021 | B9: 2021-300473 | C9: 44229 | D9: Åsnes kommune | E9: 964948232 | F9: Kontormøbler og inventar Familiens Hus, Åsnes kommune | G9: Innlandet | H9: Kommune | I9: 39130000 | J9: Ikke spesifisert | K9: Varer | L9: Åpen anbudskonkurranse | M9: 0 | N9: 700000 | O9: 1 | P9: https://www.mercell.com/nb-no/anbud/148781272/kontormoebler-og-inventar-familiens-hus-aasnes-kommune-anbud.aspx | Q9: nils.lindeberg@asnes.kommune.no | S9: 0 | T9: 0.5 | U9: 0.5 | V9: 0 | W9: 0 | X9: 0 | Y9: 0 | Z9: 1 | AA9: 0 | AB9: 0 | AC9: 0 | AD9: 0 | AE9: 0 | AF9: 0 | AG9: 1 | AH9: 0 | AI9: 0 | AJ9: 1 | AK9: 2 | AL9: 2 | AM9: 0 | AN9: 0 | AO9: 1 | AP9: 0 | AQ9: 0 | AR9: 0 | AS9: 0 | AT9: 0 | AU9: 0 | AV9: 5 | AW9: 0 | AX9: 0 | AY9: 0 | AZ9: 1 | BA9: 0 | BB9: 1 | BC9: 0 | BD9: 1 | BE9: 0 | BF9: 0 | BG9: 0 | BH9: 1 | BI9: 0 | BJ9: 1 | BK9: 1 | BL9: 0 | BM9: 0 | BN9: 1 | BO9: 0 | BP9: 0 | BQ9: 0 | BR9: 1 | BS9: 0 | BT9: 1 | BU9: 0 | BV9: 0 | BW9: https://dirfo.sharepoint.com/:w:/r/sites/Grnneanskaffelser/Shared%20Documents/M%C3%B8bler/Statistikk%20og%20m%C3%A5ling/M%C3%A5ling%202022%20-%20Hedda/Konkurransegrunnlag/Konkurransegrunnlag%202021/%C3%85snes%20kommune%20-%2002.02.2021/Del%202%20Avtale%20varekj%C3%B8p%20Familiens%20Hus%2020210121.docx?d=waaeee629382d4e6fbd981958a2e0e215&csf=1&web=1&e=fcA2TY | CB9: =IF((AK9+AL9+AO9+AP9+AS9+AT9+AU9+AW9)>=1,1,0) -> 1 | CC9: =IF((AK9+AL9+AO9+AP9+AU9+AW9+AX9+AY9)>=1,1,0) -> 1 | CD9: =IF((AM9+AN9+AQ9+AR9+AS9+AT9)>=1,1,0) -> 0 | CE9: =+CE8+1 -> 10 | CF9: {=+_xlfn.IFS(Tabell2[[#This Row],[EPD/Miljødeklarasjon - som krav, tildelingskriterium, kontraktsvilkår eller dokumentasjon]]=2,"Ja",Tabell2[[#This Row],[Bærekraftig trevirke/skogbruk - tømmerforordningen, FSC eller PEFC ]]=2,"Ja",Tabell2[[#This Row],[Krav til kvalitet / EN standarder/henvisning til Norsk møbelfakta]]=2,"Ja",Tabell2[[#This Row],[Robuste møbeltekstiler/ kvalitet på møbeltrekk]]=2,"Ja",Tabell2[[#This Row],[Design for lang levetid (Demontering, Reservedeler, produktinformasjon om montering og vedlikehold)]]=2,"Ja",Tabell2[[#This Row],[Merking av plast]]=2,"Ja",Tabell2[[#This Row],[Vask og rengjøring av møbler]]=2,"Ja",Tabell2[[#This Row],[Emballasjen skal være resirkulerbar/ gjenbrukbar (kravet om miljøvennelig emballasje)]]=2,"Ja",Tabell2[[#This Row],[Emballasje (retur- grønt punkt, gjenvinning) (kravet om gjenvinnbar emballasje)]]=2,"Ja",Tabell2[[#This Row],[Kjemikalietabellen (unngå skadelige kjemikaler)]]=2,"Ja",Tabell2[[#This Row],[Flammehemmere]]=2,"Ja",Tabell2[[#This Row],[PVC]]=2,"Ja",Tabell2[[#This Row],[Sosiale hensyn og menneske-rettigheter er inkludert]]=2,"Ja")} -> Ja
A10: 2021 | B10: 2021-367695 | C10: 44337 | D10: Anno Museum AS | E10: 994933272 | F10: ANNO-21-01 Møbler | G10: Innlandet | H10: Statlig virksomhet | I10: 39100000 | J10: Ikke spesifisert | K10: Varer | L10: Åpen anbudskonkurranse | M10: 0 | N10: Ikke spesifisert | O10: 1 | P10: https://www.mercell.com/nb-no/anbud/156444182/anno-21-01-moebler--anbud.aspx | Q10: svend.hoff.johnstad@abakus.as | S10: 0 | T10: 0.5 | U10: 0.5 | V10: 0 | W10: 0 | X10: 0 | Y10: 0 | Z10: 0 | AA10: 0 | AB10: 0 | AC10: 0 | AD10: 0 | AE10: 0 | AF10: 0 | AG10: 0 | AH10: 0 | AI10: 0 | AJ10: 1 | AK10: 0 | AL10: 0 | AM10: 0 | AN10: 0 | AO10: 0 | AP10: 0 | AQ10: 0 | AR10: 0 | AS10: 0 | AT10: 0 | AU10: 0 | AV10: 5 | AW10: 1 | AX10: 0 | AY10: 0 | AZ10: 0 | BA10: 0 | BB10: 1 | BC10: 0 | BD10: 0 | BE10: 0 | BF10: 0 | BG10: 0 | BH10: 0 | BI10: 0 | BJ10: 0 | BK10: 0 | BL10: 0 | BM10: 0 | BN10: 0 | BO10: 0 | BP10: 0 | BQ10: 0 | BR10: 1 | BS10: 0 | BT10: 0 | BU10: 0 | BV10: 1 | BW10: https://dirfo.sharepoint.com/:b:/r/sites/Grnneanskaffelser/Shared%20Documents/M%C3%B8bler/Statistikk%20og%20m%C3%A5ling/M%C3%A5ling%202022%20-%20Hedda/Konkurransegrunnlag/Konkurransegrunnlag%202021/Anno%20Museum%20AS%20-%2021.05.2021/ANNO-21-01%20Konkurransegrunnlag.pdf?csf=1&web=1&e=sZLsCn | CB10: =IF((AK10+AL10+AO10+AP10+AS10+AT10+AU10+AW10)>=1,1,0) -> 1 | CC10: =IF((AK10+AL10+AO10+AP10+AU10+AW10+AX10+AY10)>=1,1,0) -> 1 | CD10: =IF((AM10+AN10+AQ10+AR10+AS10+AT10)>=1,1,0) -> 0 | CE10: =+CE9+1 -> 11 | CF10: {=+_xlfn.IFS(Tabell2[[#This Row],[EPD/Miljødeklarasjon - som krav, tildelingskriterium, kontraktsvilkår eller dokumentasjon]]=2,"Ja",Tabell2[[#This Row],[Bærekraftig trevirke/skogbruk - tømmerforordningen, FSC eller PEFC ]]=2,"Ja",Tabell2[[#This Row],[Krav til kvalitet / EN standarder/henvisning til Norsk møbelfakta]]=2,"Ja",Tabell2[[#This Row],[Robuste møbeltekstiler/ kvalitet på møbeltrekk]]=2,"Ja",Tabell2[[#This Row],[Design for lang levetid (Demontering, Reservedeler, produktinformasjon om montering og vedlikehold)]]=2,"Ja",Tabell2[[#This Row],[Merking av plast]]=2,"Ja",Tabell2[[#This Row],[Vask og rengjøring av møbler]]=2,"Ja",Tabell2[[#This Row],[Emballasjen skal være resirkulerbar/ gjenbrukbar (kravet om miljøvennelig emballasje)]]=2,"Ja",Tabell2[[#This Row],[Emballasje (retur- grønt punkt, gjenvinning) (kravet om gjenvinnbar emballasje)]]=2,"Ja",Tabell2[[#This Row],[Kjemikalietabellen (unngå skadelige kjemikaler)]]=2,"Ja",Tabell2[[#This Row],[Flammehemmere]]=2,"Ja",Tabell2[[#This Row],[PVC]]=2,"Ja",Tabell2[[#This Row],[Sosiale hensyn og menneske-rettigheter er inkludert]]=2,"Ja")} -> #N/A
A11: 2021 | B11: 2021-387603 | C11: 44520 | D11: Barne-, ungdoms- og familiedirektoratet | E11: 986128433 | F11: Rammeavtale for kjøp av kontormøbler | G11: Landsdekkende | H11: Statlig virksomhet | I11: 39130000 | J11: 0 | K11: Varer | L11: Åpen anbudskonkurranse | M11: 0 | N11: 15000000 | O11: 1 | P11: https://eu.eu-supply.com/app/rfq/publicpurchase_docs.asp?PID=314541&LID=369480&AllowPrint=1 | Q11: marievine.elserud@bufdir.no | S11: 0 | T11: 0.6 | U11: 0.4 | V11: 0 | W11: 0 | X11: 0 | Y11: 0 | Z11: 0 | AA11: 1 | AB11: 0 | AC11: 1 | AD11: 0 | AE11: 1 | AF11: 0 | AG11: 0 | AH11: 0 | AI11: 0 | AJ11: 1 | AK11: 2 | AL11: 1 | AM11: 0 | AN11: 0 | AO11: 0 | AP11: 0 | AQ11: 0 | AR11: 0 | AS11: 1 | AT11: 1 | AU11: 0 | AV11: - | AW11: 0 | AX11: 0 | AY11: 0 | AZ11: 0 | BA11: 0 | BB11: 0 | BC11: 0 | BD11: 1 | BE11: 0 | BF11: 1 | BG11: 0 | BH11: 0 | BI11: 0 | BJ11: 2 | BK11: 0 | BL11: 0 | BM11: 0 | BN11: 1 | BO11: 0 | BP11: 0 | BQ11: 0 | BR11: 2 | BS11: 0 | BT11: 1 | BU11: 0 | BV11: 0 | BW11: https://dirfo.sharepoint.com/:w:/r/sites/Grnneanskaffelser/Shared%20Documents/M%C3%B8bler/Statistikk%20og%20m%C3%A5ling/M%C3%A5ling%202022%20-%20Hedda/Konkurransegrunnlag/Konkurransegrunnlag%202021/Barne-,%20ungdoms-%20og%20familiedirektoratet%20-%2020.11.2021/vedlegg%206%20-%20kontraktsvilkar_for_ivaretakelse_av_grunnleggende_menneskerettigheter_i_leverandorkjeden_med_logo_2.docx?d=w8a9328e6deb44623b0c8950df1d94643&csf=1&web=1&e=HUsPbn | CB11: =IF((AK11+AL11+AO11+AP11+AS11+AT11+AU11+AW11)>=1,1,0) -> 1 | CC11: =IF((AK11+AL11+AO11+AP11+AU11+AW11+AX11+AY11)>=1,1,0) -> 1 | CD11: =IF((AM11+AN11+AQ11+AR11+AS11+AT11)>=1,1,0) -> 1 | CE11: =+CE10+1 -> 12 | CF11: {=+_xlfn.IFS(Tabell2[[#This Row],[EPD/Miljødeklarasjon - som krav, tildelingskriterium, kontraktsvilkår eller dokumentasjon]]=2,"Ja",Tabell2[[#This Row],[Bærekraftig trevirke/skogbruk - tømmerforordningen, FSC eller PEFC ]]=2,"Ja",Tabell2[[#This Row],[Krav til kvalitet / EN standarder/henvisning til Norsk møbelfakta]]=2,"Ja",Tabell2[[#This Row],[Robuste møbeltekstiler/ kvalitet på møbeltrekk]]=2,"Ja",Tabell2[[#This Row],[Design for lang levetid (Demontering, Reservedeler, produktinformasjon om montering og vedlikehold)]]=2,"Ja",Tabell2[[#This Row],[Merking av plast]]=2,"Ja",Tabell2[[#This Row],[Vask og rengjøring av møbler]]=2,"Ja",Tabell2[[#This Row],[Emballasjen skal være resirkulerbar/ gjenbrukbar (kravet om miljøvennelig emballasje)]]=2,"Ja",Tabell2[[#This Row],[Emballasje (retur- grønt punkt, gjenvinning) (kravet om gjenvinnbar emballasje)]]=2,"Ja",Tabell2[[#This Row],[Kjemikalietabellen (unngå skadelige kjemikaler)]]=2,"Ja",Tabell2[[#This Row],[Flammehemmere]]=2,"Ja",Tabell2[[#This Row],[PVC]]=2,"Ja",Tabell2[[#This Row],[Sosiale hensyn og menneske-rettigheter er inkludert]]=2,"Ja")} -> Ja
A12: 2021 | B12: 2021-386887 | C12: 44442 | D12: Bergen kommune | E12: 964338531 | F12: FOR 049-2021 Arkivreoler til Bergen byarkiv (Ny utlysning) | G12: Vestland | H12: Kommune | I12: 39131100 | J12: Ikke spesifisert | K12: Varer | L12: Ikke spesifisert | M12: 0 | N12: Ikke spesifisert | O12: 1 | P12: https://www.mercell.com/nb-no/anbud/162842408/for-049-2021-arkivreoler-til-bergen-byarkiv-ny-utlysning-anbud.aspx | Q12: adnan.birdzo@bergen.kommune.no | S12: 0 | T12: 0.4 | U12: 0.6 | V12: 0 | W12: 0 | X12: 0 | Y12: 0 | Z12: 0 | AA12: 0 | AB12: 0 | AC12: 0 | AD12: 0 | AE12: 0 | AF12: 0 | AG12: 0 | AH12: 0 | AI12: 0 | AJ12: 0 | AK12: 0 | AL12: 0 | AM12: 0 | AN12: 0 | AO12: 0 | AP12: 0 | AQ12: 0 | AR12: 0 | AS12: 0 | AT12: 0 | AU12: 0 | AV12: 2 | AW12: 0 | AX12: 0 | AY12: 0 | AZ12: 1 | BA12: 0 | BB12: 1 | BC12: 0 | BD12: 0 | BE12: 0 | BF12: 0 | BG12: 0 | BH12: 0 | BI12: 0 | BJ12: 0 | BK12: 0 | BL12: 0 | BM12: 0 | BN12: 0 | BO12: 0 | BP12: 0 | BQ12: 0 | BR12: 0 | BS12: 0 | BT12: 0 | BU12: 0 | BV12: 0 | BW12: - | CB12: =IF((AK12+AL12+AO12+AP12+AS12+AT12+AU12+AW12)>=1,1,0) -> 0 | CC12: =IF((AK12+AL12+AO12+AP12+AU12+AW12+AX12+AY12)>=1,1,0) -> 0 | CD12: =IF((AM12+AN12+AQ12+AR12+AS12+AT12)>=1,1,0) -> 0 | CE12: =+CE11+1 -> 13 | CF12: {=+_xlfn.IFS(Tabell2[[#This Row],[EPD/Miljødeklarasjon - som krav, tildelingskriterium, kontraktsvilkår eller dokumentasjon]]=2,"Ja",Tabell2[[#This Row],[Bærekraftig trevirke/skogbruk - tømmerforordningen, FSC eller PEFC ]]=2,"Ja",Tabell2[[#This Row],[Krav til kvalitet / EN standarder/henvisning til Norsk møbelfakta]]=2,"Ja",Tabell2[[#This Row],[Robuste møbeltekstiler/ kvalitet på møbeltrekk]]=2,"Ja",Tabell2[[#This Row],[Design for lang levetid (Demontering, Reservedeler, produktinformasjon om montering og vedlikehold)]]=2,"Ja",Tabell2[[#This Row],[Merking av plast]]=2,"Ja",Tabell2[[#This Row],[Vask og rengjøring av møbler]]=2,"Ja",Tabell2[[#This Row],[Emballasjen skal være resirkulerbar/ gjenbrukbar (kravet om miljøvennelig emballasje)]]=2,"Ja",Tabell2[[#This Row],[Emballasje (retur- grønt punkt, gjenvinning) (kravet om gjenvinnbar emballasje)]]=2,"Ja",Tabell2[[#This Row],[Kjemikalietabellen (unngå skadelige kjemikaler)]]=2,"Ja",Tabell2[[#This Row],[Flammehemmere]]=2,"Ja",Tabell2[[#This Row],[PVC]]=2,"Ja",Tabell2[[#This Row],[Sosiale hensyn og menneske-rettigheter er inkludert]]=2,"Ja")} -> #N/A
A13: 2021 | B13: 2021-353195 | C13: 44334 | D13: Bergen kommune - BKML stab | E13: 964338531 | F13: FOR 015-2021 Arkivreoler til Byarkivet - KANSELLERT | G13: Vestland | H13: Kommune | I13: 39131100 | J13: Ikke spesifisert | K13: Varer | L13: Kansellert | M13: 0 | N13: Ikke spesifisert | O13: 1 | P13: https://www.mercell.com/nb-no/anbud/154300504/for-015-2021-arkivreoler-til-byarkivet-anbud.aspx | Q13: adnan.birdzo@bergen.kommune.no | S13: 0 | T13: 0.4 | U13: 0.6 | V13: 0 | W13: 0 | X13: 0 | Y13: 0 | Z13: 0 | AA13: 0 | AB13: 0 | AC13: 0 | AD13: 0 | AE13: 0 | AF13: 0 | AG13: 0 | AH13: 0 | AI13: 0 | AJ13: 0 | AK13: 0 | AL13: 0 | AM13: 0 | AN13: 0 | AO13: 0 | AP13: 0 | AQ13: 0 | AR13: 0 | AS13: 0 | AT13: 0 | AU13: 0 | AV13: 2 | AW13: 0 | AX13: 0 | AY13: 0 | AZ13: 1 | BA13: 0 | BB13: 1 | BC13: 0 | BD13: 0 | BE13: 0 | BF13: 0 | BG13: 0 | BH13: 0 | BI13: 0 | BJ13: 0 | BK13: 0 | BL13: 0 | BM13: 0 | BN13: 0 | BO13: 0 | BP13: 0 | BQ13: 0 | BR13: 0 | BS13: 0 | BT13: 0 | BU13: 0 | BV13: 0 | BW13: - | CB13: =IF((AK13+AL13+AO13+AP13+AS13+AT13+AU13+AW13)>=1,1,0) -> 0 | CC13: =IF((AK13+AL13+AO13+AP13+AU13+AW13+AX13+AY13)>=1,1,0) -> 0 | CD13: =IF((AM13+AN13+AQ13+AR13+AS13+AT13)>=1,1,0) -> 0 | CE13: =+CE12+1 -> 14 | CF13: {=+_xlfn.IFS(Tabell2[[#This Row],[EPD/Miljødeklarasjon - som krav, tildelingskriterium, kontraktsvilkår eller dokumentasjon]]=2,"Ja",Tabell2[[#This Row],[Bærekraftig trevirke/skogbruk - tømmerforordningen, FSC eller PEFC ]]=2,"Ja",Tabell2[[#This Row],[Krav til kvalitet / EN standarder/henvisning til Norsk møbelfakta]]=2,"Ja",Tabell2[[#This Row],[Robuste møbeltekstiler/ kvalitet på møbeltrekk]]=2,"Ja",Tabell2[[#This Row],[Design for lang levetid (Demontering, Reservedeler, produktinformasjon om montering og vedlikehold)]]=2,"Ja",Tabell2[[#This Row],[Merking av plast]]=2,"Ja",Tabell2[[#This Row],[Vask og rengjøring av møbler]]=2,"Ja",Tabell2[[#This Row],[Emballasjen skal være resirkulerbar/ gjenbrukbar (kravet om miljøvennelig emballasje)]]=2,"Ja",Tabell2[[#This Row],[Emballasje (retur- grønt punkt, gjenvinning) (kravet om gjenvinnbar emballasje)]]=2,"Ja",Tabell2[[#This Row],[Kjemikalietabellen (unngå skadelige kjemikaler)]]=2,"Ja",Tabell2[[#This Row],[Flammehemmere]]=2,"Ja",Tabell2[[#This Row],[PVC]]=2,"Ja",Tabell2[[#This Row],[Sosiale hensyn og menneske-rettigheter er inkludert]]=2,"Ja")} -> #N/A
A14: 2021 | B14: 2021-370159 | C14: 44470 | D14: Bergen kommune - Innkjøp konsern | E14: 964338531 | F14: FOR 060-2021 Arkivreoler til Bergen byarkiv (3. utlysning) | G14: Vestland | H14: Kommune | I14: 39131100 | J14: Ikke spesifisert | K14: Varer | L14: Ikke spesifisert | M14: 0 | N14: Ikke spesifisert | O14: 1 | P14: https://www.mercell.com/nb-no/anbud/164477699/for-060-2021-arkivreoler-til-bergen-byarkiv-3-utlysning-anbud.aspx | Q14: adnan.birdzo@bergen.kommune.no | S14: 0 | T14: 0.4 | U14: 0.6 | V14: 0 | W14: 0 | X14: 0 | Y14: 0 | Z14: 0 | AA14: 0 | AB14: 0 | AC14: 0 | AD14: 0 | AE14: 0 | AF14: 0 | AG14: 0 | AH14: 0 | AI14: 0 | AJ14: 0 | AK14: 0 | AL14: 0 | AM14: 0 | AN14: 0 | AO14: 0 | AP14: 0 | AQ14: 0 | AR14: 0 | AS14: 0 | AT14: 0 | AU14: 0 | AV14: 2 | AW14: 0 | AX14: 0 | AY14: 0 | AZ14: 1 | BA14: 0 | BB14: 1 | BC14: 0 | BD14: 0 | BE14: 0 | BF14: 0 | BG14: 0 | BH14: 0 | BI14: 0 | BJ14: 0 | BK14: 0 | BL14: 0 | BM14: 0 | BN14: 0 | BO14: 0 | BP14: 0 | BQ14: 0 | BR14: 0 | BS14: 0 | BT14: 0 | BU14: 0 | BV14: 0 | BW14: - | CB14: =IF((AK14+AL14+AO14+AP14+AS14+AT14+AU14+AW14)>=1,1,0) -> 0 | CC14: =IF((AK14+AL14+AO14+AP14+AU14+AW14+AX14+AY14)>=1,1,0) -> 0 | CD14: =IF((AM14+AN14+AQ14+AR14+AS14+AT14)>=1,1,0) -> 0 | CE14: =+CE13+1 -> 15 | CF14: {=+_xlfn.IFS(Tabell2[[#This Row],[EPD/Miljødeklarasjon - som krav, tildelingskriterium, kontraktsvilkår eller dokumentasjon]]=2,"Ja",Tabell2[[#This Row],[Bærekraftig trevirke/skogbruk - tømmerforordningen, FSC eller PEFC ]]=2,"Ja",Tabell2[[#This Row],[Krav til kvalitet / EN standarder/henvisning til Norsk møbelfakta]]=2,"Ja",Tabell2[[#This Row],[Robuste møbeltekstiler/ kvalitet på møbeltrekk]]=2,"Ja",Tabell2[[#This Row],[Design for lang levetid (Demontering, Reservedeler, produktinformasjon om montering og vedlikehold)]]=2,"Ja",Tabell2[[#This Row],[Merking av plast]]=2,"Ja",Tabell2[[#This Row],[Vask og rengjøring av møbler]]=2,"Ja",Tabell2[[#This Row],[Emballasjen skal være resirkulerbar/ gjenbrukbar (kravet om miljøvennelig emballasje)]]=2,"Ja",Tabell2[[#This Row],[Emballasje (retur- grønt punkt, gjenvinning) (kravet om gjenvinnbar emballasje)]]=2,"Ja",Tabell2[[#This Row],[Kjemikalietabellen (unngå skadelige kjemikaler)]]=2,"Ja",Tabell2[[#This Row],[Flammehemmere]]=2,"Ja",Tabell2[[#This Row],[PVC]]=2,"Ja",Tabell2[[#This Row],[Sosiale hensyn og menneske-rettigheter er inkludert]]=2,"Ja")} -> #N/A
A15: 2021 | B15: 2021-331907 | C15: 44224 | D15: Forsvarets forskningsinstitutt | E15: 970963340 | F15: Rammeavtale møbler og inventar | G15: Viken | H15: Statlig virksomhet | I15: 39130000 | J15: 0 | K15: Varer | L15: Åpen anbudskonkurranse | M15: 0 | N15: 7000000 | O15: 1 | P15: https://www.mercell.com/nb-no/anbud/148112511/rammeavtale-moebler-og-inventar-anbud.aspx | Q15: havard.lund@ffi.no | S15: 0 | T15: 0.6 | U15: 0.4 | V15: 0 | W15: 0 | X15: 0 | Y15: 0 | Z15: 0 | AA15: 0 | AB15: 0 | AC15: 0 | AD15: 0 | AE15: 0 | AF15: 0 | AG15: 0 | AH15: 0 | AI15: 0 | AJ15: 0 | AK15: 0 | AL15: 0 | AM15: 0 | AN15: 0 | AO15: 0 | AP15: 0 | AQ15: 0 | AR15: 0 | AS15: 0 | AT15: 0 | AU15: 0 | AV15: - | AW15: 0 | AX15: 0 | AY15: 0 | AZ15: 0 | BA15: 0 | BB15: 0 | BC15: 0 | BD15: 0 | BE15: 0 | BF15: 0 | BG15: 0 | BH15: 0 | BI15: 0 | BJ15: 0 | BK15: 0 | BL15: 0 | BM15: 0 | BN15: 0 | BO15: 0 | BP15: 0 | BQ15: 0 | BR15: 1 | BS15: 0 | BT15: 0 | BU15: 0 | BV15: 0 | BW15: https://dirfo.sharepoint.com/:b:/r/sites/Grnneanskaffelser/Shared%20Documents/M%C3%B8bler/Statistikk%20og%20m%C3%A5ling/M%C3%A5ling%202022%20-%20Hedda/Konkurransegrunnlag/Konkurransegrunnlag%202021/Forsvarets%20Forskningsinstitutt%20-%2028.01.2021/Etisk%20egenerkl%C3%A6ring%20for%20leverand%C3%B8rer%20til%20Forsvarsdepartementet.pdf?csf=1&web=1&e=60TRpW | CB15: =IF((AK15+AL15+AO15+AP15+AS15+AT15+AU15+AW15)>=1,1,0) -> 0 | CC15: =IF((AK15+AL15+AO15+AP15+AU15+AW15+AX15+AY15)>=1,1,0) -> 0 | CD15: =IF((AM15+AN15+AQ15+AR15+AS15+AT15)>=1,1,0) -> 0 | CE15: =+CE14+1 -> 16 | CF15: {=+_xlfn.IFS(Tabell2[[#This Row],[EPD/Miljødeklarasjon - som krav, tildelingskriterium, kontraktsvilkår eller dokumentasjon]]=2,"Ja",Tabell2[[#This Row],[Bærekraftig trevirke/skogbruk - tømmerforordningen, FSC eller PEFC ]]=2,"Ja",Tabell2[[#This Row],[Krav til kvalitet / EN standarder/henvisning til Norsk møbelfakta]]=2,"Ja",Tabell2[[#This Row],[Robuste møbeltekstiler/ kvalitet på møbeltrekk]]=2,"Ja",Tabell2[[#This Row],[Design for lang levetid (Demontering, Reservedeler, produktinformasjon om montering og vedlikehold)]]=2,"Ja",Tabell2[[#This Row],[Merking av plast]]=2,"Ja",Tabell2[[#This Row],[Vask og rengjøring av møbler]]=2,"Ja",Tabell2[[#This Row],[Emballasjen skal være resirkulerbar/ gjenbrukbar (kravet om miljøvennelig emballasje)]]=2,"Ja",Tabell2[[#This Row],[Emballasje (retur- grønt punkt, gjenvinning) (kravet om gjenvinnbar emballasje)]]=2,"Ja",Tabell2[[#This Row],[Kjemikalietabellen (unngå skadelige kjemikaler)]]=2,"Ja",Tabell2[[#This Row],[Flammehemmere]]=2,"Ja",Tabell2[[#This Row],[PVC]]=2,"Ja",Tabell2[[#This Row],[Sosiale hensyn og menneske-rettigheter er inkludert]]=2,"Ja")} -> #N/A
A16: 2021 | B16: 2021-349787 | C16: 44308 | D16: Høgskulen i Volda | E16: 974809672 | F16: Rammeavtale på kontormøbler for Høgskulen i Volda | G16: Møre og Romsdal | H16: Universitet/Høyskole | I16: 39130000 | J16: 0 | K16: Varer | L16: Åpen anbudskonkurranse | M16: 0 | N16: 250000 | O16: 1 | P16: https://dirfo.sharepoint.com/:f:/r/sites/Grnneanskaffelser/Shared%20Documents/M%C3%B8bler/Statistikk%20og%20m%C3%A5ling/M%C3%A5ling%202022%20-%20Hedda/Konkurransegrunnlag/Konkurransegrunnlag%202021/H%C3%B8gskulen%20i%20Volda%20-%2022.04.2021?csf=1&web=1&e=9iqJr7 | Q16: karen.otterstad@hivolda.no | S16: 0.1 | T16: 0.5 | U16: 0.4 | V16: 1 | W16: 1 | X16: 0 | Y16: 1 | Z16: 0 | AA16: 1 | AB16: 0 | AC16: 0 | AD16: 0 | AE16: 1 | AF16: 0 | AG16: 0 | AH16: 0 | AI16: 0 | AJ16: 0 | AK16: 1 | AL16: 1 | AM16: 0 | AN16: 0 | AO16: 1 | AP16: 0 | AQ16: 0 | AR16: 0 | AS16: 0 | AT16: 0 | AU16: 0 | AV16: 5 | AW16: 1 | AX16: 0 | AY16: 0 | AZ16: 0 | BA16: 0 | BB16: 1 | BC16: 0 | BD16: 0 | BE16: 0 | BF16: 0 | BG16: 0 | BH16: 0 | BI16: 0 | BJ16: 0 | BK16: 0 | BL16: 0 | BM16: 0 | BN16: 0 | BO16: 0 | BP16: 0 | BQ16: 0 | BR16: 2 | BS16: 0 | BT16: 0 | BU16: 0 | BV16: 0 | BW16: https://dirfo.sharepoint.com/:b:/r/sites/Grnneanskaffelser/Shared%20Documents/M%C3%B8bler/Statistikk%20og%20m%C3%A5ling/M%C3%A5ling%202022%20-%20Hedda/Konkurransegrunnlag/Konkurransegrunnlag%202021/H%C3%B8gskulen%20i%20Volda%20-%2022.04.2021/Bilag%205%20-%20Etiske%20krav%20-%20Difi%20mal.pdf?csf=1&web=1&e=pCwB5E | CB16: =IF((AK16+AL16+AO16+AP16+AS16+AT16+AU16+AW16)>=1,1,0) -> 1 | CC16: =IF((AK16+AL16+AO16+AP16+AU16+AW16+AX16+AY16)>=1,1,0) -> 1 | CD16: =IF((AM16+AN16+AQ16+AR16+AS16+AT16)>=1,1,0) -> 0 | CE16: =+CE15+1 -> 17 | CF16: {=+_xlfn.IFS(Tabell2[[#This Row],[EPD/Miljødeklarasjon - som krav, tildelingskriterium, kontraktsvilkår eller dokumentasjon]]=2,"Ja",Tabell2[[#This Row],[Bærekraftig trevirke/skogbruk - tømmerforordningen, FSC eller PEFC ]]=2,"Ja",Tabell2[[#This Row],[Krav til kvalitet / EN standarder/henvisning til Norsk møbelfakta]]=2,"Ja",Tabell2[[#This Row],[Robuste møbeltekstiler/ kvalitet på møbeltrekk]]=2,"Ja",Tabell2[[#This Row],[Design for lang levetid (Demontering, Reservedeler, produktinformasjon om montering og vedlikehold)]]=2,"Ja",Tabell2[[#This Row],[Merking av plast]]=2,"Ja",Tabell2[[#This Row],[Vask og rengjøring av møbler]]=2,"Ja",Tabell2[[#This Row],[Emballasjen skal være resirkulerbar/ gjenbrukbar (kravet om miljøvennelig emballasje)]]=2,"Ja",Tabell2[[#This Row],[Emballasje (retur- grønt punkt, gjenvinning) (kravet om gjenvinnbar emballasje)]]=2,"Ja",Tabell2[[#This Row],[Kjemikalietabellen (unngå skadelige kjemikaler)]]=2,"Ja",Tabell2[[#This Row],[Flammehemmere]]=2,"Ja",Tabell2[[#This Row],[PVC]]=2,"Ja",Tabell2[[#This Row],[Sosiale hensyn og menneske-rettigheter er inkludert]]=2,"Ja")} -> Ja
A17: 2021 | B17: 2021-377352 | C17: 44362 | D17: Kinn kommune | E17: 820956532 | F17: Møbler til ny fløy Kulatoppen Omsorgssenter | G17: Vestland | H17: Kommune | I17: 39100000 | J17: 0 | K17: Varer | L17: Åpen anbudskonkurranse | M17: 0 | N17: 1300000 | O17: 1 | P17: https://eu.eu-supply.com/app/rfq/publicpurchase_docs.asp?PID=304616&LID=357449&AllowPrint=1 | Q17: tore.dammerud@kinn.kommune.no | S17: 0 | T17: 0.5 | U17: 0.5 | V17: 0 | W17: 0 | X17: 0 | Y17: 0 | Z17: 0 | AA17: 1 | AB17: 0 | AC17: 0 | AD17: 0 | AE17: 0 | AF17: 0 | AG17: 0 | AH17: 0 | AI17: 0 | AJ17: 0 | AK17: 2 | AL17: 1 | AM17: 0 | AN17: 0 | AO17: 1 | AP17: 0 | AQ17: 0 | AR17: 0 | AS17: 0 | AT17: 0 | AU17: 0 | AV17: 5 | AW17: 1 | AX17: 0 | AY17: 0 | AZ17: 0 | BA17: 0 | BB17: 1 | BC17: 0 | BD17: 0 | BE17: 0 | BF17: 0 | BG17: 0 | BH17: 0 | BI17: 0 | BJ17: 0 | BK17: 0 | BL17: 0 | BM17: 0 | BN17: 0 | BO17: 0 | BP17: 0 | BQ17: 0 | BR17: 0 | BS17: 0 | BT17: 0 | BU17: 0 | BV17: 0 | BW17: https://dirfo.sharepoint.com/:w:/r/sites/Grnneanskaffelser/Shared%20Documents/M%C3%B8bler/Statistikk%20og%20m%C3%A5ling/M%C3%A5ling%202022%20-%20Hedda/Konkurransegrunnlag/Konkurransegrunnlag%202021/Kinn%20kommune%20-%2015.06.2021/Vedlegg%203%20Utkast%20til%20Avtale.docx?d=w63729cbcba6645d292f21b32ff6789d6&csf=1&web=1&e=UlOcS3 | CB17: =IF((AK17+AL17+AO17+AP17+AS17+AT17+AU17+AW17)>=1,1,0) -> 1 | CC17: =IF((AK17+AL17+AO17+AP17+AU17+AW17+AX17+AY17)>=1,1,0) -> 1 | CD17: =IF((AM17+AN17+AQ17+AR17+AS17+AT17)>=1,1,0) -> 0 | CE17: =+CE16+1 -> 18 | CF17: {=+_xlfn.IFS(Tabell2[[#This Row],[EPD/Miljødeklarasjon - som krav, tildelingskriterium, kontraktsvilkår eller dokumentasjon]]=2,"Ja",Tabell2[[#This Row],[Bærekraftig trevirke/skogbruk - tømmerforordningen, FSC eller PEFC ]]=2,"Ja",Tabell2[[#This Row],[Krav til kvalitet / EN standarder/henvisning til Norsk møbelfakta]]=2,"Ja",Tabell2[[#This Row],[Robuste møbeltekstiler/ kvalitet på møbeltrekk]]=2,"Ja",Tabell2[[#This Row],[Design for lang levetid (Demontering, Reservedeler, produktinformasjon om montering og vedlikehold)]]=2,"Ja",Tabell2[[#This Row],[Merking av plast]]=2,"Ja",Tabell2[[#This Row],[Vask og rengjøring av møbler]]=2,"Ja",Tabell2[[#This Row],[Emballasjen skal være resirkulerbar/ gjenbrukbar (kravet om miljøvennelig emballasje)]]=2,"Ja",Tabell2[[#This Row],[Emballasje (retur- grønt punkt, gjenvinning) (kravet om gjenvinnbar emballasje)]]=2,"Ja",Tabell2[[#This Row],[Kjemikalietabellen (unngå skadelige kjemikaler)]]=2,"Ja",Tabell2[[#This Row],[Flammehemmere]]=2,"Ja",Tabell2[[#This Row],[PVC]]=2,"Ja",Tabell2[[#This Row],[Sosiale hensyn og menneske-rettigheter er inkludert]]=2,"Ja")} -> Ja
A18: 2021 | B18: 2021-339736 | C18: 44226 | D18: Kriminalomsorgsdirektoratet | E18: 911830868 | F18: Rammeavtale på Kontormøbler til Kriminalomsorgen | G18: Viken | H18: Statlig virksomhet | I18: 39130000 | J18: 0 | K18: Varer | L18: Åpen anbudskonkurranse | M18: 0 | N18: 16000000 | O18: 1 | P18: https://eu.eu-supply.com/app/rfq/publicpurchase_docs.asp?PID=292062&LID=342862&AllowPrint=1 | Q18: trond.hansen@kriminalomsorg.no | S18: 0 | T18: 0.4 | U18: 0.6 | V18: 0 | W18: 0 | X18: 0 | Y18: 0 | Z18: 0 | AA18: 1 | AB18: 0 | AC18: 0 | AD18: 0 | AE18: 0 | AF18: 0 | AG18: 0 | AH18: 0 | AI18: 0 | AJ18: 1 | AK18: 1 | AL18: 1 | AM18: 0 | AN18: 0 | AO18: 0 | AP18: 0 | AQ18: 0 | AR18: 0 | AS18: 0 | AT18: 0 | AU18: 0 | AV18: 5 | AW18: 0 | AX18: 0 | AY18: 0 | AZ18: 0 | BA18: 1 | BB18: 2 | BC18: 0 | BD18: 1 | BE18: 0 | BF18: 0 | BG18: 0 | BH18: 0 | BI18: 0 | BJ18: 1 | BK18: 0 | BL18: 0 | BM18: 0 | BN18: 1 | BO18: 0 | BP18: 0 | BQ18: 0 | BR18: 1 | BS18: 0 | BT18: 1 | BU18: 0 | BV18: 0 | BW18: https://dirfo.sharepoint.com/:w:/r/sites/Grnneanskaffelser/Shared%20Documents/M%C3%B8bler/Statistikk%20og%20m%C3%A5ling/M%C3%A5ling%202022%20-%20Hedda/Konkurransegrunnlag/Konkurransegrunnlag%202021/Kriminalomsorgsdirektoratet%20-%2030.01.2021/Vedlegg%201-%20Rammeavtale%20kontorm%C3%B8bler.doc?d=w81b47d6528c545b292fbe9d7c818bd39&csf=1&web=1&e=lPV0yF | CB18: =IF((AK18+AL18+AO18+AP18+AS18+AT18+AU18+AW18)>=1,1,0) -> 1 | CC18: =IF((AK18+AL18+AO18+AP18+AU18+AW18+AX18+AY18)>=1,1,0) -> 1 | CD18: =IF((AM18+AN18+AQ18+AR18+AS18+AT18)>=1,1,0) -> 0 | CE18: =+CE17+1 -> 19 | CF18: {=+_xlfn.IFS(Tabell2[[#This Row],[EPD/Miljødeklarasjon - som krav, tildelingskriterium, kontraktsvilkår eller dokumentasjon]]=2,"Ja",Tabell2[[#This Row],[Bærekraftig trevirke/skogbruk - tømmerforordningen, FSC eller PEFC ]]=2,"Ja",Tabell2[[#This Row],[Krav til kvalitet / EN standarder/henvisning til Norsk møbelfakta]]=2,"Ja",Tabell2[[#This Row],[Robuste møbeltekstiler/ kvalitet på møbeltrekk]]=2,"Ja",Tabell2[[#This Row],[Design for lang levetid (Demontering, Reservedeler, produktinformasjon om montering og vedlikehold)]]=2,"Ja",Tabell2[[#This Row],[Merking av plast]]=2,"Ja",Tabell2[[#This Row],[Vask og rengjøring av møbler]]=2,"Ja",Tabell2[[#This Row],[Emballasjen skal være resirkulerbar/ gjenbrukbar (kravet om miljøvennelig emballasje)]]=2,"Ja",Tabell2[[#This Row],[Emballasje (retur- grønt punkt, gjenvinning) (kravet om gjenvinnbar emballasje)]]=2,"Ja",Tabell2[[#This Row],[Kjemikalietabellen (unngå skadelige kjemikaler)]]=2,"Ja",Tabell2[[#This Row],[Flammehemmere]]=2,"Ja",Tabell2[[#This Row],[PVC]]=2,"Ja",Tabell2[[#This Row],[Sosiale hensyn og menneske-rettigheter er inkludert]]=2,"Ja")} -> Ja
A19: 2021 | B19: 2021-339118 | C19: 44514 | D19: Kristiansand Kommune | E19: 820852982 | F19: Rammeavtale: Kjøp av møbler og inventar til kontor og sosiale soner | G19: Agder | H19: Kommune | I19: 39100000 | J19: 0 | K19: Varer | L19: Åpen anbudskonkurranse | M19: 0 | N19: 40000000 | O19: 1 | P19: https://www.mercell.com/nb-no/anbud/167159464/rammeavtale-kjoep-av-moebler-og-inventar-til-kontor-og-sosiale-soner-anbud.aspx | Q19: frida.johannessen@kristiansand.kommune.no | S19: 0 | T19: 0.7 | U19: 0.3 | V19: 0 | W19: 0 | X19: 0 | Y19: 0 | Z19: 0 | AA19: 1 | AB19: 0 | AC19: 0 | AD19: 0 | AE19: 0 | AF19: 0 | AG19: 0 | AH19: 0 | AI19: 0 | AJ19: 2 | AK19: 2 | AL19: 2 | AM19: 0 | AN19: 0 | AO19: 2 | AP19: 0 | AQ19: 0 | AR19: 0 | AS19: 0 | AT19: 0 | AU19: 0 | AV19: 5 | AW19: 2 | AX19: 0 | AY19: 0 | AZ19: 1 | BA19: 2 | BB19: 2 | BC19: 2 | BD19: 1 | BE19: 1 | BF19: 1 | BG19: 1 | BH19: 1 | BI19: 1 | BJ19: 2 | BK19: 2 | BL19: 0 | BM19: 1 | BN19: 1 | BO19: 1 | BP19: 1 | BQ19: 0 | BR19: 1 | BS19: 0 | BT19: 1 | BU19: 0 | BV19: 0 | BW19: https://dirfo.sharepoint.com/:w:/r/sites/Grnneanskaffelser/Shared%20Documents/M%C3%B8bler/Statistikk%20og%20m%C3%A5ling/M%C3%A5ling%202022%20-%20Hedda/Konkurransegrunnlag/Konkurransegrunnlag%202021/Kristiansand%20Kommune%20(m%C3%B8bler%20og%20inventar%20til%20kontor%20og%20sosiale%20soner)%20-%2014.11.2021/Vedlegg%204%20-%20Avtaledokument.docx?d=wf9d43df2d4c34f5aaeff858cde9d8c3d&csf=1&web=1&e=pDwYsq | CB19: =IF((AK19+AL19+AO19+AP19+AS19+AT19+AU19+AW19)>=1,1,0) -> 1 | CC19: =IF((AK19+AL19+AO19+AP19+AU19+AW19+AX19+AY19)>=1,1,0) -> 1 | CD19: =IF((AM19+AN19+AQ19+AR19+AS19+AT19)>=1,1,0) -> 0 | CE19: =+CE18+1 -> 20 | CF19: {=+_xlfn.IFS(Tabell2[[#This Row],[EPD/Miljødeklarasjon - som krav, tildelingskriterium, kontraktsvilkår eller dokumentasjon]]=2,"Ja",Tabell2[[#This Row],[Bærekraftig trevirke/skogbruk - tømmerforordningen, FSC eller PEFC ]]=2,"Ja",Tabell2[[#This Row],[Krav til kvalitet / EN standarder/henvisning til Norsk møbelfakta]]=2,"Ja",Tabell2[[#This Row],[Robuste møbeltekstiler/ kvalitet på møbeltrekk]]=2,"Ja",Tabell2[[#This Row],[Design for lang levetid (Demontering, Reservedeler, produktinformasjon om montering og vedlikehold)]]=2,"Ja",Tabell2[[#This Row],[Merking av plast]]=2,"Ja",Tabell2[[#This Row],[Vask og rengjøring av møbler]]=2,"Ja",Tabell2[[#This Row],[Emballasjen skal være resirkulerbar/ gjenbrukbar (kravet om miljøvennelig emballasje)]]=2,"Ja",Tabell2[[#This Row],[Emballasje (retur- grønt punkt, gjenvinning) (kravet om gjenvinnbar emballasje)]]=2,"Ja",Tabell2[[#This Row],[Kjemikalietabellen (unngå skadelige kjemikaler)]]=2,"Ja",Tabell2[[#This Row],[Flammehemmere]]=2,"Ja",Tabell2[[#This Row],[PVC]]=2,"Ja",Tabell2[[#This Row],[Sosiale hensyn og menneske-rettigheter er inkludert]]=2,"Ja")} -> Ja
A20: 2021 | B20: 2021-307637 | C20: 44514 | D20: Kristiansand Kommune | E20: 820852982 | F20: Rammeavtale: Kjøp av møbler og inventar til institusjon | G20: Agder | H20: Kommune | I20: 39100000 | J20: 0 | K20: Varer | L20: Åpen anbudskonkurranse | M20: 0 | N20: 9000000 | O20: 1 | P20: https://www.mercell.com/nb-no/anbud/167169876/rammeavtale-kjoep-av-moebler-og-inventar-til-institusjon-anbud.aspx | Q20: frida.johannessen@kristiansand.kommune.no | S20: 0 | T20: 0.7 | U20: 0.3 | V20: 0 | W20: 0 | X20: 0 | Y20: 0 | Z20: 0 | AA20: 1 | AB20: 0 | AC20: 0 | AD20: 0 | AE20: 0 | AF20: 0 | AG20: 0 | AH20: 0 | AI20: 0 | AJ20: 2 | AK20: 2 | AL20: 2 | AM20: 0 | AN20: 0 | AO20: 2 | AP20: 0 | AQ20: 0 | AR20: 0 | AS20: 0 | AT20: 0 | AU20: 0 | AV20: 5 | AW20: 2 | AX20: 0 | AY20: 0 | AZ20: 1 | BA20: 2 | BB20: 2 | BC20: 2 | BD20: 1 | BE20: 1 | BF20: 1 | BG20: 1 | BH20: 1 | BI20: 1 | BJ20: 2 | BK20: 2 | BL20: 0 | BM20: 1 | BN20: 1 | BO20: 1 | BP20: 1 | BQ20: 0 | BR20: 1 | BS20: 0 | BT20: 1 | BU20: 0 | BV20: 0 | BW20: https://dirfo.sharepoint.com/:w:/r/sites/Grnneanskaffelser/Shared%20Documents/M%C3%B8bler/Statistikk%20og%20m%C3%A5ling/M%C3%A5ling%202022%20-%20Hedda/Konkurransegrunnlag/Konkurransegrunnlag%202021/Kristiansand%20Kommune%20(m%C3%B8bler%20og%20inventar%20til%20institusjon)%20-%2014.11.2021/Vedlegg%204%20-%20Avtaledokument.docx?d=w24655035395846fcb323f5286d61ec1a&csf=1&web=1&e=9HpiIE | CB20: =IF((AK20+AL20+AO20+AP20+AS20+AT20+AU20+AW20)>=1,1,0) -> 1 | CC20: =IF((AK20+AL20+AO20+AP20+AU20+AW20+AX20+AY20)>=1,1,0) -> 1 | CD20: =IF((AM20+AN20+AQ20+AR20+AS20+AT20)>=1,1,0) -> 0 | CE20: =+CE19+1 -> 21 | CF20: {=+_xlfn.IFS(Tabell2[[#This Row],[EPD/Miljødeklarasjon - som krav, tildelingskriterium, kontraktsvilkår eller dokumentasjon]]=2,"Ja",Tabell2[[#This Row],[Bærekraftig trevirke/skogbruk - tømmerforordningen, FSC eller PEFC ]]=2,"Ja",Tabell2[[#This Row],[Krav til kvalitet / EN standarder/henvisning til Norsk møbelfakta]]=2,"Ja",Tabell2[[#This Row],[Robuste møbeltekstiler/ kvalitet på møbeltrekk]]=2,"Ja",Tabell2[[#This Row],[Design for lang levetid (Demontering, Reservedeler, produktinformasjon om montering og vedlikehold)]]=2,"Ja",Tabell2[[#This Row],[Merking av plast]]=2,"Ja",Tabell2[[#This Row],[Vask og rengjøring av møbler]]=2,"Ja",Tabell2[[#This Row],[Emballasjen skal være resirkulerbar/ gjenbrukbar (kravet om miljøvennelig emballasje)]]=2,"Ja",Tabell2[[#This Row],[Emballasje (retur- grønt punkt, gjenvinning) (kravet om gjenvinnbar emballasje)]]=2,"Ja",Tabell2[[#This Row],[Kjemikalietabellen (unngå skadelige kjemikaler)]]=2,"Ja",Tabell2[[#This Row],[Flammehemmere]]=2,"Ja",Tabell2[[#This Row],[PVC]]=2,"Ja",Tabell2[[#This Row],[Sosiale hensyn og menneske-rettigheter er inkludert]]=2,"Ja")} -> Ja
A21: 2021 | B21: 2021-371437 | C21: 44514 | D21: Kristiansand Kommune | E21: 820852982 | F21: Rammeavtale: Kjøp av Møbler og inventar til barnehage | G21: Agder | H21: Kommune | I21: 39161000 | J21: 0 | K21: Varer | L21: Åpen anbudskonkurranse | M21: 0 | N21: 6000000 | O21: 1 | P21: https://www.mercell.com/nb-no/anbud/166082578/rammeavtale-kjoep-av-moebler-og-inventar-til-barnehage-anbud.aspx | Q21: frida.johannessen@kristiansand.kommune.no | S21: 0 | T21: 0.7 | U21: 0.3 | V21: 0 | W21: 0 | X21: 0 | Y21: 0 | Z21: 0 | AA21: 1 | AB21: 0 | AC21: 0 | AD21: 0 | AE21: 0 | AF21: 0 | AG21: 0 | AH21: 0 | AI21: 0 | AJ21: 2 | AK21: 2 | AL21: 2 | AM21: 0 | AN21: 0 | AO21: 2 | AP21: 0 | AQ21: 0 | AR21: 0 | AS21: 0 | AT21: 0 | AU21: 0 | AV21: 5 | AW21: 2 | AX21: 0 | AY21: 0 | AZ21: 1 | BA21: 2 | BB21: 2 | BC21: 2 | BD21: 1 | BE21: 1 | BF21: 1 | BG21: 1 | BH21: 1 | BI21: 1 | BJ21: 2 | BK21: 2 | BL21: 0 | BM21: 1 | BN21: 1 | BO21: 1 | BP21: 1 | BQ21: 0 | BR21: 1 | BS21: 0 | BT21: 1 | BU21: 0 | BV21: 0 | BW21: https://dirfo.sharepoint.com/:w:/r/sites/Grnneanskaffelser/Shared%20Documents/M%C3%B8bler/Statistikk%20og%20m%C3%A5ling/M%C3%A5ling%202022%20-%20Hedda/Konkurransegrunnlag/Konkurransegrunnlag%202021/Kristiansand%20Kommune%20(m%C3%B8bler%20og%20inventar%20til%20barnehage)%20-%2014.11.2021/Vedlegg%204%20-%20Avtaledokument.docx?d=wd0feab7f5d9f48a3872e5e065f92dd98&csf=1&web=1&e=jMTktF | CB21: =IF((AK21+AL21+AO21+AP21+AS21+AT21+AU21+AW21)>=1,1,0) -> 1 | CC21: =IF((AK21+AL21+AO21+AP21+AU21+AW21+AX21+AY21)>=1,1,0) -> 1 | CD21: =IF((AM21+AN21+AQ21+AR21+AS21+AT21)>=1,1,0) -> 0 | CE21: =+CE20+1 -> 22 | CF21: {=+_xlfn.IFS(Tabell2[[#This Row],[EPD/Miljødeklarasjon - som krav, tildelingskriterium, kontraktsvilkår eller dokumentasjon]]=2,"Ja",Tabell2[[#This Row],[Bærekraftig trevirke/skogbruk - tømmerforordningen, FSC eller PEFC ]]=2,"Ja",Tabell2[[#This Row],[Krav til kvalitet / EN standarder/henvisning til Norsk møbelfakta]]=2,"Ja",Tabell2[[#This Row],[Robuste møbeltekstiler/ kvalitet på møbeltrekk]]=2,"Ja",Tabell2[[#This Row],[Design for lang levetid (Demontering, Reservedeler, produktinformasjon om montering og vedlikehold)]]=2,"Ja",Tabell2[[#This Row],[Merking av plast]]=2,"Ja",Tabell2[[#This Row],[Vask og rengjøring av møbler]]=2,"Ja",Tabell2[[#This Row],[Emballasjen skal være resirkulerbar/ gjenbrukbar (kravet om miljøvennelig emballasje)]]=2,"Ja",Tabell2[[#This Row],[Emballasje (retur- grønt punkt, gjenvinning) (kravet om gjenvinnbar emballasje)]]=2,"Ja",Tabell2[[#This Row],[Kjemikalietabellen (unngå skadelige kjemikaler)]]=2,"Ja",Tabell2[[#This Row],[Flammehemmere]]=2,"Ja",Tabell2[[#This Row],[PVC]]=2,"Ja",Tabell2[[#This Row],[Sosiale hensyn og menneske-rettigheter er inkludert]]=2,"Ja")} -> Ja
A22: 2021 | B22: 2021-306501 | C22: 44521 | D22: Nasjonalbiblioteket | E22: 976029100 | F22: Hengemapper | G22: Nordland | H22: Statlig virksomhet | I22: 39132300 | J22: 0 | K22: Varer | L22: Åpen anbudskonkurranse | M22: 0 | N22: 10000000 | O22: 1 | P22: https://www.mercell.com/nb-no/anbud/166869062/hengemapper-anbud.aspx | Q22: snorre.strandrud@nb.no | S22: 0 | T22: 1 | U22: 0 | V22: 0 | W22: 0 | X22: 0 | Y22: 0 | Z22: 0 | AA22: 0 | AB22: 0 | AC22: 0 | AD22: 0 | AE22: 0 | AF22: 0 | AG22: 0 | AH22: 0 | AI22: 0 | AJ22: 0 | AK22: 0 | AL22: 0 | AM22: 0 | AN22: 0 | AO22: 0 | AP22: 0 | AQ22: 0 | AR22: 0 | AS22: 0 | AT22: 0 | AU22: 0 | AV22: - | AW22: 0 | AX22: 0 | AY22: 0 | AZ22: 0 | BA22: 0 | BB22: 0 | BC22: 0 | BD22: 0 | BE22: 0 | BF22: 0 | BG22: 0 | BH22: 0 | BI22: 0 | BJ22: 0 | BK22: 0 | BL22: 0 | BM22: 0 | BN22: 0 | BO22: 0 | BP22: 0 | BQ22: 0 | BR22: 0 | BS22: 0 | BT22: 0 | BU22: 0 | BV22: 0 | BW22: - | CB22: =IF((AK22+AL22+AO22+AP22+AS22+AT22+AU22+AW22)>=1,1,0) -> 0 | CC22: =IF((AK22+AL22+AO22+AP22+AU22+AW22+AX22+AY22)>=1,1,0) -> 0 | CD22: =IF((AM22+AN22+AQ22+AR22+AS22+AT22)>=1,1,0) -> 0 | CE22: =+CE21+1 -> 23 | CF22: {=+_xlfn.IFS(Tabell2[[#This Row],[EPD/Miljødeklarasjon - som krav, tildelingskriterium, kontraktsvilkår eller dokumentasjon]]=2,"Ja",Tabell2[[#This Row],[Bærekraftig trevirke/skogbruk - tømmerforordningen, FSC eller PEFC ]]=2,"Ja",Tabell2[[#This Row],[Krav til kvalitet / EN standarder/henvisning til Norsk møbelfakta]]=2,"Ja",Tabell2[[#This Row],[Robuste møbeltekstiler/ kvalitet på møbeltrekk]]=2,"Ja",Tabell2[[#This Row],[Design for lang levetid (Demontering, Reservedeler, produktinformasjon om montering og vedlikehold)]]=2,"Ja",Tabell2[[#This Row],[Merking av plast]]=2,"Ja",Tabell2[[#This Row],[Vask og rengjøring av møbler]]=2,"Ja",Tabell2[[#This Row],[Emballasjen skal være resirkulerbar/ gjenbrukbar (kravet om miljøvennelig emballasje)]]=2,"Ja",Tabell2[[#This Row],[Emballasje (retur- grønt punkt, gjenvinning) (kravet om gjenvinnbar emballasje)]]=2,"Ja",Tabell2[[#This Row],[Kjemikalietabellen (unngå skadelige kjemikaler)]]=2,"Ja",Tabell2[[#This Row],[Flammehemmere]]=2,"Ja",Tabell2[[#This Row],[PVC]]=2,"Ja",Tabell2[[#This Row],[Sosiale hensyn og menneske-rettigheter er inkludert]]=2,"Ja")} -> #N/A
A23: 2021 | B23: 2021-347280 | C23: 44232 | D23: Nord-Troms kommunene innkjøpstjeneste | E23: 941812716 | F23: Møbler og inventar Høgegga barnehage | G23: Troms og Finnmark | H23: Kommune | I23: 39130000 | J23: Ikke spesifisert | K23: Varer | L23: Åpen anbudskonkurranse | M23: 0 | N23: Ikke spesifisert | O23: 1 | P23: https://eu.eu-supply.com/app/rfq/publicpurchase_docs.asp?PID=292704&LID=343621&AllowPrint=1 | Q23: olaf.nilsen@nordreisa.kommune.no | S23: 0 | T23: 1 | U23: 0 | V23: 0 | W23: 0 | X23: 0 | Y23: 0 | Z23: 0 | AA23: 1 | AB23: 0 | AC23: 0 | AD23: 0 | AE23: 0 | AF23: 0 | AG23: 0 | AH23: 0 | AI23: 0 | AJ23: 0 | AK23: 0 | AL23: 1 | AM23: 0 | AN23: 0 | AO23: 1 | AP23: 0 | AQ23: 0 | AR23: 0 | AS23: 0 | AT23: 0 | AU23: 0 | AV23: 5 | AW23: 1 | AX23: 0 | AY23: 0 | AZ23: 0 | BA23: 0 | BB23: 1 | BC23: 0 | BD23: 0 | BE23: 0 | BF23: 0 | BG23: 0 | BH23: 0 | BI23: 0 | BJ23: 0 | BK23: 0 | BL23: 0 | BM23: 0 | BN23: 0 | BO23: 0 | BP23: 0 | BQ23: 0 | BR23: 0 | BS23: 0 | BT23: 0 | BU23: 0 | BV23: 0 | BW23: - | CB23: =IF((AK23+AL23+AO23+AP23+AS23+AT23+AU23+AW23)>=1,1,0) -> 1 | CC23: =IF((AK23+AL23+AO23+AP23+AU23+AW23+AX23+AY23)>=1,1,0) -> 1 | CD23: =IF((AM23+AN23+AQ23+AR23+AS23+AT23)>=1,1,0) -> 0 | CE23: =+CE22+1 -> 24 | CF23: {=+_xlfn.IFS(Tabell2[[#This Row],[EPD/Miljødeklarasjon - som krav, tildelingskriterium, kontraktsvilkår eller dokumentasjon]]=2,"Ja",Tabell2[[#This Row],[Bærekraftig trevirke/skogbruk - tømmerforordningen, FSC eller PEFC ]]=2,"Ja",Tabell2[[#This Row],[Krav til kvalitet / EN standarder/henvisning til Norsk møbelfakta]]=2,"Ja",Tabell2[[#This Row],[Robuste møbeltekstiler/ kvalitet på møbeltrekk]]=2,"Ja",Tabell2[[#This Row],[Design for lang levetid (Demontering, Reservedeler, produktinformasjon om montering og vedlikehold)]]=2,"Ja",Tabell2[[#This Row],[Merking av plast]]=2,"Ja",Tabell2[[#This Row],[Vask og rengjøring av møbler]]=2,"Ja",Tabell2[[#This Row],[Emballasjen skal være resirkulerbar/ gjenbrukbar (kravet om miljøvennelig emballasje)]]=2,"Ja",Tabell2[[#This Row],[Emballasje (retur- grønt punkt, gjenvinning) (kravet om gjenvinnbar emballasje)]]=2,"Ja",Tabell2[[#This Row],[Kjemikalietabellen (unngå skadelige kjemikaler)]]=2,"Ja",Tabell2[[#This Row],[Flammehemmere]]=2,"Ja",Tabell2[[#This Row],[PVC]]=2,"Ja",Tabell2[[#This Row],[Sosiale hensyn og menneske-rettigheter er inkludert]]=2,"Ja")} -> #N/A
