Workbook

Sheet Database kontormøbler - 2021
CB1: Utregningsrubikker:
A2: Årstall | B2: Doffinkode | C2: Dato for kunngjøring | D2: Publisert av | E2: Organisasjonsnummer | F2: Tittel | G2: Fylke | H2: Oppdragsgiver | I2: Hoved CPV | J2: Dynamisk innkjøpsordning | K2: Varekategori | L2: Type konkurranse | M2: Delkontrakt | N2: Estimert verdi | O2: Kontormøbler | P2: Link til konkurransegrunnlag | Q2: Epost kontaktperson | R2: Kolonne1 | S2: Vekting av miljø (%) | T2: Vekting av pris (%) | U2: Vekting av kvalitet og service (%) | V2: Miljø som tildelings kriterium | W2: Miljømerke som tildelings kriterium | X2: EPD som tildelings kriterium | Y2: Miljø som kontrakts vilkår | Z2: Miljø som kvalifikasjons krav | AA2: Miljø som krav spesifikasjon | AB2: Miljø/sikrulært fokus i tittel? | AC2: Miljø/sirkulært nevnt/fokus i formål/behov/ beskrivelse av konkurransen? | AD2: Minimere energibruk | AE2: Klimafotavtrykk/ klimagassutslipp | AF2: Minimere/ redusere miljøbelastning/ miljøpåvirkning | AG2: Miljøledelsessystem (ISO14001, Miljøfyrtårn etc.) | AH2: Miljømerking som krav, tildelingskriterium, eller kontraktsvilkår - Type 1 (Svanemerket, EU Eco-label, Svensk Møbelfakta, osv.) | AI2: EPD/Miljødeklarasjon - som krav, tildelingskriterium, kontraktsvilkår eller dokumentasjon | AJ2: Bærekraftig trevirke/skogbruk - tømmerforordningen, FSC eller PEFC | AK2: Krav til kvalitet / EN standarder/henvisning til Norsk møbelfakta | AL2: Robuste møbeltekstiler/ kvalitet på møbeltrekk | AM2: Leverandøren skal kunne levere brukte møbler | AN2: Brukte møbler er untatt fra avtalen | AO2: Design for lang levetid (Demontering, Reservedeler, produktinformasjon om montering og vedlikehold) | AP2: Merking av plast | AQ2: Leie/ leasing av møbler | AR2: Leverandøren skal ta tilbake brukte møbler | AS2: Avhending, videresalg, materialgjenvinnes/resirkuleres, (at de ber om en tjeneste om at leverandøren skal ta inn oppdragsgivers brukte møbler og videreselge, eller materialgjenvinne/resirkulere). Dette stille kanskje oftest som kontraktvilkår. | AT2: Serviceavtale/ reparasjonsavtale | AU2: TCO/ LCC (Livssyklus kostnader) | AV2: Garantitid (år) | AW2: Vask og rengjøring av møbler | AX2: Bruk av resirkulert materiale/resirkulert andel | AY2: Skal kunne materialgjenvinnes/ resirkuleres, eller at de ber om en tjeneste om at leverandøren | AZ2: Minimere emballasje | BA2: Emballasjen skal være resirkulerbar/ gjenbrukbar (kravet om miljøvennelig emballasje) | BB2: Emballasje (retur- grønt punkt, gjenvinning) (kravet om gjenvinnbar emballasje) | BC2: Kjemikalietabellen (unngå skadelige kjemikaler) | BD2: Kjemikalieinnhold og -håndtering | BE2: REACH (prioritetslisten, kandidatlisten) | BF2: Produkt-forskriften | BG2: CLP-forordningen kjemikalier klassifisert etter faresetninger i CLP | BH2: VOC | BI2: Formaldehyd | BJ2: Flammehemmere | BK2: PVC | BL2: Tungmetaller | BM2: Kvikksølv | BN2: Krom (både 3/III og 6/IV) | BO2: Bly | BP2: Kadmium | BQ2: Tinn | BR2: Sosiale hensyn og menneske-rettigheter er inkludert | BS2: Menneske-rettigheter som tildelingskriterium | BT2: Menneske-rettigheter som kontraktsvilkår | BU2: Menneske-rettigheter som kvalifikasjonskrav | BV2: Menneske-rettigheter som kravspesifikasjon | BW2: Dokumentnavn | BX2: Kommentarer | CB2: Har satt krav til sirkulær økonomi | CC2: Krav til kvalitet på produktet | CD2: Krav til sirkulære "forretningsmodeller" | CE2: Rad nummer | CF2: Har brukt Kriterie veiviseren
A3: 2021 | B3: 2021-388763 | C3: 44307 | D3: Grenlandkommunenes Innkjøpsenhet | E3: 991799710 | F3: Møbler og inventar - delkontrakt 1 kontormøbler | G3: Vestfold og Telemark | H3: Fylkeskommune | I3: 39000000 | J3: 0 | K3: Varer | L3: Åpen anbudskonkurranse | M3: 1 | N3: 40000000 | O3: 1 | P3: https://dirfo.sharepoint.com/:f:/r/sites/Grnneanskaffelser/Shared%20Documents/M%C3%B8bler/Statistikk%20og%20m%C3%A5ling/M%C3%A5ling%202022%20-%20Hedda/Konkurransegrunnlag/Konkurransegrunnlag%202021/Grenlandkommunenes%20Innkj%C3%B8psenhet%20-%2021.04.2021?csf=1&web=1&e=LQXhmp | Q3: ninaelisabethsorensen.rybraten@skien.kommune.no | S3: 0 | T3: 0.55 | U3: 0.45 | V3: 0 | W3: 0 | X3: 0 | Y3: 1 | Z3: 1 | AA3: 1 | AB3: 0 | AC3: 0 | AD3: 0 | AE3: 1 | AF3: 1 | AG3: 1 | AH3: 0 | AI3: 0 | AJ3: 1 | AK3: 1 | AL3: 1 | AM3: 0 | AN3: 0 | AO3: 1 | AP3: 0 | AQ3: 0 | AR3: 1 | AS3: 0 | AT3: 0 | AU3: 0 | AV3: 2 | AW3: 1 | AX3: 1 | AY3: 0 | AZ3: 1 | BA3: 1 | BB3: 1 | BC3: 0 | BD3: 1 | BE3: 0 | BF3: 1 | BG3: 0 | BH3: 1 | BI3: 1 | BJ3: 1 | BK3: 1 | BL3: 0 | BM3: 0 | BN3: 0 | BO3: 1 | BP3: 0 | BQ3: 0 | BR3: 1 | BS3: 0 | BT3: 1 | BU3: 1 | BV3: 0 | BW3: https://dirfo.sharepoint.com/:b:/r/sites/Grnneanskaffelser/Shared%20Documents/M%C3%B8bler/Statistikk%20og%20m%C3%A5ling/M%C3%A5ling%202022%20-%20Hedda/Konkurransegrunnlag/Konkurransegrunnlag%202021/Grenlandkommunenes%20Innkj%C3%B8psenhet%20-%2021.04.2021/Konkurransegrunnlag.pdf?csf=1&web=1&e=GZx4KM | CB3: =IF((AK3+AL3+AO3+AP3+AS3+AT3+AU3+AW3)>=1,1,0) -> 1 | CC3: =IF((AK3+AL3+AO3+AP3+AU3+AW3+AX3+AY3)>=1,1,0) -> 1 | CD3: =IF((AM3+AN3+AQ3+AR3+AS3+AT3)>=1,1,0) -> 1 | CE3: 4 | CF3: {=+_xlfn.IFS(Tabell2[[#This Row],[EPD/Miljødeklarasjon - som krav, tildelingskriterium, kontraktsvilkår eller dokumentasjon]]=2,"Ja",Tabell2[[#This Row],[Bærekraftig trevirke/skogbruk - tømmerforordningen, FSC eller PEFC ]]=2,"Ja",Tabell2[[#This Row],[Krav til kvalitet / EN standarder/henvisning til Norsk møbelfakta]]=2,"Ja",Tabell2[[#This Row],[Robuste møbeltekstiler/ kvalitet på møbeltrekk]]=2,"Ja",Tabell2[[#This Row],[Design for lang levetid (Demontering, Reservedeler, produktinformasjon om montering og vedlikehold)]]=2,"Ja",Tabell2[[#This Row],[Merking av plast]]=2,"Ja",Tabell2[[#This Row],[Vask og rengjøring av møbler]]=2,"Ja",Tabell2[[#This Row],[Emballasjen skal være resirkulerbar/ gjenbrukbar (kravet om miljøvennelig emballasje)]]=2,"Ja",Tabell2[[#This Row],[Emballasje (retur- grønt punkt, gjenvinning) (kravet om gjenvinnbar emballasje)]]=2,"Ja",Tabell2[[#This Row],[Kjemikalietabellen (unngå skadelige kjemikaler)]]=2,"Ja",Tabell2[[#This Row],[Flammehemmere]]=2,"Ja",Tabell2[[#This Row],[PVC]]=2,"Ja",Tabell2[[#This Row],[Sosiale hensyn og menneske-rettigheter er inkludert]]=2,"Ja")} -> #N/A
A4: 2021 | B4: 2021-315749 | C4: 44266 | D4: Jernbanedirektoratet | E4: 916810962 | F4: Kontormøbler, inventar, interiørdesign og interiør. | G4: Oslo | H4: Statlig virksomhet | I4: 39130000 | J4: 0 | K4: Varer | L4: Åpen anbudskonkurranse | M4: 0 | N4: 1800000 | O4: 1 | P4: https://eu.eu-supply.com/app/rfq/publicpurchase_docs.asp?PID=294150&LID=345247&AllowPrint=1 | Q4: arild.bakke@jernbanedirektoratet.no | S4: 0 | T4: 0.4 | U4: 0.6 | V4: 0 | W4: 0 | X4: 0 | Y4: 1 | Z4: 1 | AA4: 1 | AB4: 0 | AC4: 0 | AD4: 0 | AE4: 1 | AF4: 0 | AG4: 1 | AH4: 0 | AI4: 0 | AJ4: 0 | AK4: 1 | AL4: 1 | AM4: 1 | AN4: 0 | AO4: 1 | AP4: 0 | AQ4: 0 | AR4: 1 | AS4: 0 | AT4: 0 | AU4: 0 | AV4: - | AW4: 1 | AX4: 0 | AY4: 0 | AZ4: 0 | BA4: 0 | BB4: 0 | BC4: 0 | BD4: 0 | BE4: 0 | BF4: 0 | BG4: 0 | BH4: 0 | BI4: 0 | BJ4: 0 | BK4: 0 | BL4: 0 | BM4: 0 | BN4: 0 | BO4: 0 | BP4: 0 | BQ4: 0 | BR4: 0 | BS4: 0 | BT4: 1 | BU4: 0 | BV4: 0 | BW4: https://dirfo.sharepoint.com/:b:/r/sites/Grnneanskaffelser/Shared%20Documents/M%C3%B8bler/Statistikk%20og%20m%C3%A5ling/M%C3%A5ling%202022%20-%20Hedda/Konkurransegrunnlag/Konkurransegrunnlag%202021/Jernbanedirektoratet%20-%2011.03.2021/Bilag%205%20Etiske%20krav.pdf?csf=1&web=1&e=UD9sjJ | CB4: =IF((AK4+AL4+AO4+AP4+AS4+AT4+AU4+AW4)>=1,1,0) -> 1 | CC4: =IF((AK4+AL4+AO4+AP4+AU4+AW4+AX4+AY4)>=1,1,0) -> 1 | CD4: =IF((AM4+AN4+AQ4+AR4+AS4+AT4)>=1,1,0) -> 1 | CE4: =+CE3+1 -> 5 | CF4: {=+_xlfn.IFS(Tabell2[[#This Row],[EPD/Miljødeklarasjon - som krav, tildelingskriterium, kontraktsvilkår eller dokumentasjon]]=2,"Ja",Tabell2[[#This Row],[Bærekraftig trevirke/skogbruk - tømmerforordningen, FSC eller PEFC ]]=2,"Ja",Tabell2[[#This Row],[Krav til kvalitet / EN standarder/henvisning til Norsk møbelfakta]]=2,"Ja",Tabell2[[#This Row],[Robuste møbeltekstiler/ kvalitet på møbeltrekk]]=2,"Ja",Tabell2[[#This Row],[Design for lang levetid (Demontering, Reservedeler, produktinformasjon om montering og vedlikehold)]]=2,"Ja",Tabell2[[#This Row],[Merking av plast]]=2,"Ja",Tabell2[[#This Row],[Vask og rengjøring av møbler]]=2,"Ja",Tabell2[[#This Row],[Emballasjen skal være resirkulerbar/ gjenbrukbar (kravet om miljøvennelig emballasje)]]=2,"Ja",Tabell2[[#This Row],[Emballasje (retur- grønt punkt, gjenvinning) (kravet om gjenvinnbar emballasje)]]=2,"Ja",Tabell2[[#This Row],[Kjemikalietabellen (unngå skadelige kjemikaler)]]=2,"Ja",Tabell2[[#This Row],[Flammehemmere]]=2,"Ja",Tabell2[[#This Row],[PVC]]=2,"Ja",Tabell2[[#This Row],[Sosiale hensyn og menneske-rettigheter er inkludert]]=2,"Ja")} -> #N/A
A5: 2021 | B5: 2021-326299 | C5: 44484 | D5: Meteorologisk Institutt | E5: 971274042 | F5: Rammeavtale for kjøp av møbler og inventar - Del III | G5: Oslo | H5: Statlig virksomhet | I5: 39130000 | J5: 0 | K5: Varer | L5: Åpen anbudskonkurranse | M5: 0 | N5: 4000000 | O5: 1 | P5: https://www.mercell.com/nb-no/anbud/165210618/rammeavtale-for-kjoep-av-moebler-og-inventar---del-iii--anbud.aspx | Q5: post@met.no | S5: 0.2 | T5: 0.4 | U5: 0.4 | V5: 1 | W5: 0 | X5: 0 | Y5: 0 | Z5: 1 | AA5: 1 | AB5: 0 | AC5: 1 | AD5: 0 | AE5: 0 | AF5: 0 | AG5: 1 | AH5: 0 | AI5: 0 | AJ5: 0 | AK5: 2 | AL5: 2 | AM5: 0 | AN5: 1 | AO5: 2 | AP5: 2 | AQ5: 0 | AR5: 0 | AS5: 0 | AT5: 0 | AU5: 0 | AV5: 5 | AW5: 2 | AX5: 0 | AY5: 0 | AZ5: 1 | BA5: 2 | BB5: 1 | BC5: 2 | BD5: 1 | BE5: 1 | BF5: 1 | BG5: 1 | BH5: 0 | BI5: 0 | BJ5: 2 | BK5: 2 | BL5: 0 | BM5: 1 | BN5: 1 | BO5: 1 | BP5: 1 | BQ5: 0 | BR5: 1 | BS5: 0 | BT5: 0 | BU5: 0 | BV5: 1 | BW5: https://dirfo.sharepoint.com/:w:/r/sites/Grnneanskaffelser/Shared%20Documents/M%C3%B8bler/Statistikk%20og%20m%C3%A5ling/M%C3%A5ling%202022%20-%20Hedda/Konkurransegrunnlag/Konkurransegrunnlag%202021/Meteorologisk%20Institutt%20-%2015.10.2021/Vedlegg%201%20-%20Kravspesifikasjon.docx?d=wa4a51a85b12246b5ace57a6d0af7af36&csf=1&web=1&e=8ByDJp | CB5: =IF((AK5+AL5+AO5+AP5+AS5+AT5+AU5+AW5)>=1,1,0) -> 1 | CC5: =IF((AK5+AL5+AO5+AP5+AU5+AW5+AX5+AY5)>=1,1,0) -> 1 | CD5: =IF((AM5+AN5+AQ5+AR5+AS5+AT5)>=1,1,0) -> 1 | CE5: =+CE4+1 -> 6 | CF5: {=+_xlfn.IFS(Tabell2[[#This Row],[EPD/Miljødeklarasjon - som krav, tildelingskriterium, kontraktsvilkår eller dokumentasjon]]=2,"Ja",Tabell2[[#This Row],[Bærekraftig trevirke/skogbruk - tømmerforordningen, FSC eller PEFC ]]=2,"Ja",Tabell2[[#This Row],[Krav til kvalitet / EN standarder/henvisning til Norsk møbelfakta]]=2,"Ja",Tabell2[[#This Row],[Robuste møbeltekstiler/ kvalitet på møbeltrekk]]=2,"Ja",Tabell2[[#This Row],[Design for lang levetid (Demontering, Reservedeler, produktinformasjon om montering og vedlikehold)]]=2,"Ja",Tabell2[[#This Row],[Merking av plast]]=2,"Ja",Tabell2[[#This Row],[Vask og rengjøring av møbler]]=2,"Ja",Tabell2[[#This Row],[Emballasjen skal være resirkulerbar/ gjenbrukbar (kravet om miljøvennelig emballasje)]]=2,"Ja",Tabell2[[#This Row],[Emballasje (retur- grønt punkt, gjenvinning) (kravet om gjenvinnbar emballasje)]]=2,"Ja",Tabell2[[#This Row],[Kjemikalietabellen (unngå skadelige kjemikaler)]]=2,"Ja",Tabell2[[#This Row],[Flammehemmere]]=2,"Ja",Tabell2[[#This Row],[PVC]]=2,"Ja",Tabell2[[#This Row],[Sosiale hensyn og menneske-rettigheter er inkludert]]=2,"Ja")} -> Ja
A6: 2021 | B6: 2021-358997 | C6: 44203 | D6: NORCE Norwegian Research Centre AS | E6: 919408049 | F6: Rammeavtale på nye møbler og inventar for NORCE Norwegian Research Centre AS | G6: Hele landet | H6: Statlig virksomhet | I6: 39000000 | J6: 0 | K6: Varer | L6: Åpen anbudskonkurranse | M6: 0 | N6: 8000000 | O6: 1 | P6: https://www.mercell.com/nb-no/anbud/146641908/rammeavtale-paa-nye-moebler-og-inventar-for-norce-norwegian-research-centre-as-anbud.aspx | Q6: aniv@norceresearch.no | S6: 0 | T6: 0.4 | U6: 0.6 | V6: 0 | W6: 0 | X6: 0 | Y6: 1 | Z6: 1 | AA6: 1 | AB6: 0 | AC6: 1 | AD6: 0 | AE6: 0 | AF6: 1 | AG6: 1 | AH6: 0 | AI6: 0 | AJ6: 1 | AK6: 1 | AL6: 1 | AM6: 0 | AN6: 1 | AO6: 1 | AP6: 0 | AQ6: 0 | AR6: 0 | AS6: 0 | AT6: 0 | AU6: 0 | AV6: 5 | AW6: 1 | AX6: 0 | AY6: 0 | AZ6: 0 | BA6: 0 | BB6: 1 | BC6: 0 | BD6: 1 | BE6: 1 | BF6: 1 | BG6: 0 | BH6: 0 | BI6: 0 | BJ6: 0 | BK6: 0 | BL6: 0 | BM6: 0 | BN6: 1 | BO6: 0 | BP6: 0 | BQ6: 0 | BR6: 2 | BS6: 0 | BT6: 1 | BU6: 1 | BV6: 0 | BW6: https://dirfo.sharepoint.com/:w:/r/sites/Grnneanskaffelser/Shared%20Documents/M%C3%B8bler/Statistikk%20og%20m%C3%A5ling/M%C3%A5ling%202022%20-%20Hedda/Konkurransegrunnlag/Konkurransegrunnlag%202021/NORCE%20Norwegian%20Research%20Centre%20AS%20-%2007.01.2021/Bilag%203%20-%2010.docx?d=w851df837d59c45a0bc29912a3af0b313&csf=1&web=1&e=li0aNE | BX6: Må redgjøre for hvordan de jobber mot sirkulær økonomi, samfunnsansvar og miljø | CB6: =IF((AK6+AL6+AO6+AP6+AS6+AT6+AU6+AW6)>=1,1,0) -> 1 | CC6: =IF((AK6+AL6+AO6+AP6+AU6+AW6+AX6+AY6)>=1,1,0) -> 1 | CD6: =IF((AM6+AN6+AQ6+AR6+AS6+AT6)>=1,1,0) -> 1 | CE6: =+CE5+1 -> 7 | CF6: {=+_xlfn.IFS(Tabell2[[#This Row],[EPD/Miljødeklarasjon - som krav, tildelingskriterium, kontraktsvilkår eller dokumentasjon]]=2,"Ja",Tabell2[[#This Row],[Bærekraftig trevirke/skogbruk - tømmerforordningen, FSC eller PEFC ]]=2,"Ja",Tabell2[[#This Row],[Krav til kvalitet / EN standarder/henvisning til Norsk møbelfakta]]=2,"Ja",Tabell2[[#This Row],[Robuste møbeltekstiler/ kvalitet på møbeltrekk]]=2,"Ja",Tabell2[[#This Row],[Design for lang levetid (Demontering, Reservedeler, produktinformasjon om montering og vedlikehold)]]=2,"Ja",Tabell2[[#This Row],[Merking av plast]]=2,"Ja",Tabell2[[#This Row],[Vask og rengjøring av møbler]]=2,"Ja",Tabell2[[#This Row],[Emballasjen skal være resirkulerbar/ gjenbrukbar (kravet om miljøvennelig emballasje)]]=2,"Ja",Tabell2[[#This Row],[Emballasje (retur- grønt punkt, gjenvinning) (kravet om gjenvinnbar emballasje)]]=2,"Ja",Tabell2[[#This Row],[Kjemikalietabellen (unngå skadelige kjemikaler)]]=2,"Ja",Tabell2[[#This Row],[Flammehemmere]]=2,"Ja",Tabell2[[#This Row],[PVC]]=2,"Ja",Tabell2[[#This Row],[Sosiale hensyn og menneske-rettigheter er inkludert]]=2,"Ja")} -> Ja
A7: 2021 | B7: 2021-331342 | C7: 44384 | D7: Statsforvalteren i Troms og Finnmark | E7: 967311014 | F7: Anskaffelse av kontormøbler og løst inventar til Statsforvalteren i Troms og Finnmark (kontorsted Vadsø) | G7: Troms og Finnmark | H7: Statlig virksomhet | I7: 39130000 | J7: Ikke spesifisert | K7: Varer | L7: Åpen anbudskonkurranse | M7: 0 | N7: Ikke spesifisert | O7: 1 | P7: https://dirfo.sharepoint.com/:f:/r/sites/Grnneanskaffelser/Shared%20Documents/M%C3%B8bler/Statistikk%20og%20m%C3%A5ling/M%C3%A5ling%202022%20-%20Hedda/Konkurransegrunnlag/Konkurransegrunnlag%202021/Statsforvalteren%20i%20Troms%20og%20Finnmark%20-%2007.07.2021?csf=1&web=1&e=9WTIFd | Q7: kjersti.fosse@statsforvalteren.no | S7: 0 | T7: 0.3 | U7: 0.7 | V7: 0 | W7: 0 | X7: 0 | Y7: 0 | Z7: 1 | AA7: 0 | AB7: 0 | AC7: 0 | AD7: 0 | AE7: 0 | AF7: 0 | AG7: 1 | AH7: 0 | AI7: 0 | AJ7: 0 | AK7: 0 | AL7: 0 | AM7: 0 | AN7: 0 | AO7: 0 | AP7: 0 | AQ7: 0 | AR7: 0 | AS7: 0 | AT7: 0 | AU7: 0 | AV7: 0 | AW7: 0 | AX7: 0 | AY7: 0 | AZ7: 0 | BA7: 0 | BB7: 0 | BC7: 0 | BD7: 0 | BE7: 0 | BF7: 0 | BG7: 0 | BH7: 0 | BI7: 0 | BJ7: 0 | BK7: 0 | BL7: 0 | BM7: 0 | BN7: 0 | BO7: 0 | BP7: 0 | BQ7: 0 | BR7: 0 | BS7: 0 | BT7: 0 | BU7: 0 | BV7: 0 | BW7: - | BX7: Mye manglende dokumenter (har bare konkurransegrunnlaget) | CB7: =IF((AK7+AL7+AO7+AP7+AS7+AT7+AU7+AW7)>=1,1,0) -> 0 | CC7: =IF((AK7+AL7+AO7+AP7+AU7+AW7+AX7+AY7)>=1,1,0) -> 0 | CD7: =IF((AM7+AN7+AQ7+AR7+AS7+AT7)>=1,1,0) -> 0 | CE7: =+CE6+1 -> 8 | CF7: {=+_xlfn.IFS(Tabell2[[#This Row],[EPD/Miljødeklarasjon - som krav, tildelingskriterium, kontraktsvilkår eller dokumentasjon]]=2,"Ja",Tabell2[[#This Row],[Bærekraftig trevirke/skogbruk - tømmerforordningen, FSC eller PEFC ]]=2,"Ja",Tabell2[[#This Row],[Krav til kvalitet / EN standarder/henvisning til Norsk møbelfakta]]=2,"Ja",Tabell2[[#This Row],[Robuste møbeltekstiler/ kvalitet på møbeltrekk]]=2,"Ja",Tabell2[[#This Row],[Design for lang levetid (Demontering, Reservedeler, produktinformasjon om montering og vedlikehold)]]=2,"Ja",Tabell2[[#This Row],[Merking av plast]]=2,"Ja",Tabell2[[#This Row],[Vask og rengjøring av møbler]]=2,"Ja",Tabell2[[#This Row],[Emballasjen skal være resirkulerbar/ gjenbrukbar (kravet om miljøvennelig emballasje)]]=2,"Ja",Tabell2[[#This Row],[Emballasje (retur- grønt punkt, gjenvinning) (kravet om gjenvinnbar emballasje)]]=2,"Ja",Tabell2[[#This Row],[Kjemikalietabellen (unngå skadelige kjemikaler)]]=2,"Ja",Tabell2[[#This Row],[Flammehemmere]]=2,"Ja",Tabell2[[#This Row],[PVC]]=2,"Ja",Tabell2[[#This Row],[Sosiale hensyn og menneske-rettigheter er inkludert]]=2,"Ja")} -> #N/A
A8: 2021 | B8: 2021-335986 | C8: 44487 | D8: Utlendingsnemnda | E8: 982019095 | F8: (21/00502) Kontor- og konferansemøbler, rammeavtale | G8: Oslo | H8: Statlig virksomhet | I8: 39130000 | J8: 0 | K8: Varer | L8: Ikke spesifisert | M8: 0 | N8: 1299000 | O8: 1 | P8: https://dirfo.sharepoint.com/:f:/r/sites/Grnneanskaffelser/Shared%20Documents/M%C3%B8bler/Statistikk%20og%20m%C3%A5ling/M%C3%A5ling%202022%20-%20Hedda/Konkurransegrunnlag/Konkurransegrunnlag%202021/Utlendingsnemnda%20-%2018.10.2021?csf=1&web=1&e=UVQYc3 | Q8: karlpetter@innkjopskontoret.no | S8: 0.1 | T8: 0.4 | U8: 0.5 | V8: 1 | W8: 0 | X8: 0 | Y8: 0 | Z8: 0 | AA8: 1 | AB8: 0 | AC8: 0 | AD8: 0 | AE8: 0 | AF8: 1 | AG8: 1 | AH8: 0 | AI8: 1 | AJ8: 1 | AK8: 1 | AL8: 2 | AM8: 0 | AN8: 1 | AO8: 1 | AP8: 1 | AQ8: 0 | AR8: 0 | AS8: 0 | AT8: 0 | AU8: 0 | AV8: 5 | AW8: 1 | AX8: 0 | AY8: 0 | AZ8: 1 | BA8: 0 | BB8: 2 | BC8: 0 | BD8: 1 | BE8: 1 | BF8: 1 | BG8: 0 | BH8: 1 | BI8: 1 | BJ8: 1 | BK8: 0 | BL8: 0 | BM8: 0 | BN8: 0 | BO8: 0 | BP8: 0 | BQ8: 0 | BR8: 1 | BS8: 0 | BT8: 1 | BU8: 0 | BV8: 1 | BW8: https://dirfo.sharepoint.com/:b:/r/sites/Grnneanskaffelser/Shared%20Documents/M%C3%B8bler/Statistikk%20og%20m%C3%A5ling/M%C3%A5ling%202022%20-%20Hedda/Konkurransegrunnlag/Konkurransegrunnlag%202021/Utlendingsnemnda%20-%2018.10.2021/Kunngjort%20konkurransegrunnlag.pdf?csf=1&web=1&e=qKMtvg | CB8: =IF((AK8+AL8+AO8+AP8+AS8+AT8+AU8+AW8)>=1,1,0) -> 1 | CC8: =IF((AK8+AL8+AO8+AP8+AU8+AW8+AX8+AY8)>=1,1,0) -> 1 | CD8: =IF((AM8+AN8+AQ8+AR8+AS8+AT8)>=1,1,0) -> 1 | CE8: =+CE7+1 -> 9 | CF8: {=+_xlfn.IFS(Tabell2[[#This Row],[EPD/Miljødeklarasjon - som krav, tildelingskriterium, kontraktsvilkår eller dokumentasjon]]=2,"Ja",Tabell2[[#This Row],[Bærekraftig trevirke/skogbruk - tømmerforordningen, FSC eller PEFC ]]=2,"Ja",Tabell2[[#This Row],[Krav til kvalitet / EN standarder/henvisning til Norsk møbelfakta]]=2,"Ja",Tabell2[[#This Row],[Robuste møbeltekstiler/ kvalitet på møbeltrekk]]=2,"Ja",Tabell2[[#This Row],[Design for lang levetid (Demontering, Reservedeler, produktinformasjon om montering og vedlikehold)]]=2,"Ja",Tabell2[[#This Row],[Merking av plast]]=2,"Ja",Tabell2[[#This Row],[Vask og rengjøring av møbler]]=2,"Ja",Tabell2[[#This Row],[Emballasjen skal være resirkulerbar/ gjenbrukbar (kravet om miljøvennelig emballasje)]]=2,"Ja",Tabell2[[#This Row],[Emballasje (retur- grønt punkt, gjenvinning) (kravet om gjenvinnbar emballasje)]]=2,"Ja",Tabell2[[#This Row],[Kjemikalietabellen (unngå skadelige kjemikaler)]]=2,"Ja",Tabell2[[#This Row],[Flammehemmere]]=2,"Ja",Tabell2[[#This Row],[PVC]]=2,"Ja",Tabell2[[#This Row],[Sosiale hensyn og menneske-rettigheter er inkludert]]=2,"Ja")} -> Ja
A9: 2021 | B9: 2021-300473 | C9: 44229 | D9: Åsnes kommune | E9: 964948232 | F9: Kontormøbler og inventar Familiens Hus, Åsnes kommune | G9: Innlandet | H9: Kommune | I9: 39130000 | J9: Ikke spesifisert | K9: Varer | L9: Åpen anbudskonkurranse | M9: 0 | N9: 700000 | O9: 1 | P9: https://www.mercell.com/nb-no/anbud/148781272/kontormoebler-og-inventar-familiens-hus-aasnes-kommune-anbud.aspx | Q9: nils.lindeberg@asnes.kommune.no | S9: 0 | T9: 0.5 | U9: 0.5 | V9: 0 | W9: 0 | X9: 0 | Y9: 0 | Z9: 1 | AA9: 0 | AB9: 0 | AC9: 0 | AD9: 0 | AE9: 0 | AF9: 0 | AG9: 1 | AH9: 0 | AI9: 0 | AJ9: 1 | AK9: 2 | AL9: 2 | AM9: 0 | AN9: 0 | AO9: 1 | AP9: 0 | AQ9: 0 | AR9: 0 | AS9: 0 | AT9: 0 | AU9: 0 | AV9: 5 | AW9: 0 | AX9: 0 | AY9: 0 | AZ9: 1 | BA9: 0 | BB9: 1 | BC9: 0 | BD9: 1 | BE9: 0 | BF9: 0 | BG9: 0 | BH9: 1 | BI9: 0 | BJ9: 1 | BK9: 1 | BL9: 0 | BM9: 0 | BN9: 1 | BO9: 0 | BP9: 0 | BQ9: 0 | BR9: 1 | BS9: 0 | BT9: 1 | BU9: 0 | BV9: 0 | BW9: https://dirfo.sharepoint.com/:w:/r/sites/Grnneanskaffelser/Shared%20Documents/M%C3%B8bler/Statistikk%20og%20m%C3%A5ling/M%C3%A5ling%202022%20-%20Hedda/Konkurransegrunnlag/Konkurransegrunnlag%202021/%C3%85snes%20kommune%20-%2002.02.2021/Del%202%20Avtale%20varekj%C3%B8p%20Familiens%20Hus%2020210121.docx?d=waaeee629382d4e6fbd981958a2e0e215&csf=1&web=1&e=fcA2TY | CB9: =IF((AK9+AL9+AO9+AP9+AS9+AT9+AU9+AW9)>=1,1,0) -> 1 | CC9: =IF((AK9+AL9+AO9+AP9+AU9+AW9+AX9+AY9)>=1,1,0) -> 1 | CD9: =IF((AM9+AN9+AQ9+AR9+AS9+AT9)>=1,1,0) -> 0 | CE9: =+CE8+1 -> 10 | CF9: {=+_xlfn.IFS(Tabell2[[#This Row],[EPD/Miljødeklarasjon - som krav, tildelingskriterium, kontraktsvilkår eller dokumentasjon]]=2,"Ja",Tabell2[[#This Row],[Bærekraftig trevirke/skogbruk - tømmerforordningen, FSC eller PEFC ]]=2,"Ja",Tabell2[[#This Row],[Krav til kvalitet / EN standarder/henvisning til Norsk møbelfakta]]=2,"Ja",Tabell2[[#This Row],[Robuste møbeltekstiler/ kvalitet på møbeltrekk]]=2,"Ja",Tabell2[[#This Row],[Design for lang levetid (Demontering, Reservedeler, produktinformasjon om montering og vedlikehold)]]=2,"Ja",Tabell2[[#This Row],[Merking av plast]]=2,"Ja",Tabell2[[#This Row],[Vask og rengjøring av møbler]]=2,"Ja",Tabell2[[#This Row],[Emballasjen skal være resirkulerbar/ gjenbrukbar (kravet om miljøvennelig emballasje)]]=2,"Ja",Tabell2[[#This Row],[Emballasje (retur- grønt punkt, gjenvinning) (kravet om gjenvinnbar emballasje)]]=2,"Ja",Tabell2[[#This Row],[Kjemikalietabellen (unngå skadelige kjemikaler)]]=2,"Ja",Tabell2[[#This Row],[Flammehemmere]]=2,"Ja",Tabell2[[#This Row],[PVC]]=2,"Ja",Tabell2[[#This Row],[Sosiale hensyn og menneske-rettigheter er inkludert]]=2,"Ja")} -> Ja
A10: 2021 | B10: 2021-367695 | C10: 44337 | D10: Anno Museum AS | E10: 994933272 | F10: ANNO-21-01 Møbler | G10: Innlandet | H10: Statlig virksomhet | I10: 39100000 | J10: Ikke spesifisert | K10: Varer | L10: Åpen anbudskonkurranse | M10: 0 | N10: Ikke spesifisert | O10: 1 | P10: https://www.mercell.com/nb-no/anbud/156444182/anno-21-01-moebler--anbud.aspx | Q10: svend.hoff.johnstad@abakus.as | S10: 0 | T10: 0.5 | U10: 0.5 | V10: 0 | W10: 0 | X10: 0 | Y10: 0 | Z10: 0 | AA10: 0 | AB10: 0 | AC10: 0 | AD10: 0 | AE10: 0 | AF10: 0 | AG10: 0 | AH10: 0 | AI10: 0 | AJ10: 1 | AK10: 0 | AL10: 0 | AM10: 0 | AN10: 0 | AO10: 0 | AP10: 0 | AQ10: 0 | AR10: 0 | AS10: 0 | AT10: 0 | AU10: 0 | AV10: 5 | AW10: 1 | AX10: 0 | AY10: 0 | AZ10: 0 | BA10: 0 | BB10: 1 | BC10: 0 | BD10: 0 | BE10: 0 | BF10: 0 | BG10: 0 | BH10: 0 | BI10: 0 | BJ10: 0 | BK10: 0 | BL10: 0 | BM10: 0 | BN10: 0 | BO10: 0 | BP10: 0 | BQ10: 0 | BR10: 1 | BS10: 0 | BT10: 0 | BU10: 0 | BV10: 1 | BW10: https://dirfo.sharepoint.com/:b:/r/sites/Grnneanskaffelser/Shared%20Documents/M%C3%B8bler/Statistikk%20og%20m%C3%A5ling/M%C3%A5ling%202022%20-%20Hedda/Konkurransegrunnlag/Konkurransegrunnlag%202021/Anno%20Museum%20AS%20-%2021.05.2021/ANNO-21-01%20Konkurransegrunnlag.pdf?csf=1&web=1&e=sZLsCn | CB10: =IF((AK10+AL10+AO10+AP10+AS10+AT10+AU10+AW10)>=1,1,0) -> 1 | CC10: =IF((AK10+AL10+AO10+AP10+AU10+AW10+AX10+AY10)>=1,1,0) -> 1 | CD10: =IF((AM10+AN10+AQ10+AR10+AS10+AT10)>=1,1,0) -> 0 | CE10: =+CE9+1 -> 11 | CF10: {=+_xlfn.IFS(Tabell2[[#This Row],[EPD/Miljødeklarasjon - som krav, tildelingskriterium, kontraktsvilkår eller dokumentasjon]]=2,"Ja",Tabell2[[#This Row],[Bærekraftig trevirke/skogbruk - tømmerforordningen, FSC eller PEFC ]]=2,"Ja",Tabell2[[#This Row],[Krav til kvalitet / EN standarder/henvisning til Norsk møbelfakta]]=2,"Ja",Tabell2[[#This Row],[Robuste møbeltekstiler/ kvalitet på møbeltrekk]]=2,"Ja",Tabell2[[#This Row],[Design for lang levetid (Demontering, Reservedeler, produktinformasjon om montering og vedlikehold)]]=2,"Ja",Tabell2[[#This Row],[Merking av plast]]=2,"Ja",Tabell2[[#This Row],[Vask og rengjøring av møbler]]=2,"Ja",Tabell2[[#This Row],[Emballasjen skal være resirkulerbar/ gjenbrukbar (kravet om miljøvennelig emballasje)]]=2,"Ja",Tabell2[[#This Row],[Emballasje (retur- grønt punkt, gjenvinning) (kravet om gjenvinnbar emballasje)]]=2,"Ja",Tabell2[[#This Row],[Kjemikalietabellen (unngå skadelige kjemikaler)]]=2,"Ja",Tabell2[[#This Row],[Flammehemmere]]=2,"Ja",Tabell2[[#This Row],[PVC]]=2,"Ja",Tabell2[[#This Row],[Sosiale hensyn og menneske-rettigheter er inkludert]]=2,"Ja")} -> #N/A
A11: 2021 | B11: 2021-387603 | C11: 44520 | D11: Barne-, ungdoms- og familiedirektoratet | E11: 986128433 | F11: Rammeavtale for kjøp av kontormøbler | G11: Landsdekkende | H11: Statlig virksomhet | I11: 39130000 | J11: 0 | K11: Varer | L11: Åpen anbudskonkurranse | M11: 0 | N11: 15000000 | O11: 1 | P11: https://eu.eu-supply.com/app/rfq/publicpurchase_docs.asp?PID=314541&LID=369480&AllowPrint=1 | Q11: marievine.elserud@bufdir.no | S11: 0 | T11: 0.6 | U11: 0.4 | V11: 0 | W11: 0 | X11: 0 | Y11: 0 | Z11: 0 | AA11: 1 | AB11: 0 | AC11: 1 | AD11: 0 | AE11: 1 | AF11: 0 | AG11: 0 | AH11: 0 | AI11: 0 | AJ11: 1 | AK11: 2 | AL11: 1 | AM11: 0 | AN11: 0 | AO11: 0 | AP11: 0 | AQ11: 0 | AR11: 0 | AS11: 1 | AT11: 1 | AU11: 0 | AV11: - | AW11: 0 | AX11: 0 | AY11: 0 | AZ11: 0 | BA11: 0 | BB11: 0 | BC11: 0 | BD11: 1 | BE11: 0 | BF11: 1 | BG11: 0 | BH11: 0 | BI11: 0 | BJ11: 2 | BK11: 0 | BL11: 0 | BM11: 0 | BN11: 1 | BO11: 0 | BP11: 0 | BQ11: 0 | BR11: 2 | BS11: 0 | BT11: 1 | BU11: 0 | BV11: 0 | BW11: https://dirfo.sharepoint.com/:w:/r/sites/Grnneanskaffelser/Shared%20Documents/M%C3%B8bler/Statistikk%20og%20m%C3%A5ling/M%C3%A5ling%202022%20-%20Hedda/Konkurransegrunnlag/Konkurransegrunnlag%202021/Barne-,%20ungdoms-%20og%20familiedirektoratet%20-%2020.11.2021/vedlegg%206%20-%20kontraktsvilkar_for_ivaretakelse_av_grunnleggende_menneskerettigheter_i_leverandorkjeden_med_logo_2.docx?d=w8a9328e6deb44623b0c8950df1d94643&csf=1&web=1&e=HUsPbn | CB11: =IF((AK11+AL11+AO11+AP11+AS11+AT11+AU11+AW11)>=1,1,0) -> 1 | CC11: =IF((AK11+AL11+AO11+AP11+AU11+AW11+AX11+AY11)>=1,1,0) -> 1 | CD11: =IF((AM11+AN11+AQ11+AR11+AS11+AT11)>=1,1,0) -> 1 | CE11: =+CE10+1 -> 12 | CF11: {=+_xlfn.IFS(Tabell2[[#This Row],[EPD/Miljødeklarasjon - som krav, tildelingskriterium, kontraktsvilkår eller dokumentasjon]]=2,"Ja",Tabell2[[#This Row],[Bærekraftig trevirke/skogbruk - tømmerforordningen, FSC eller PEFC ]]=2,"Ja",Tabell2[[#This Row],[Krav til kvalitet / EN standarder/henvisning til Norsk møbelfakta]]=2,"Ja",Tabell2[[#This Row],[Robuste møbeltekstiler/ kvalitet på møbeltrekk]]=2,"Ja",Tabell2[[#This Row],[Design for lang levetid (Demontering, Reservedeler, produktinformasjon om montering og vedlikehold)]]=2,"Ja",Tabell2[[#This Row],[Merking av plast]]=2,"Ja",Tabell2[[#This Row],[Vask og rengjøring av møbler]]=2,"Ja",Tabell2[[#This Row],[Emballasjen skal være resirkulerbar/ gjenbrukbar (kravet om miljøvennelig emballasje)]]=2,"Ja",Tabell2[[#This Row],[Emballasje (retur- grønt punkt, gjenvinning) (kravet om gjenvinnbar emballasje)]]=2,"Ja",Tabell2[[#This Row],[Kjemikalietabellen (unngå skadelige kjemikaler)]]=2,"Ja",Tabell2[[#This Row],[Flammehemmere]]=2,"Ja",Tabell2[[#This Row],[PVC]]=2,"Ja",Tabell2[[#This Row],[Sosiale hensyn og menneske-rettigheter er inkludert]]=2,"Ja")} -> Ja
A12: 2021 | B12: 2021-386887 | C12: 44442 | D12: Bergen kommune | E12: 964338531 | F12: FOR 049-2021 Arkivreoler til Bergen byarkiv (Ny utlysning) | G12: Vestland | H12: Kommune | I12: 39131100 | J12: Ikke spesifisert | K12: Varer | L12: Ikke spesifisert | M12: 0 | N12: Ikke spesifisert | O12: 1 | P12: https://www.mercell.com/nb-no/anbud/162842408/for-049-2021-arkivreoler-til-bergen-byarkiv-ny-utlysning-anbud.aspx | Q12: adnan.birdzo@bergen.kommune.no | S12: 0 | T12: 0.4 | U12: 0.6 | V12: 0 | W12: 0 | X12: 0 | Y12: 0 | Z12: 0 | AA12: 0 | AB12: 0 | AC12: 0 | AD12: 0 | AE12: 0 | AF12: 0 | AG12: 0 | AH12: 0 | AI12: 0 | AJ12: 0 | AK12: 0 | AL12: 0 | AM12: 0 | AN12: 0 | AO12: 0 | AP12: 0 | AQ12: 0 | AR12: 0 | AS12: 0 | AT12: 0 | AU12: 0 | AV12: 2 | AW12: 0 | AX12: 0 | AY12: 0 | AZ12: 1 | BA12: 0 | BB12: 1 | BC12: 0 | BD12: 0 | BE12: 0 | BF12: 0 | BG12: 0 | BH12: 0 | BI12: 0 | BJ12: 0 | BK12: 0 | BL12: 0 | BM12: 0 | BN12: 0 | BO12: 0 | BP12: 0 | BQ12: 0 | BR12: 0 | BS12: 0 | BT12: 0 | BU12: 0 | BV12: 0 | BW12: - | CB12: =IF((AK12+AL12+AO12+AP12+AS12+AT12+AU12+AW12)>=1,1,0) -> 0 | CC12: =IF((AK12+AL12+AO12+AP12+AU12+AW12+AX12+AY12)>=1,1,0) -> 0 | CD12: =IF((AM12+AN12+AQ12+AR12+AS12+AT12)>=1,1,0) -> 0 | CE12: =+CE11+1 -> 13 | CF12: {=+_xlfn.IFS(Tabell2[[#This Row],[EPD/Miljødeklarasjon - som krav, tildelingskriterium, kontraktsvilkår eller dokumentasjon]]=2,"Ja",Tabell2[[#This Row],[Bærekraftig trevirke/skogbruk - tømmerforordningen, FSC eller PEFC ]]=2,"Ja",Tabell2[[#This Row],[Krav til kvalitet / EN standarder/henvisning til Norsk møbelfakta]]=2,"Ja",Tabell2[[#This Row],[Robuste møbeltekstiler/ kvalitet på møbeltrekk]]=2,"Ja",Tabell2[[#This Row],[Design for lang levetid (Demontering, Reservedeler, produktinformasjon om montering og vedlikehold)]]=2,"Ja",Tabell2[[#This Row],[Merking av plast]]=2,"Ja",Tabell2[[#This Row],[Vask og rengjøring av møbler]]=2,"Ja",Tabell2[[#This Row],[Emballasjen skal være resirkulerbar/ gjenbrukbar (kravet om miljøvennelig emballasje)]]=2,"Ja",Tabell2[[#This Row],[Emballasje (retur- grønt punkt, gjenvinning) (kravet om gjenvinnbar emballasje)]]=2,"Ja",Tabell2[[#This Row],[Kjemikalietabellen (unngå skadelige kjemikaler)]]=2,"Ja",Tabell2[[#This Row],[Flammehemmere]]=2,"Ja",Tabell2[[#This Row],[PVC]]=2,"Ja",Tabell2[[#This Row],[Sosiale hensyn og menneske-rettigheter er inkludert]]=2,"Ja")} -> #N/A
A13: 2021 | B13: 2021-353195 | C13: 44334 | D13: Bergen kommune - BKML stab | E13: 964338531 | F13: FOR 015-2021 Arkivreoler til Byarkivet - KANSELLERT | G13: Vestland | H13: Kommune | I13: 39131100 | J13: Ikke spesifisert | K13: Varer | L13: Kansellert | M13: 0 | N13: Ikke spesifisert | O13: 1 | P13: https://www.mercell.com/nb-no/anbud/154300504/for-015-2021-arkivreoler-til-byarkivet-anbud.aspx | Q13: adnan.birdzo@bergen.kommune.no | S13: 0 | T13: 0.4 | U13: 0.6 | V13: 0 | W13: 0 | X13: 0 | Y13: 0 | Z13: 0 | AA13: 0 | AB13: 0 | AC13: 0 | AD13: 0 | AE13: 0 | AF13: 0 | AG13: 0 | AH13: 0 | AI13: 0 | AJ13: 0 | AK13: 0 | AL13: 0 | AM13: 0 | AN13: 0 | AO13: 0 | AP13: 0 | AQ13: 0 | AR13: 0 | AS13: 0 | AT13: 0 | AU13: 0 | AV13: 2 | AW13: 0 | AX13: 0 | AY13: 0 | AZ13: 1 | BA13: 0 | BB13: 1 | BC13: 0 | BD13: 0 | BE13: 0 | BF13: 0 | BG13: 0 | BH13: 0 | BI13: 0 | BJ13: 0 | BK13: 0 | BL13: 0 | BM13: 0 | BN13: 0 | BO13: 0 | BP13: 0 | BQ13: 0 | BR13: 0 | BS13: 0 | BT13: 0 | BU13: 0 | BV13: 0 | BW13: - | CB13: =IF((AK13+AL13+AO13+AP13+AS13+AT13+AU13+AW13)>=1,1,0) -> 0 | CC13: =IF((AK13+AL13+AO13+AP13+AU13+AW13+AX13+AY13)>=1,1,0) -> 0 | CD13: =IF((AM13+AN13+AQ13+AR13+AS13+AT13)>=1,1,0) -> 0 | CE13: =+CE12+1 -> 14 | CF13: {=+_xlfn.IFS(Tabell2[[#This Row],[EPD/Miljødeklarasjon - som krav, tildelingskriterium, kontraktsvilkår eller dokumentasjon]]=2,"Ja",Tabell2[[#This Row],[Bærekraftig trevirke/skogbruk - tømmerforordningen, FSC eller PEFC ]]=2,"Ja",Tabell2[[#This Row],[Krav til kvalitet / EN standarder/henvisning til Norsk møbelfakta]]=2,"Ja",Tabell2[[#This Row],[Robuste møbeltekstiler/ kvalitet på møbeltrekk]]=2,"Ja",Tabell2[[#This Row],[Design for lang levetid (Demontering, Reservedeler, produktinformasjon om montering og vedlikehold)]]=2,"Ja",Tabell2[[#This Row],[Merking av plast]]=2,"Ja",Tabell2[[#This Row],[Vask og rengjøring av møbler]]=2,"Ja",Tabell2[[#This Row],[Emballasjen skal være resirkulerbar/ gjenbrukbar (kravet om miljøvennelig emballasje)]]=2,"Ja",Tabell2[[#This Row],[Emballasje (retur- grønt punkt, gjenvinning) (kravet om gjenvinnbar emballasje)]]=2,"Ja",Tabell2[[#This Row],[Kjemikalietabellen (unngå skadelige kjemikaler)]]=2,"Ja",Tabell2[[#This Row],[Flammehemmere]]=2,"Ja",Tabell2[[#This Row],[PVC]]=2,"Ja",Tabell2[[#This Row],[Sosiale hensyn og menneske-rettigheter er inkludert]]=2,"Ja")} -> #N/A
A14: 2021 | B14: 2021-370159 | C14: 44470 | D14: Bergen kommune - Innkjøp konsern | E14: 964338531 | F14: FOR 060-2021 Arkivreoler til Bergen byarkiv (3. utlysning) | G14: Vestland | H14: Kommune | I14: 39131100 | J14: Ikke spesifisert | K14: Varer | L14: Ikke spesifisert | M14: 0 | N14: Ikke spesifisert | O14: 1 | P14: https://www.mercell.com/nb-no/anbud/164477699/for-060-2021-arkivreoler-til-bergen-byarkiv-3-utlysning-anbud.aspx | Q14: adnan.birdzo@bergen.kommune.no | S14: 0 | T14: 0.4 | U14: 0.6 | V14: 0 | W14: 0 | X14: 0 | Y14: 0 | Z14: 0 | AA14: 0 | AB14: 0 | AC14: 0 | AD14: 0 | AE14: 0 | AF14: 0 | AG14: 0 | AH14: 0 | AI14: 0 | AJ14: 0 | AK14: 0 | AL14: 0 | AM14: 0 | AN14: 0 | AO14: 0 | AP14: 0 | AQ14: 0 | AR14: 0 | AS14: 0 | AT14: 0 | AU14: 0 | AV14: 2 | AW14: 0 | AX14: 0 | AY14: 0 | AZ14: 1 | BA14: 0 | BB14: 1 | BC14: 0 | BD14: 0 | BE14: 0 | BF14: 0 | BG14: 0 | BH14: 0 | BI14: 0 | BJ14: 0 | BK14: 0 | BL14: 0 | BM14: 0 | BN14: 0 | BO14: 0 | BP14: 0 | BQ14: 0 | BR14: 0 | BS14: 0 | BT14: 0 | BU14: 0 | BV14: 0 | BW14: - | CB14: =IF((AK14+AL14+AO14+AP14+AS14+AT14+AU14+AW14)>=1,1,0) -> 0 | CC14: =IF((AK14+AL14+AO14+AP14+AU14+AW14+AX14+AY14)>=1,1,0) -> 0 | CD14: =IF((AM14+AN14+AQ14+AR14+AS14+AT14)>=1,1,0) -> 0 | CE14: =+CE13+1 -> 15 | CF14: {=+_xlfn.IFS(Tabell2[[#This Row],[EPD/Miljødeklarasjon - som krav, tildelingskriterium, kontraktsvilkår eller dokumentasjon]]=2,"Ja",Tabell2[[#This Row],[Bærekraftig trevirke/skogbruk - tømmerforordningen, FSC eller PEFC ]]=2,"Ja",Tabell2[[#This Row],[Krav til kvalitet / EN standarder/henvisning til Norsk møbelfakta]]=2,"Ja",Tabell2[[#This Row],[Robuste møbeltekstiler/ kvalitet på møbeltrekk]]=2,"Ja",Tabell2[[#This Row],[Design for lang levetid (Demontering, Reservedeler, produktinformasjon om montering og vedlikehold)]]=2,"Ja",Tabell2[[#This Row],[Merking av plast]]=2,"Ja",Tabell2[[#This Row],[Vask og rengjøring av møbler]]=2,"Ja",Tabell2[[#This Row],[Emballasjen skal være resirkulerbar/ gjenbrukbar (kravet om miljøvennelig emballasje)]]=2,"Ja",Tabell2[[#This Row],[Emballasje (retur- grønt punkt, gjenvinning) (kravet om gjenvinnbar emballasje)]]=2,"Ja",Tabell2[[#This Row],[Kjemikalietabellen (unngå skadelige kjemikaler)]]=2,"Ja",Tabell2[[#This Row],[Flammehemmere]]=2,"Ja",Tabell2[[#This Row],[PVC]]=2,"Ja",Tabell2[[#This Row],[Sosiale hensyn og menneske-rettigheter er inkludert]]=2,"Ja")} -> #N/A
A15: 2021 | B15: 2021-331907 | C15: 44224 | D15: Forsvarets forskningsinstitutt | E15: 970963340 | F15: Rammeavtale møbler og inventar | G15: Viken | H15: Statlig virksomhet | I15: 39130000 | J15: 0 | K15: Varer | L15: Åpen anbudskonkurranse | M15: 0 | N15: 7000000 | O15: 1 | P15: https://www.mercell.com/nb-no/anbud/148112511/rammeavtale-moebler-og-inventar-anbud.aspx | Q15: havard.lund@ffi.no | S15: 0 | T15: 0.6 | U15: 0.4 | V15: 0 | W15: 0 | X15: 0 | Y15: 0 | Z15: 0 | AA15: 0 | AB15: 0 | AC15: 0 | AD15: 0 | AE15: 0 | AF15: 0 | AG15: 0 | AH15: 0 | AI15: 0 | AJ15: 0 | AK15: 0 | AL15: 0 | AM15: 0 | AN15: 0 | AO15: 0 | AP15: 0 | AQ15: 0 | AR15: 0 | AS15: 0 | AT15: 0 | AU15: 0 | AV15: - | AW15: 0 | AX15: 0 | AY15: 0 | AZ15: 0 | BA15: 0 | BB15: 0 | BC15: 0 | BD15: 0 | BE15: 0 | BF15: 0 | BG15: 0 | BH15: 0 | BI15: 0 | BJ15: 0 | BK15: 0 | BL15: 0 | BM15: 0 | BN15: 0 | BO15: 0 | BP15: 0 | BQ15: 0 | BR15: 1 | BS15: 0 | BT15: 0 | BU15: 0 | BV15: 0 | BW15: https://dirfo.sharepoint.com/:b:/r/sites/Grnneanskaffelser/Shared%20Documents/M%C3%B8bler/Statistikk%20og%20m%C3%A5ling/M%C3%A5ling%202022%20-%20Hedda/Konkurransegrunnlag/Konkurransegrunnlag%202021/Forsvarets%20Forskningsinstitutt%20-%2028.01.2021/Etisk%20egenerkl%C3%A6ring%20for%20leverand%C3%B8rer%20til%20Forsvarsdepartementet.pdf?csf=1&web=1&e=60TRpW | CB15: =IF((AK15+AL15+AO15+AP15+AS15+AT15+AU15+AW15)>=1,1,0) -> 0 | CC15: =IF((AK15+AL15+AO15+AP15+AU15+AW15+AX15+AY15)>=1,1,0) -> 0 | CD15: =IF((AM15+AN15+AQ15+AR15+AS15+AT15)>=1,1,0) -> 0 | CE15: =+CE14+1 -> 16 | CF15: {=+_xlfn.IFS(Tabell2[[#This Row],[EPD/Miljødeklarasjon - som krav, tildelingskriterium, kontraktsvilkår eller dokumentasjon]]=2,"Ja",Tabell2[[#This Row],[Bærekraftig trevirke/skogbruk - tømmerforordningen, FSC eller PEFC ]]=2,"Ja",Tabell2[[#This Row],[Krav til kvalitet / EN standarder/henvisning til Norsk møbelfakta]]=2,"Ja",Tabell2[[#This Row],[Robuste møbeltekstiler/ kvalitet på møbeltrekk]]=2,"Ja",Tabell2[[#This Row],[Design for lang levetid (Demontering, Reservedeler, produktinformasjon om montering og vedlikehold)]]=2,"Ja",Tabell2[[#This Row],[Merking av plast]]=2,"Ja",Tabell2[[#This Row],[Vask og rengjøring av møbler]]=2,"Ja",Tabell2[[#This Row],[Emballasjen skal være resirkulerbar/ gjenbrukbar (kravet om miljøvennelig emballasje)]]=2,"Ja",Tabell2[[#This Row],[Emballasje (retur- grønt punkt, gjenvinning) (kravet om gjenvinnbar emballasje)]]=2,"Ja",Tabell2[[#This Row],[Kjemikalietabellen (unngå skadelige kjemikaler)]]=2,"Ja",Tabell2[[#This Row],[Flammehemmere]]=2,"Ja",Tabell2[[#This Row],[PVC]]=2,"Ja",Tabell2[[#This Row],[Sosiale hensyn og menneske-rettigheter er inkludert]]=2,"Ja")} -> #N/A
A16: 2021 | B16: 2021-349787 | C16: 44308 | D16: Høgskulen i Volda | E16: 974809672 | F16: Rammeavtale på kontormøbler for Høgskulen i Volda | G16: Møre og Romsdal | H16: Universitet/Høyskole | I16: 39130000 | J16: 0 | K16: Varer | L16: Åpen anbudskonkurranse | M16: 0 | N16: 250000 | O16: 1 | P16: https://dirfo.sharepoint.com/:f:/r/sites/Grnneanskaffelser/Shared%20Documents/M%C3%B8bler/Statistikk%20og%20m%C3%A5ling/M%C3%A5ling%202022%20-%20Hedda/Konkurransegrunnlag/Konkurransegrunnlag%202021/H%C3%B8gskulen%20i%20Volda%20-%2022.04.2021?csf=1&web=1&e=9iqJr7 | Q16: karen.otterstad@hivolda.no | S16: 0.1 | T16: 0.5 | U16: 0.4 | V16: 1 | W16: 1 | X16: 0 | Y16: 1 | Z16: 0 | AA16: 1 | AB16: 0 | AC16: 0 | AD16: 0 | AE16: 1 | AF16: 0 | AG16: 0 | AH16: 0 | AI16: 0 | AJ16: 0 | AK16: 1 | AL16: 1 | AM16: 0 | AN16: 0 | AO16: 1 | AP16: 0 | AQ16: 0 | AR16: 0 | AS16: 0 | AT16: 0 | AU16: 0 | AV16: 5 | AW16: 1 | AX16: 0 | AY16: 0 | AZ16: 0 | BA16: 0 | BB16: 1 | BC16: 0 | BD16: 0 | BE16: 0 | BF16: 0 | BG16: 0 | BH16: 0 | BI16: 0 | BJ16: 0 | BK16: 0 | BL16: 0 | BM16: 0 | BN16: 0 | BO16: 0 | BP16: 0 | BQ16: 0 | BR16: 2 | BS16: 0 | BT16: 0 | BU16: 0 | BV16: 0 | BW16: https://dirfo.sharepoint.com/:b:/r/sites/Grnneanskaffelser/Shared%20Documents/M%C3%B8bler/Statistikk%20og%20m%C3%A5ling/M%C3%A5ling%202022%20-%20Hedda/Konkurransegrunnlag/Konkurransegrunnlag%202021/H%C3%B8gskulen%20i%20Volda%20-%2022.04.2021/Bilag%205%20-%20Etiske%20krav%20-%20Difi%20mal.pdf?csf=1&web=1&e=pCwB5E | CB16: =IF((AK16+AL16+AO16+AP16+AS16+AT16+AU16+AW16)>=1,1,0) -> 1 | CC16: =IF((AK16+AL16+AO16+AP16+AU16+AW16+AX16+AY16)>=1,1,0) -> 1 | CD16: =IF((AM16+AN16+AQ16+AR16+AS16+AT16)>=1,1,0) -> 0 | CE16: =+CE15+1 -> 17 | CF16: {=+_xlfn.IFS(Tabell2[[#This Row],[EPD/Miljødeklarasjon - som krav, tildelingskriterium, kontraktsvilkår eller dokumentasjon]]=2,"Ja",Tabell2[[#This Row],[Bærekraftig trevirke/skogbruk - tømmerforordningen, FSC eller PEFC ]]=2,"Ja",Tabell2[[#This Row],[Krav til kvalitet / EN standarder/henvisning til Norsk møbelfakta]]=2,"Ja",Tabell2[[#This Row],[Robuste møbeltekstiler/ kvalitet på møbeltrekk]]=2,"Ja",Tabell2[[#This Row],[Design for lang levetid (Demontering, Reservedeler, produktinformasjon om montering og vedlikehold)]]=2,"Ja",Tabell2[[#This Row],[Merking av plast]]=2,"Ja",Tabell2[[#This Row],[Vask og rengjøring av møbler]]=2,"Ja",Tabell2[[#This Row],[Emballasjen skal være resirkulerbar/ gjenbrukbar (kravet om miljøvennelig emballasje)]]=2,"Ja",Tabell2[[#This Row],[Emballasje (retur- grønt punkt, gjenvinning) (kravet om gjenvinnbar emballasje)]]=2,"Ja",Tabell2[[#This Row],[Kjemikalietabellen (unngå skadelige kjemikaler)]]=2,"Ja",Tabell2[[#This Row],[Flammehemmere]]=2,"Ja",Tabell2[[#This Row],[PVC]]=2,"Ja",Tabell2[[#This Row],[Sosiale hensyn og menneske-rettigheter er inkludert]]=2,"Ja")} -> Ja
A17: 2021 | B17: 2021-377352 | C17: 44362 | D17: Kinn kommune | E17: 820956532 | F17: Møbler til ny fløy Kulatoppen Omsorgssenter | G17: Vestland | H17: Kommune | I17: 39100000 | J17: 0 | K17: Varer | L17: Åpen anbudskonkurranse | M17: 0 | N17: 1300000 | O17: 1 | P17: https://eu.eu-supply.com/app/rfq/publicpurchase_docs.asp?PID=304616&LID=357449&AllowPrint=1 | Q17: tore.dammerud@kinn.kommune.no | S17: 0 | T17: 0.5 | U17: 0.5 | V17: 0 | W17: 0 | X17: 0 | Y17: 0 | Z17: 0 | AA17: 1 | AB17: 0 | AC17: 0 | AD17: 0 | AE17: 0 | AF17: 0 | AG17: 0 | AH17: 0 | AI17: 0 | AJ17: 0 | AK17: 2 | AL17: 1 | AM17: 0 | AN17: 0 | AO17: 1 | AP17: 0 | AQ17: 0 | AR17: 0 | AS17: 0 | AT17: 0 | AU17: 0 | AV17: 5 | AW17: 1 | AX17: 0 | AY17: 0 | AZ17: 0 | BA17: 0 | BB17: 1 | BC17: 0 | BD17: 0 | BE17: 0 | BF17: 0 | BG17: 0 | BH17: 0 | BI17: 0 | BJ17: 0 | BK17: 0 | BL17: 0 | BM17: 0 | BN17: 0 | BO17: 0 | BP17: 0 | BQ17: 0 | BR17: 0 | BS17: 0 | BT17: 0 | BU17: 0 | BV17: 0 | BW17: https://dirfo.sharepoint.com/:w:/r/sites/Grnneanskaffelser/Shared%20Documents/M%C3%B8bler/Statistikk%20og%20m%C3%A5ling/M%C3%A5ling%202022%20-%20Hedda/Konkurransegrunnlag/Konkurransegrunnlag%202021/Kinn%20kommune%20-%2015.06.2021/Vedlegg%203%20Utkast%20til%20Avtale.docx?d=w63729cbcba6645d292f21b32ff6789d6&csf=1&web=1&e=UlOcS3 | CB17: =IF((AK17+AL17+AO17+AP17+AS17+AT17+AU17+AW17)>=1,1,0) -> 1 | CC17: =IF((AK17+AL17+AO17+AP17+AU17+AW17+AX17+AY17)>=1,1,0) -> 1 | CD17: =IF((AM17+AN17+AQ17+AR17+AS17+AT17)>=1,1,0) -> 0 | CE17: =+CE16+1 -> 18 | CF17: {=+_xlfn.IFS(Tabell2[[#This Row],[EPD/Miljødeklarasjon - som krav, tildelingskriterium, kontraktsvilkår eller dokumentasjon]]=2,"Ja",Tabell2[[#This Row],[Bærekraftig trevirke/skogbruk - tømmerforordningen, FSC eller PEFC ]]=2,"Ja",Tabell2[[#This Row],[Krav til kvalitet / EN standarder/henvisning til Norsk møbelfakta]]=2,"Ja",Tabell2[[#This Row],[Robuste møbeltekstiler/ kvalitet på møbeltrekk]]=2,"Ja",Tabell2[[#This Row],[Design for lang levetid (Demontering, Reservedeler, produktinformasjon om montering og vedlikehold)]]=2,"Ja",Tabell2[[#This Row],[Merking av plast]]=2,"Ja",Tabell2[[#This Row],[Vask og rengjøring av møbler]]=2,"Ja",Tabell2[[#This Row],[Emballasjen skal være resirkulerbar/ gjenbrukbar (kravet om miljøvennelig emballasje)]]=2,"Ja",Tabell2[[#This Row],[Emballasje (retur- grønt punkt, gjenvinning) (kravet om gjenvinnbar emballasje)]]=2,"Ja",Tabell2[[#This Row],[Kjemikalietabellen (unngå skadelige kjemikaler)]]=2,"Ja",Tabell2[[#This Row],[Flammehemmere]]=2,"Ja",Tabell2[[#This Row],[PVC]]=2,"Ja",Tabell2[[#This Row],[Sosiale hensyn og menneske-rettigheter er inkludert]]=2,"Ja")} -> Ja
A18: 2021 | B18: 2021-339736 | C18: 44226 | D18: Kriminalomsorgsdirektoratet | E18: 911830868 | F18: Rammeavtale på Kontormøbler til Kriminalomsorgen | G18: Viken | H18: Statlig virksomhet | I18: 39130000 | J18: 0 | K18: Varer | L18: Åpen anbudskonkurranse | M18: 0 | N18: 16000000 | O18: 1 | P18: https://eu.eu-supply.com/app/rfq/publicpurchase_docs.asp?PID=292062&LID=342862&AllowPrint=1 | Q18: trond.hansen@kriminalomsorg.no | S18: 0 | T18: 0.4 | U18: 0.6 | V18: 0 | W18: 0 | X18: 0 | Y18: 0 | Z18: 0 | AA18: 1 | AB18: 0 | AC18: 0 | AD18: 0 | AE18: 0 | AF18: 0 | AG18: 0 | AH18: 0 | AI18: 0 | AJ18: 1 | AK18: 1 | AL18: 1 | AM18: 0 | AN18: 0 | AO18: 0 | AP18: 0 | AQ18: 0 | AR18: 0 | AS18: 0 | AT18: 0 | AU18: 0 | AV18: 5 | AW18: 0 | AX18: 0 | AY18: 0 | AZ18: 0 | BA18: 1 | BB18: 2 | BC18: 0 | BD18: 1 | BE18: 0 | BF18: 0 | BG18: 0 | BH18: 0 | BI18: 0 | BJ18: 1 | BK18: 0 | BL18: 0 | BM18: 0 | BN18: 1 | BO18: 0 | BP18: 0 | BQ18: 0 | BR18: 1 | BS18: 0 | BT18: 1 | BU18: 0 | BV18: 0 | BW18: https://dirfo.sharepoint.com/:w:/r/sites/Grnneanskaffelser/Shared%20Documents/M%C3%B8bler/Statistikk%20og%20m%C3%A5ling/M%C3%A5ling%202022%20-%20Hedda/Konkurransegrunnlag/Konkurransegrunnlag%202021/Kriminalomsorgsdirektoratet%20-%2030.01.2021/Vedlegg%201-%20Rammeavtale%20kontorm%C3%B8bler.doc?d=w81b47d6528c545b292fbe9d7c818bd39&csf=1&web=1&e=lPV0yF | CB18: =IF((AK18+AL18+AO18+AP18+AS18+AT18+AU18+AW18)>=1,1,0) -> 1 | CC18: =IF((AK18+AL18+AO18+AP18+AU18+AW18+AX18+AY18)>=1,1,0) -> 1 | CD18: =IF((AM18+AN18+AQ18+AR18+AS18+AT18)>=1,1,0) -> 0 | CE18: =+CE17+1 -> 19 | CF18: {=+_xlfn.IFS(Tabell2[[#This Row],[EPD/Miljødeklarasjon - som krav, tildelingskriterium, kontraktsvilkår eller dokumentasjon]]=2,"Ja",Tabell2[[#This Row],[Bærekraftig trevirke/skogbruk - tømmerforordningen, FSC eller PEFC ]]=2,"Ja",Tabell2[[#This Row],[Krav til kvalitet / EN standarder/henvisning til Norsk møbelfakta]]=2,"Ja",Tabell2[[#This Row],[Robuste møbeltekstiler/ kvalitet på møbeltrekk]]=2,"Ja",Tabell2[[#This Row],[Design for lang levetid (Demontering, Reservedeler, produktinformasjon om montering og vedlikehold)]]=2,"Ja",Tabell2[[#This Row],[Merking av plast]]=2,"Ja",Tabell2[[#This Row],[Vask og rengjøring av møbler]]=2,"Ja",Tabell2[[#This Row],[Emballasjen skal være resirkulerbar/ gjenbrukbar (kravet om miljøvennelig emballasje)]]=2,"Ja",Tabell2[[#This Row],[Emballasje (retur- grønt punkt, gjenvinning) (kravet om gjenvinnbar emballasje)]]=2,"Ja",Tabell2[[#This Row],[Kjemikalietabellen (unngå skadelige kjemikaler)]]=2,"Ja",Tabell2[[#This Row],[Flammehemmere]]=2,"Ja",Tabell2[[#This Row],[PVC]]=2,"Ja",Tabell2[[#This Row],[Sosiale hensyn og menneske-rettigheter er inkludert]]=2,"Ja")} -> Ja
A19: 2021 | B19: 2021-339118 | C19: 44514 | D19: Kristiansand Kommune | E19: 820852982 | F19: Rammeavtale: Kjøp av møbler og inventar til kontor og sosiale soner | G19: Agder | H19: Kommune | I19: 39100000 | J19: 0 | K19: Varer | L19: Åpen anbudskonkurranse | M19: 0 | N19: 40000000 | O19: 1 | P19: https://www.mercell.com/nb-no/anbud/167159464/rammeavtale-kjoep-av-moebler-og-inventar-til-kontor-og-sosiale-soner-anbud.aspx | Q19: frida.johannessen@kristiansand.kommune.no | S19: 0 | T19: 0.7 | U19: 0.3 | V19: 0 | W19: 0 | X19: 0 | Y19: 0 | Z19: 0 | AA19: 1 | AB19: 0 | AC19: 0 | AD19: 0 | AE19: 0 | AF19: 0 | AG19: 0 | AH19: 0 | AI19: 0 | AJ19: 2 | AK19: 2 | AL19: 2 | AM19: 0 | AN19: 0 | AO19: 2 | AP19: 0 | AQ19: 0 | AR19: 0 | AS19: 0 | AT19: 0 | AU19: 0 | AV19: 5 | AW19: 2 | AX19: 0 | AY19: 0 | AZ19: 1 | BA19: 2 | BB19: 2 | BC19: 2 | BD19: 1 | BE19: 1 | BF19: 1 | BG19: 1 | BH19: 1 | BI19: 1 | BJ19: 2 | BK19: 2 | BL19: 0 | BM19: 1 | BN19: 1 | BO19: 1 | BP19: 1 | BQ19: 0 | BR19: 1 | BS19: 0 | BT19: 1 | BU19: 0 | BV19: 0 | BW19: https://dirfo.sharepoint.com/:w:/r/sites/Grnneanskaffelser/Shared%20Documents/M%C3%B8bler/Statistikk%20og%20m%C3%A5ling/M%C3%A5ling%202022%20-%20Hedda/Konkurransegrunnlag/Konkurransegrunnlag%202021/Kristiansand%20Kommune%20(m%C3%B8bler%20og%20inventar%20til%20kontor%20og%20sosiale%20soner)%20-%2014.11.2021/Vedlegg%204%20-%20Avtaledokument.docx?d=wf9d43df2d4c34f5aaeff858cde9d8c3d&csf=1&web=1&e=pDwYsq | CB19: =IF((AK19+AL19+AO19+AP19+AS19+AT19+AU19+AW19)>=1,1,0) -> 1 | CC19: =IF((AK19+AL19+AO19+AP19+AU19+AW19+AX19+AY19)>=1,1,0) -> 1 | CD19: =IF((AM19+AN19+AQ19+AR19+AS19+AT19)>=1,1,0) -> 0 | CE19: =+CE18+1 -> 20 | CF19: {=+_xlfn.IFS(Tabell2[[#This Row],[EPD/Miljødeklarasjon - som krav, tildelingskriterium, kontraktsvilkår eller dokumentasjon]]=2,"Ja",Tabell2[[#This Row],[Bærekraftig trevirke/skogbruk - tømmerforordningen, FSC eller PEFC ]]=2,"Ja",Tabell2[[#This Row],[Krav til kvalitet / EN standarder/henvisning til Norsk møbelfakta]]=2,"Ja",Tabell2[[#This Row],[Robuste møbeltekstiler/ kvalitet på møbeltrekk]]=2,"Ja",Tabell2[[#This Row],[Design for lang levetid (Demontering, Reservedeler, produktinformasjon om montering og vedlikehold)]]=2,"Ja",Tabell2[[#This Row],[Merking av plast]]=2,"Ja",Tabell2[[#This Row],[Vask og rengjøring av møbler]]=2,"Ja",Tabell2[[#This Row],[Emballasjen skal være resirkulerbar/ gjenbrukbar (kravet om miljøvennelig emballasje)]]=2,"Ja",Tabell2[[#This Row],[Emballasje (retur- grønt punkt, gjenvinning) (kravet om gjenvinnbar emballasje)]]=2,"Ja",Tabell2[[#This Row],[Kjemikalietabellen (unngå skadelige kjemikaler)]]=2,"Ja",Tabell2[[#This Row],[Flammehemmere]]=2,"Ja",Tabell2[[#This Row],[PVC]]=2,"Ja",Tabell2[[#This Row],[Sosiale hensyn og menneske-rettigheter er inkludert]]=2,"Ja")} -> Ja
A20: 2021 | B20: 2021-307637 | C20: 44514 | D20: Kristiansand Kommune | E20: 820852982 | F20: Rammeavtale: Kjøp av møbler og inventar til institusjon | G20: Agder | H20: Kommune | I20: 39100000 | J20: 0 | K20: Varer | L20: Åpen anbudskonkurranse | M20: 0 | N20: 9000000 | O20: 1 | P20: https://www.mercell.com/nb-no/anbud/167169876/rammeavtale-kjoep-av-moebler-og-inventar-til-institusjon-anbud.aspx | Q20: frida.johannessen@kristiansand.kommune.no | S20: 0 | T20: 0.7 | U20: 0.3 | V20: 0 | W20: 0 | X20: 0 | Y20: 0 | Z20: 0 | AA20: 1 | AB20: 0 | AC20: 0 | AD20: 0 | AE20: 0 | AF20: 0 | AG20: 0 | AH20: 0 | AI20: 0 | AJ20: 2 | AK20: 2 | AL20: 2 | AM20: 0 | AN20: 0 | AO20: 2 | AP20: 0 | AQ20: 0 | AR20: 0 | AS20: 0 | AT20: 0 | AU20: 0 | AV20: 5 | AW20: 2 | AX20: 0 | AY20: 0 | AZ20: 1 | BA20: 2 | BB20: 2 | BC20: 2 | BD20: 1 | BE20: 1 | BF20: 1 | BG20: 1 | BH20: 1 | BI20: 1 | BJ20: 2 | BK20: 2 | BL20: 0 | BM20: 1 | BN20: 1 | BO20: 1 | BP20: 1 | BQ20: 0 | BR20: 1 | BS20: 0 | BT20: 1 | BU20: 0 | BV20: 0 | BW20: https://dirfo.sharepoint.com/:w:/r/sites/Grnneanskaffelser/Shared%20Documents/M%C3%B8bler/Statistikk%20og%20m%C3%A5ling/M%C3%A5ling%202022%20-%20Hedda/Konkurransegrunnlag/Konkurransegrunnlag%202021/Kristiansand%20Kommune%20(m%C3%B8bler%20og%20inventar%20til%20institusjon)%20-%2014.11.2021/Vedlegg%204%20-%20Avtaledokument.docx?d=w24655035395846fcb323f5286d61ec1a&csf=1&web=1&e=9HpiIE | CB20: =IF((AK20+AL20+AO20+AP20+AS20+AT20+AU20+AW20)>=1,1,0) -> 1 | CC20: =IF((AK20+AL20+AO20+AP20+AU20+AW20+AX20+AY20)>=1,1,0) -> 1 | CD20: =IF((AM20+AN20+AQ20+AR20+AS20+AT20)>=1,1,0) -> 0 | CE20: =+CE19+1 -> 21 | CF20: {=+_xlfn.IFS(Tabell2[[#This Row],[EPD/Miljødeklarasjon - som krav, tildelingskriterium, kontraktsvilkår eller dokumentasjon]]=2,"Ja",Tabell2[[#This Row],[Bærekraftig trevirke/skogbruk - tømmerforordningen, FSC eller PEFC ]]=2,"Ja",Tabell2[[#This Row],[Krav til kvalitet / EN standarder/henvisning til Norsk møbelfakta]]=2,"Ja",Tabell2[[#This Row],[Robuste møbeltekstiler/ kvalitet på møbeltrekk]]=2,"Ja",Tabell2[[#This Row],[Design for lang levetid (Demontering, Reservedeler, produktinformasjon om montering og vedlikehold)]]=2,"Ja",Tabell2[[#This Row],[Merking av plast]]=2,"Ja",Tabell2[[#This Row],[Vask og rengjøring av møbler]]=2,"Ja",Tabell2[[#This Row],[Emballasjen skal være resirkulerbar/ gjenbrukbar (kravet om miljøvennelig emballasje)]]=2,"Ja",Tabell2[[#This Row],[Emballasje (retur- grønt punkt, gjenvinning) (kravet om gjenvinnbar emballasje)]]=2,"Ja",Tabell2[[#This Row],[Kjemikalietabellen (unngå skadelige kjemikaler)]]=2,"Ja",Tabell2[[#This Row],[Flammehemmere]]=2,"Ja",Tabell2[[#This Row],[PVC]]=2,"Ja",Tabell2[[#This Row],[Sosiale hensyn og menneske-rettigheter er inkludert]]=2,"Ja")} -> Ja
A21: 2021 | B21: 2021-371437 | C21: 44514 | D21: Kristiansand Kommune | E21: 820852982 | F21: Rammeavtale: Kjøp av Møbler og inventar til barnehage | G21: Agder | H21: Kommune | I21: 39161000 | J21: 0 | K21: Varer | L21: Åpen anbudskonkurranse | M21: 0 | N21: 6000000 | O21: 1 | P21: https://www.mercell.com/nb-no/anbud/166082578/rammeavtale-kjoep-av-moebler-og-inventar-til-barnehage-anbud.aspx | Q21: frida.johannessen@kristiansand.kommune.no | S21: 0 | T21: 0.7 | U21: 0.3 | V21: 0 | W21: 0 | X21: 0 | Y21: 0 | Z21: 0 | AA21: 1 | AB21: 0 | AC21: 0 | AD21: 0 | AE21: 0 | AF21: 0 | AG21: 0 | AH21: 0 | AI21: 0 | AJ21: 2 | AK21: 2 | AL21: 2 | AM21: 0 | AN21: 0 | AO21: 2 | AP21: 0 | AQ21: 0 | AR21: 0 | AS21: 0 | AT21: 0 | AU21: 0 | AV21: 5 | AW21: 2 | AX21: 0 | AY21: 0 | AZ21: 1 | BA21: 2 | BB21: 2 | BC21: 2 | BD21: 1 | BE21: 1 | BF21: 1 | BG21: 1 | BH21: 1 | BI21: 1 | BJ21: 2 | BK21: 2 | BL21: 0 | BM21: 1 | BN21: 1 | BO21: 1 | BP21: 1 | BQ21: 0 | BR21: 1 | BS21: 0 | BT21: 1 | BU21: 0 | BV21: 0 | BW21: https://dirfo.sharepoint.com/:w:/r/sites/Grnneanskaffelser/Shared%20Documents/M%C3%B8bler/Statistikk%20og%20m%C3%A5ling/M%C3%A5ling%202022%20-%20Hedda/Konkurransegrunnlag/Konkurransegrunnlag%202021/Kristiansand%20Kommune%20(m%C3%B8bler%20og%20inventar%20til%20barnehage)%20-%2014.11.2021/Vedlegg%204%20-%20Avtaledokument.docx?d=wd0feab7f5d9f48a3872e5e065f92dd98&csf=1&web=1&e=jMTktF | CB21: =IF((AK21+AL21+AO21+AP21+AS21+AT21+AU21+AW21)>=1,1,0) -> 1 | CC21: =IF((AK21+AL21+AO21+AP21+AU21+AW21+AX21+AY21)>=1,1,0) -> 1 | CD21: =IF((AM21+AN21+AQ21+AR21+AS21+AT21)>=1,1,0) -> 0 | CE21: =+CE20+1 -> 22 | CF21: {=+_xlfn.IFS(Tabell2[[#This Row],[EPD/Miljødeklarasjon - som krav, tildelingskriterium, kontraktsvilkår eller dokumentasjon]]=2,"Ja",Tabell2[[#This Row],[Bærekraftig trevirke/skogbruk - tømmerforordningen, FSC eller PEFC ]]=2,"Ja",Tabell2[[#This Row],[Krav til kvalitet / EN standarder/henvisning til Norsk møbelfakta]]=2,"Ja",Tabell2[[#This Row],[Robuste møbeltekstiler/ kvalitet på møbeltrekk]]=2,"Ja",Tabell2[[#This Row],[Design for lang levetid (Demontering, Reservedeler, produktinformasjon om montering og vedlikehold)]]=2,"Ja",Tabell2[[#This Row],[Merking av plast]]=2,"Ja",Tabell2[[#This Row],[Vask og rengjøring av møbler]]=2,"Ja",Tabell2[[#This Row],[Emballasjen skal være resirkulerbar/ gjenbrukbar (kravet om miljøvennelig emballasje)]]=2,"Ja",Tabell2[[#This Row],[Emballasje (retur- grønt punkt, gjenvinning) (kravet om gjenvinnbar emballasje)]]=2,"Ja",Tabell2[[#This Row],[Kjemikalietabellen (unngå skadelige kjemikaler)]]=2,"Ja",Tabell2[[#This Row],[Flammehemmere]]=2,"Ja",Tabell2[[#This Row],[PVC]]=2,"Ja",Tabell2[[#This Row],[Sosiale hensyn og menneske-rettigheter er inkludert]]=2,"Ja")} -> Ja
A22: 2021 | B22: 2021-306501 | C22: 44521 | D22: Nasjonalbiblioteket | E22: 976029100 | F22: Hengemapper | G22: Nordland | H22: Statlig virksomhet | I22: 39132300 | J22: 0 | K22: Varer | L22: Åpen anbudskonkurranse | M22: 0 | N22: 10000000 | O22: 1 | P22: https://www.mercell.com/nb-no/anbud/166869062/hengemapper-anbud.aspx | Q22: snorre.strandrud@nb.no | S22: 0 | T22: 1 | U22: 0 | V22: 0 | W22: 0 | X22: 0 | Y22: 0 | Z22: 0 | AA22: 0 | AB22: 0 | AC22: 0 | AD22: 0 | AE22: 0 | AF22: 0 | AG22: 0 | AH22: 0 | AI22: 0 | AJ22: 0 | AK22: 0 | AL22: 0 | AM22: 0 | AN22: 0 | AO22: 0 | AP22: 0 | AQ22: 0 | AR22: 0 | AS22: 0 | AT22: 0 | AU22: 0 | AV22: - | AW22: 0 | AX22: 0 | AY22: 0 | AZ22: 0 | BA22: 0 | BB22: 0 | BC22: 0 | BD22: 0 | BE22: 0 | BF22: 0 | BG22: 0 | BH22: 0 | BI22: 0 | BJ22: 0 | BK22: 0 | BL22: 0 | BM22: 0 | BN22: 0 | BO22: 0 | BP22: 0 | BQ22: 0 | BR22: 0 | BS22: 0 | BT22: 0 | BU22: 0 | BV22: 0 | BW22: - | CB22: =IF((AK22+AL22+AO22+AP22+AS22+AT22+AU22+AW22)>=1,1,0) -> 0 | CC22: =IF((AK22+AL22+AO22+AP22+AU22+AW22+AX22+AY22)>=1,1,0) -> 0 | CD22: =IF((AM22+AN22+AQ22+AR22+AS22+AT22)>=1,1,0) -> 0 | CE22: =+CE21+1 -> 23 | CF22: {=+_xlfn.IFS(Tabell2[[#This Row],[EPD/Miljødeklarasjon - som krav, tildelingskriterium, kontraktsvilkår eller dokumentasjon]]=2,"Ja",Tabell2[[#This Row],[Bærekraftig trevirke/skogbruk - tømmerforordningen, FSC eller PEFC ]]=2,"Ja",Tabell2[[#This Row],[Krav til kvalitet / EN standarder/henvisning til Norsk møbelfakta]]=2,"Ja",Tabell2[[#This Row],[Robuste møbeltekstiler/ kvalitet på møbeltrekk]]=2,"Ja",Tabell2[[#This Row],[Design for lang levetid (Demontering, Reservedeler, produktinformasjon om montering og vedlikehold)]]=2,"Ja",Tabell2[[#This Row],[Merking av plast]]=2,"Ja",Tabell2[[#This Row],[Vask og rengjøring av møbler]]=2,"Ja",Tabell2[[#This Row],[Emballasjen skal være resirkulerbar/ gjenbrukbar (kravet om miljøvennelig emballasje)]]=2,"Ja",Tabell2[[#This Row],[Emballasje (retur- grønt punkt, gjenvinning) (kravet om gjenvinnbar emballasje)]]=2,"Ja",Tabell2[[#This Row],[Kjemikalietabellen (unngå skadelige kjemikaler)]]=2,"Ja",Tabell2[[#This Row],[Flammehemmere]]=2,"Ja",Tabell2[[#This Row],[PVC]]=2,"Ja",Tabell2[[#This Row],[Sosiale hensyn og menneske-rettigheter er inkludert]]=2,"Ja")} -> #N/A
A23: 2021 | B23: 2021-347280 | C23: 44232 | D23: Nord-Troms kommunene innkjøpstjeneste | E23: 941812716 | F23: Møbler og inventar Høgegga barnehage | G23: Troms og Finnmark | H23: Kommune | I23: 39130000 | J23: Ikke spesifisert | K23: Varer | L23: Åpen anbudskonkurranse | M23: 0 | N23: Ikke spesifisert | O23: 1 | P23: https://eu.eu-supply.com/app/rfq/publicpurchase_docs.asp?PID=292704&LID=343621&AllowPrint=1 | Q23: olaf.nilsen@nordreisa.kommune.no | S23: 0 | T23: 1 | U23: 0 | V23: 0 | W23: 0 | X23: 0 | Y23: 0 | Z23: 0 | AA23: 1 | AB23: 0 | AC23: 0 | AD23: 0 | AE23: 0 | AF23: 0 | AG23: 0 | AH23: 0 | AI23: 0 | AJ23: 0 | AK23: 0 | AL23: 1 | AM23: 0 | AN23: 0 | AO23: 1 | AP23: 0 | AQ23: 0 | AR23: 0 | AS23: 0 | AT23: 0 | AU23: 0 | AV23: 5 | AW23: 1 | AX23: 0 | AY23: 0 | AZ23: 0 | BA23: 0 | BB23: 1 | BC23: 0 | BD23: 0 | BE23: 0 | BF23: 0 | BG23: 0 | BH23: 0 | BI23: 0 | BJ23: 0 | BK23: 0 | BL23: 0 | BM23: 0 | BN23: 0 | BO23: 0 | BP23: 0 | BQ23: 0 | BR23: 0 | BS23: 0 | BT23: 0 | BU23: 0 | BV23: 0 | BW23: - | CB23: =IF((AK23+AL23+AO23+AP23+AS23+AT23+AU23+AW23)>=1,1,0) -> 1 | CC23: =IF((AK23+AL23+AO23+AP23+AU23+AW23+AX23+AY23)>=1,1,0) -> 1 | CD23: =IF((AM23+AN23+AQ23+AR23+AS23+AT23)>=1,1,0) -> 0 | CE23: =+CE22+1 -> 24 | CF23: {=+_xlfn.IFS(Tabell2[[#This Row],[EPD/Miljødeklarasjon - som krav, tildelingskriterium, kontraktsvilkår eller dokumentasjon]]=2,"Ja",Tabell2[[#This Row],[Bærekraftig trevirke/skogbruk - tømmerforordningen, FSC eller PEFC ]]=2,"Ja",Tabell2[[#This Row],[Krav til kvalitet / EN standarder/henvisning til Norsk møbelfakta]]=2,"Ja",Tabell2[[#This Row],[Robuste møbeltekstiler/ kvalitet på møbeltrekk]]=2,"Ja",Tabell2[[#This Row],[Design for lang levetid (Demontering, Reservedeler, produktinformasjon om montering og vedlikehold)]]=2,"Ja",Tabell2[[#This Row],[Merking av plast]]=2,"Ja",Tabell2[[#This Row],[Vask og rengjøring av møbler]]=2,"Ja",Tabell2[[#This Row],[Emballasjen skal være resirkulerbar/ gjenbrukbar (kravet om miljøvennelig emballasje)]]=2,"Ja",Tabell2[[#This Row],[Emballasje (retur- grønt punkt, gjenvinning) (kravet om gjenvinnbar emballasje)]]=2,"Ja",Tabell2[[#This Row],[Kjemikalietabellen (unngå skadelige kjemikaler)]]=2,"Ja",Tabell2[[#This Row],[Flammehemmere]]=2,"Ja",Tabell2[[#This Row],[PVC]]=2,"Ja",Tabell2[[#This Row],[Sosiale hensyn og menneske-rettigheter er inkludert]]=2,"Ja")} -> #N/A
A24: 2021 | B24: 2021-303478 | C24: 44336 | D24: Norsk Helsenett SF | E24: 994598759 | F24: Møbler til etablering av lokasjon på Tynset - eHelse | G24: Innlandet | H24: Statlig virksomhet | I24: 39130000 | J24: Ikke spesifisert | K24: Varer | L24: Ikke spesifisert | M24: 0 | N24: 560000 | O24: 1 | P24: https://www.mercell.com/nb-no/anbud/156186398/moebler-til-etablering-av-lokasjon-paa-tynset---ehelse-anbud.aspx | Q24: anskaffelser@nhn.no | S24: 0 | T24: 0.4 | U24: 0.6 | V24: 0 | W24: 0 | X24: 0 | Y24: 0 | Z24: 0 | AA24: 1 | AB24: 0 | AC24: 0 | AD24: 0 | AE24: 0 | AF24: 0 | AG24: 0 | AH24: 0 | AI24: 0 | AJ24: 0 | AK24: 1 | AL24: 1 | AM24: 0 | AN24: 0 | AO24: 0 | AP24: 0 | AQ24: 0 | AR24: 0 | AS24: 0 | AT24: 0 | AU24: 0 | AV24: 2 | AW24: 0 | AX24: 0 | AY24: 0 | AZ24: 0 | BA24: 0 | BB24: 0 | BC24: 0 | BD24: 0 | BE24: 0 | BF24: 0 | BG24: 0 | BH24: 0 | BI24: 0 | BJ24: 0 | BK24: 0 | BL24: 0 | BM24: 0 | BN24: 0 | BO24: 0 | BP24: 0 | BQ24: 0 | BR24: 1 | BS24: 0 | BT24: 1 | BU24: 0 | BV24: 0 | BW24: https://dirfo.sharepoint.com/:w:/r/sites/Grnneanskaffelser/Shared%20Documents/M%C3%B8bler/Statistikk%20og%20m%C3%A5ling/M%C3%A5ling%202022%20-%20Hedda/Konkurransegrunnlag/Konkurransegrunnlag%202021/Norsk%20Helsenett%20SF%20-%2020.05.2021/21-01279%20Alminnelige%20kontraktsvilk%C3%A5r%20for%20varekj%C3%B8p.docx?d=wc20a4524699f4110b4719cbe4cc7c8fd&csf=1&web=1&e=EdBthh | CB24: =IF((AK24+AL24+AO24+AP24+AS24+AT24+AU24+AW24)>=1,1,0) -> 1 | CC24: =IF((AK24+AL24+AO24+AP24+AU24+AW24+AX24+AY24)>=1,1,0) -> 1 | CD24: =IF((AM24+AN24+AQ24+AR24+AS24+AT24)>=1,1,0) -> 0 | CE24: =+CE23+1 -> 25 | CF24: {=+_xlfn.IFS(Tabell2[[#This Row],[EPD/Miljødeklarasjon - som krav, tildelingskriterium, kontraktsvilkår eller dokumentasjon]]=2,"Ja",Tabell2[[#This Row],[Bærekraftig trevirke/skogbruk - tømmerforordningen, FSC eller PEFC ]]=2,"Ja",Tabell2[[#This Row],[Krav til kvalitet / EN standarder/henvisning til Norsk møbelfakta]]=2,"Ja",Tabell2[[#This Row],[Robuste møbeltekstiler/ kvalitet på møbeltrekk]]=2,"Ja",Tabell2[[#This Row],[Design for lang levetid (Demontering, Reservedeler, produktinformasjon om montering og vedlikehold)]]=2,"Ja",Tabell2[[#This Row],[Merking av plast]]=2,"Ja",Tabell2[[#This Row],[Vask og rengjøring av møbler]]=2,"Ja",Tabell2[[#This Row],[Emballasjen skal være resirkulerbar/ gjenbrukbar (kravet om miljøvennelig emballasje)]]=2,"Ja",Tabell2[[#This Row],[Emballasje (retur- grønt punkt, gjenvinning) (kravet om gjenvinnbar emballasje)]]=2,"Ja",Tabell2[[#This Row],[Kjemikalietabellen (unngå skadelige kjemikaler)]]=2,"Ja",Tabell2[[#This Row],[Flammehemmere]]=2,"Ja",Tabell2[[#This Row],[PVC]]=2,"Ja",Tabell2[[#This Row],[Sosiale hensyn og menneske-rettigheter er inkludert]]=2,"Ja")} -> #N/A
A25: 2021 | B25: 2021-394166 | C25: 44267 | D25: OsloMet - storbyuniversitetet | E25: 997058925 | F25: Møbler | G25: Oslo | H25: Universitet/Høyskole | I25: 39100000 | J25: 0 | K25: Varer | L25: Åpen anbudskonkurranse | M25: 0 | N25: 26000000 | O25: 1 | P25: https://dirfo.sharepoint.com/:f:/r/sites/Grnneanskaffelser/Shared%20Documents/M%C3%B8bler/Statistikk%20og%20m%C3%A5ling/M%C3%A5ling%202022%20-%20Hedda/Konkurransegrunnlag/Konkurransegrunnlag%202021/OsloMet%20-%20storbyuniversitetet%20-%2012.03.2021?csf=1&web=1&e=EGSEp2 | Q25: anmaritr@oslomet.no | S25: 0 | T25: 0.4 | U25: 0.6 | V25: 0 | W25: 0 | X25: 0 | Y25: 0 | Z25: 0 | AA25: 1 | AB25: 0 | AC25: 0 | AD25: 0 | AE25: 0 | AF25: 0 | AG25: 0 | AH25: 0 | AI25: 0 | AJ25: 1 | AK25: 1 | AL25: 1 | AM25: 0 | AN25: 0 | AO25: 0 | AP25: 0 | AQ25: 0 | AR25: 0 | AS25: 0 | AT25: 0 | AU25: 0 | AV25: 5 | AW25: 0 | AX25: 0 | AY25: 0 | AZ25: 1 | BA25: 0 | BB25: 2 | BC25: 0 | BD25: 1 | BE25: 1 | BF25: 1 | BG25: 1 | BH25: 1 | BI25: 1 | BJ25: 1 | BK25: 0 | BL25: 0 | BM25: 0 | BN25: 1 | BO25: 0 | BP25: 0 | BQ25: 0 | BR25: 2 | BS25: 0 | BT25: 1 | BU25: 0 | BV25: 0 | BW25: https://dirfo.sharepoint.com/:w:/r/sites/Grnneanskaffelser/Shared%20Documents/M%C3%B8bler/Statistikk%20og%20m%C3%A5ling/M%C3%A5ling%202022%20-%20Hedda/Konkurransegrunnlag/Konkurransegrunnlag%202021/OsloMet%20-%20storbyuniversitetet%20-%2012.03.2021/Vedlegg%208%20Kontrakt%20varekj%C3%B8p%2020-04151.docx?d=w30364bdea8024fadaa0ea7a68a7ba689&csf=1&web=1&e=LQIFT2 | CB25: =IF((AK25+AL25+AO25+AP25+AS25+AT25+AU25+AW25)>=1,1,0) -> 1 | CC25: =IF((AK25+AL25+AO25+AP25+AU25+AW25+AX25+AY25)>=1,1,0) -> 1 | CD25: =IF((AM25+AN25+AQ25+AR25+AS25+AT25)>=1,1,0) -> 0 | CE25: =+CE24+1 -> 26 | CF25: {=+_xlfn.IFS(Tabell2[[#This Row],[EPD/Miljødeklarasjon - som krav, tildelingskriterium, kontraktsvilkår eller dokumentasjon]]=2,"Ja",Tabell2[[#This Row],[Bærekraftig trevirke/skogbruk - tømmerforordningen, FSC eller PEFC ]]=2,"Ja",Tabell2[[#This Row],[Krav til kvalitet / EN standarder/henvisning til Norsk møbelfakta]]=2,"Ja",Tabell2[[#This Row],[Robuste møbeltekstiler/ kvalitet på møbeltrekk]]=2,"Ja",Tabell2[[#This Row],[Design for lang levetid (Demontering, Reservedeler, produktinformasjon om montering og vedlikehold)]]=2,"Ja",Tabell2[[#This Row],[Merking av plast]]=2,"Ja",Tabell2[[#This Row],[Vask og rengjøring av møbler]]=2,"Ja",Tabell2[[#This Row],[Emballasjen skal være resirkulerbar/ gjenbrukbar (kravet om miljøvennelig emballasje)]]=2,"Ja",Tabell2[[#This Row],[Emballasje (retur- grønt punkt, gjenvinning) (kravet om gjenvinnbar emballasje)]]=2,"Ja",Tabell2[[#This Row],[Kjemikalietabellen (unngå skadelige kjemikaler)]]=2,"Ja",Tabell2[[#This Row],[Flammehemmere]]=2,"Ja",Tabell2[[#This Row],[PVC]]=2,"Ja",Tabell2[[#This Row],[Sosiale hensyn og menneske-rettigheter er inkludert]]=2,"Ja")} -> Ja
A26: 2021 | B26: 2021-356521 | C26: 44534 | D26: Rana Kommune | E26: 872418032 | F26: Løst inventar Båsmo barneskole | G26: Nordland | H26: Kommune | I26: 39100000 | J26: Ikke spesifisert | K26: Varer | L26: Åpen anbudskonkurranse | M26: 0 | N26: 2100000 | O26: 1 | P26: https://www.mercell.com/nb-no/anbud/168515819/loest-inventar-baasmo-barneskole-anbud.aspx | Q26: jakob.dreyer@rana.kommune.no | S26: 0.3 | T26: 0.7 | U26: 0 | V26: 0 | W26: 0 | X26: 0 | Y26: 0 | Z26: 0 | AA26: 1 | AB26: 0 | AC26: 1 | AD26: 0 | AE26: 0 | AF26: 0 | AG26: 0 | AH26: 0 | AI26: 0 | AJ26: 0 | AK26: 0 | AL26: 1 | AM26: 0 | AN26: 0 | AO26: 2 | AP26: 0 | AQ26: 0 | AR26: 0 | AS26: 0 | AT26: 0 | AU26: 0 | AV26: 5 | AW26: 2 | AX26: 0 | AY26: 0 | AZ26: 0 | BA26: 0 | BB26: 1 | BC26: 0 | BD26: 1 | BE26: 0 | BF26: 0 | BG26: 0 | BH26: 0 | BI26: 0 | BJ26: 1 | BK26: 1 | BL26: 0 | BM26: 0 | BN26: 0 | BO26: 0 | BP26: 0 | BQ26: 0 | BR26: 0 | BS26: 0 | BT26: 0 | BU26: 0 | BV26: 0 | BW26: - | CB26: =IF((AK26+AL26+AO26+AP26+AS26+AT26+AU26+AW26)>=1,1,0) -> 1 | CC26: =IF((AK26+AL26+AO26+AP26+AU26+AW26+AX26+AY26)>=1,1,0) -> 1 | CD26: =IF((AM26+AN26+AQ26+AR26+AS26+AT26)>=1,1,0) -> 0 | CE26: =+CE25+1 -> 27 | CF26: {=+_xlfn.IFS(Tabell2[[#This Row],[EPD/Miljødeklarasjon - som krav, tildelingskriterium, kontraktsvilkår eller dokumentasjon]]=2,"Ja",Tabell2[[#This Row],[Bærekraftig trevirke/skogbruk - tømmerforordningen, FSC eller PEFC ]]=2,"Ja",Tabell2[[#This Row],[Krav til kvalitet / EN standarder/henvisning til Norsk møbelfakta]]=2,"Ja",Tabell2[[#This Row],[Robuste møbeltekstiler/ kvalitet på møbeltrekk]]=2,"Ja",Tabell2[[#This Row],[Design for lang levetid (Demontering, Reservedeler, produktinformasjon om montering og vedlikehold)]]=2,"Ja",Tabell2[[#This Row],[Merking av plast]]=2,"Ja",Tabell2[[#This Row],[Vask og rengjøring av møbler]]=2,"Ja",Tabell2[[#This Row],[Emballasjen skal være resirkulerbar/ gjenbrukbar (kravet om miljøvennelig emballasje)]]=2,"Ja",Tabell2[[#This Row],[Emballasje (retur- grønt punkt, gjenvinning) (kravet om gjenvinnbar emballasje)]]=2,"Ja",Tabell2[[#This Row],[Kjemikalietabellen (unngå skadelige kjemikaler)]]=2,"Ja",Tabell2[[#This Row],[Flammehemmere]]=2,"Ja",Tabell2[[#This Row],[PVC]]=2,"Ja",Tabell2[[#This Row],[Sosiale hensyn og menneske-rettigheter er inkludert]]=2,"Ja")} -> Ja
A27: 2021 | B27: 2021-374605 | C27: 44349 | D27: Sjøfartsdirektoratet | E27: 974761262 | F27: Rammeavtale for kjøp av møbler | G27: Rogaland | H27: Statlig virksomhet | I27: 39130000 | J27: 0 | K27: Varer | L27: Åpen anbudskonkurranse | M27: 0 | N27: 500000 | O27: 1 | P27: https://eu.eu-supply.com/app/rfq/publicpurchase_docs.asp?PID=302828&LID=355286&AllowPrint=1 | Q27: toe@sdir.no | S27: 0 | T27: 0.4 | U27: 0.6 | V27: 0 | W27: 0 | X27: 0 | Y27: 1 | Z27: 0 | AA27: 1 | AB27: 0 | AC27: 0 | AD27: 0 | AE27: 0 | AF27: 1 | AG27: 0 | AH27: 0 | AI27: 0 | AJ27: 0 | AK27: 2 | AL27: 1 | AM27: 0 | AN27: 0 | AO27: 2 | AP27: 0 | AQ27: 0 | AR27: 0 | AS27: 2 | AT27: 0 | AU27: 0 | AV27: 5 | AW27: 0 | AX27: 0 | AY27: 0 | AZ27: 0 | BA27: 0 | BB27: 2 | BC27: 0 | BD27: 0 | BE27: 0 | BF27: 0 | BG27: 0 | BH27: 0 | BI27: 0 | BJ27: 0 | BK27: 0 | BL27: 0 | BM27: 0 | BN27: 0 | BO27: 0 | BP27: 0 | BQ27: 0 | BR27: 0 | BS27: 0 | BT27: 0 | BU27: 0 | BV27: 0 | BW27: - | CB27: =IF((AK27+AL27+AO27+AP27+AS27+AT27+AU27+AW27)>=1,1,0) -> 1 | CC27: =IF((AK27+AL27+AO27+AP27+AU27+AW27+AX27+AY27)>=1,1,0) -> 1 | CD27: =IF((AM27+AN27+AQ27+AR27+AS27+AT27)>=1,1,0) -> 1 | CE27: =+CE26+1 -> 28 | CF27: {=+_xlfn.IFS(Tabell2[[#This Row],[EPD/Miljødeklarasjon - som krav, tildelingskriterium, kontraktsvilkår eller dokumentasjon]]=2,"Ja",Tabell2[[#This Row],[Bærekraftig trevirke/skogbruk - tømmerforordningen, FSC eller PEFC ]]=2,"Ja",Tabell2[[#This Row],[Krav til kvalitet / EN standarder/henvisning til Norsk møbelfakta]]=2,"Ja",Tabell2[[#This Row],[Robuste møbeltekstiler/ kvalitet på møbeltrekk]]=2,"Ja",Tabell2[[#This Row],[Design for lang levetid (Demontering, Reservedeler, produktinformasjon om montering og vedlikehold)]]=2,"Ja",Tabell2[[#This Row],[Merking av plast]]=2,"Ja",Tabell2[[#This Row],[Vask og rengjøring av møbler]]=2,"Ja",Tabell2[[#This Row],[Emballasjen skal være resirkulerbar/ gjenbrukbar (kravet om miljøvennelig emballasje)]]=2,"Ja",Tabell2[[#This Row],[Emballasje (retur- grønt punkt, gjenvinning) (kravet om gjenvinnbar emballasje)]]=2,"Ja",Tabell2[[#This Row],[Kjemikalietabellen (unngå skadelige kjemikaler)]]=2,"Ja",Tabell2[[#This Row],[Flammehemmere]]=2,"Ja",Tabell2[[#This Row],[PVC]]=2,"Ja",Tabell2[[#This Row],[Sosiale hensyn og menneske-rettigheter er inkludert]]=2,"Ja")} -> Ja
A28: 2021 | B28: 2021-338768 | C28: 44364 | D28: Stortinget | E28: 971524960 | F28: Rammeavtale for kjøp av kontor-, miljø- og møteromsmøbler - delkontrakt 1 | G28: Oslo | H28: Statlig virksomhet | I28: 39130000 | J28: 0 | K28: Varer | L28: Åpen anbudskonkurranse | M28: 1 | N28: 3000000 | O28: 1 | P28: https://www.mercell.com/nb-no/anbud/154342053/miljoe--moeteromsmoebler-og-kontorstoler-anbud.aspx | Q28: innkjop.postmottak@stortinget.no | S28: 0 | T28: 0.8 | U28: 0.2 | V28: 0 | W28: 0 | X28: 0 | Y28: 1 | Z28: 0 | AA28: 1 | AB28: 0 | AC28: 0 | AD28: 0 | AE28: 0 | AF28: 0 | AG28: 0 | AH28: 0 | AI28: 1 | AJ28: 1 | AK28: 0 | AL28: 1 | AM28: 0 | AN28: 0 | AO28: 2 | AP28: 0 | AQ28: 0 | AR28: 0 | AS28: 0 | AT28: 0 | AU28: 0 | AV28: 5 | AW28: 0 | AX28: 0 | AY28: 0 | AZ28: 1 | BA28: 0 | BB28: 1 | BC28: 0 | BD28: 1 | BE28: 0 | BF28: 0 | BG28: 0 | BH28: 0 | BI28: 0 | BJ28: 1 | BK28: 0 | BL28: 0 | BM28: 0 | BN28: 1 | BO28: 0 | BP28: 0 | BQ28: 0 | BR28: 1 | BS28: 0 | BT28: 1 | BU28: 0 | BV28: 0 | BW28: https://dirfo.sharepoint.com/:b:/r/sites/Grnneanskaffelser/Shared%20Documents/M%C3%B8bler/Statistikk%20og%20m%C3%A5ling/M%C3%A5ling%202022%20-%20Hedda/Konkurransegrunnlag/Konkurransegrunnlag%202021/Stortinget%20-%2017.06.2021/Bilag%207%20Kontraktsvilk%C3%A5r%20for%20ivaretakelse%20av%20grunnleggende%20menneskerettigheter%20i%20leverand%C3%B8rkjeden.pdf?csf=1&web=1&e=tnkI8p | CB28: =IF((AK28+AL28+AO28+AP28+AS28+AT28+AU28+AW28)>=1,1,0) -> 1 | CC28: =IF((AK28+AL28+AO28+AP28+AU28+AW28+AX28+AY28)>=1,1,0) -> 1 | CD28: =IF((AM28+AN28+AQ28+AR28+AS28+AT28)>=1,1,0) -> 0 | CE28: =+CE27+1 -> 29 | CF28: {=+_xlfn.IFS(Tabell2[[#This Row],[EPD/Miljødeklarasjon - som krav, tildelingskriterium, kontraktsvilkår eller dokumentasjon]]=2,"Ja",Tabell2[[#This Row],[Bærekraftig trevirke/skogbruk - tømmerforordningen, FSC eller PEFC ]]=2,"Ja",Tabell2[[#This Row],[Krav til kvalitet / EN standarder/henvisning til Norsk møbelfakta]]=2,"Ja",Tabell2[[#This Row],[Robuste møbeltekstiler/ kvalitet på møbeltrekk]]=2,"Ja",Tabell2[[#This Row],[Design for lang levetid (Demontering, Reservedeler, produktinformasjon om montering og vedlikehold)]]=2,"Ja",Tabell2[[#This Row],[Merking av plast]]=2,"Ja",Tabell2[[#This Row],[Vask og rengjøring av møbler]]=2,"Ja",Tabell2[[#This Row],[Emballasjen skal være resirkulerbar/ gjenbrukbar (kravet om miljøvennelig emballasje)]]=2,"Ja",Tabell2[[#This Row],[Emballasje (retur- grønt punkt, gjenvinning) (kravet om gjenvinnbar emballasje)]]=2,"Ja",Tabell2[[#This Row],[Kjemikalietabellen (unngå skadelige kjemikaler)]]=2,"Ja",Tabell2[[#This Row],[Flammehemmere]]=2,"Ja",Tabell2[[#This Row],[PVC]]=2,"Ja",Tabell2[[#This Row],[Sosiale hensyn og menneske-rettigheter er inkludert]]=2,"Ja")} -> Ja
A29: 2021 | B29: 2021-338768 | C29: 44364 | D29: Stortinget | E29: 971524960 | F29: Rammeavtale for kjøp av kontor-, miljø- og møteromsmøbler - delkontrakt 2 | G29: Oslo | H29: Statlig virksomhet | I29: 39130000 | J29: 0 | K29: Varer | L29: Åpen anbudskonkurranse | M29: 1 | N29: 2000000 | O29: 1 | P29: https://www.mercell.com/nb-no/anbud/154342053/miljoe--moeteromsmoebler-og-kontorstoler-anbud.aspx | Q29: innkjop.postmottak@stortinget.no | S29: 0 | T29: 0.6 | U29: 0.4 | V29: 0 | W29: 0 | X29: 0 | Y29: 1 | Z29: 0 | AA29: 1 | AB29: 0 | AC29: 0 | AD29: 0 | AE29: 0 | AF29: 0 | AG29: 0 | AH29: 0 | AI29: 1 | AJ29: 1 | AK29: 0 | AL29: 1 | AM29: 0 | AN29: 0 | AO29: 2 | AP29: 0 | AQ29: 0 | AR29: 0 | AS29: 0 | AT29: 0 | AU29: 0 | AV29: 5 | AW29: 0 | AX29: 0 | AY29: 0 | AZ29: 1 | BA29: 0 | BB29: 1 | BC29: 0 | BD29: 1 | BE29: 0 | BF29: 0 | BG29: 0 | BH29: 0 | BI29: 0 | BJ29: 1 | BK29: 0 | BL29: 0 | BM29: 0 | BN29: 1 | BO29: 0 | BP29: 0 | BQ29: 0 | BR29: 1 | BS29: 0 | BT29: 1 | BU29: 0 | BV29: 0 | BW29: https://dirfo.sharepoint.com/:b:/r/sites/Grnneanskaffelser/Shared%20Documents/M%C3%B8bler/Statistikk%20og%20m%C3%A5ling/M%C3%A5ling%202022%20-%20Hedda/Konkurransegrunnlag/Konkurransegrunnlag%202021/Stortinget%20-%2017.06.2021/Bilag%207%20Kontraktsvilk%C3%A5r%20for%20ivaretakelse%20av%20grunnleggende%20menneskerettigheter%20i%20leverand%C3%B8rkjeden.pdf?csf=1&web=1&e=tnkI8p | CB29: =IF((AK29+AL29+AO29+AP29+AS29+AT29+AU29+AW29)>=1,1,0) -> 1 | CC29: =IF((AK29+AL29+AO29+AP29+AU29+AW29+AX29+AY29)>=1,1,0) -> 1 | CD29: =IF((AM29+AN29+AQ29+AR29+AS29+AT29)>=1,1,0) -> 0 | CE29: =+CE28+1 -> 30 | CF29: {=+_xlfn.IFS(Tabell2[[#This Row],[EPD/Miljødeklarasjon - som krav, tildelingskriterium, kontraktsvilkår eller dokumentasjon]]=2,"Ja",Tabell2[[#This Row],[Bærekraftig trevirke/skogbruk - tømmerforordningen, FSC eller PEFC ]]=2,"Ja",Tabell2[[#This Row],[Krav til kvalitet / EN standarder/henvisning til Norsk møbelfakta]]=2,"Ja",Tabell2[[#This Row],[Robuste møbeltekstiler/ kvalitet på møbeltrekk]]=2,"Ja",Tabell2[[#This Row],[Design for lang levetid (Demontering, Reservedeler, produktinformasjon om montering og vedlikehold)]]=2,"Ja",Tabell2[[#This Row],[Merking av plast]]=2,"Ja",Tabell2[[#This Row],[Vask og rengjøring av møbler]]=2,"Ja",Tabell2[[#This Row],[Emballasjen skal være resirkulerbar/ gjenbrukbar (kravet om miljøvennelig emballasje)]]=2,"Ja",Tabell2[[#This Row],[Emballasje (retur- grønt punkt, gjenvinning) (kravet om gjenvinnbar emballasje)]]=2,"Ja",Tabell2[[#This Row],[Kjemikalietabellen (unngå skadelige kjemikaler)]]=2,"Ja",Tabell2[[#This Row],[Flammehemmere]]=2,"Ja",Tabell2[[#This Row],[PVC]]=2,"Ja",Tabell2[[#This Row],[Sosiale hensyn og menneske-rettigheter er inkludert]]=2,"Ja")} -> Ja
A30: 2021 | B30: 2021-339351 | C30: 44346 | D30: Surnadal kommune | E30: 964981892 | F30: Innkjøp inventar og utstyr Surnadal barne- og ungdomsskule | G30: Møre og Romsdal | H30: Kommune | I30: 39000000 | J30: Ikke spesifisert | K30: Varer | L30: Åpen anbudskonkurranse | M30: 0 | N30: 3000000 | O30: 1 | P30: https://www.mercell.com/nb-no/anbud/156123078/innkjoep-inventar-og-utstyr-surnadal-barne--og-ungdomsskule-anbud.aspx | Q30: amh@surnadal.kommune.no | S30: 0.2 | T30: 0.6 | U30: 0.2 | V30: 1 | W30: 0 | X30: 0 | Y30: 0 | Z30: 0 | AA30: 1 | AB30: 0 | AC30: 0 | AD30: 0 | AE30: 0 | AF30: 0 | AG30: 0 | AH30: 0 | AI30: 0 | AJ30: 1 | AK30: 1 | AL30: 1 | AM30: 0 | AN30: 0 | AO30: 1 | AP30: 0 | AQ30: 0 | AR30: 0 | AS30: 0 | AT30: 0 | AU30: 0 | AV30: 5 | AW30: 1 | AX30: 0 | AY30: 0 | AZ30: 0 | BA30: 0 | BB30: 0 | BC30: 1 | BD30: 1 | BE30: 0 | BF30: 1 | BG30: 0 | BH30: 0 | BI30: 0 | BJ30: 0 | BK30: 0 | BL30: 0 | BM30: 0 | BN30: 0 | BO30: 0 | BP30: 0 | BQ30: 0 | BR30: 2 | BS30: 0 | BT30: 1 | BU30: 0 | BV30: 0 | BW30: henviser til DFØs forslag/mal for etiske krav | CB30: =IF((AK30+AL30+AO30+AP30+AS30+AT30+AU30+AW30)>=1,1,0) -> 1 | CC30: =IF((AK30+AL30+AO30+AP30+AU30+AW30+AX30+AY30)>=1,1,0) -> 1 | CD30: =IF((AM30+AN30+AQ30+AR30+AS30+AT30)>=1,1,0) -> 0 | CE30: =+CE29+1 -> 31 | CF30: {=+_xlfn.IFS(Tabell2[[#This Row],[EPD/Miljødeklarasjon - som krav, tildelingskriterium, kontraktsvilkår eller dokumentasjon]]=2,"Ja",Tabell2[[#This Row],[Bærekraftig trevirke/skogbruk - tømmerforordningen, FSC eller PEFC ]]=2,"Ja",Tabell2[[#This Row],[Krav til kvalitet / EN standarder/henvisning til Norsk møbelfakta]]=2,"Ja",Tabell2[[#This Row],[Robuste møbeltekstiler/ kvalitet på møbeltrekk]]=2,"Ja",Tabell2[[#This Row],[Design for lang levetid (Demontering, Reservedeler, produktinformasjon om montering og vedlikehold)]]=2,"Ja",Tabell2[[#This Row],[Merking av plast]]=2,"Ja",Tabell2[[#This Row],[Vask og rengjøring av møbler]]=2,"Ja",Tabell2[[#This Row],[Emballasjen skal være resirkulerbar/ gjenbrukbar (kravet om miljøvennelig emballasje)]]=2,"Ja",Tabell2[[#This Row],[Emballasje (retur- grønt punkt, gjenvinning) (kravet om gjenvinnbar emballasje)]]=2,"Ja",Tabell2[[#This Row],[Kjemikalietabellen (unngå skadelige kjemikaler)]]=2,"Ja",Tabell2[[#This Row],[Flammehemmere]]=2,"Ja",Tabell2[[#This Row],[PVC]]=2,"Ja",Tabell2[[#This Row],[Sosiale hensyn og menneske-rettigheter er inkludert]]=2,"Ja")} -> Ja
A31: 2021 | B31: 2021-386122 | C31: 44338 | D31: Troms og Finnmark Fylkeskommune | E31: 922420866 | F31: Konkurranse kjøp av møbler og inventar til tannbygget - tilbygg | G31: Troms og Finnmark | H31: Fylkeskommune | I31: 39130000 | J31: Ikke spesifisert | K31: Varer | L31: Åpen anbudskonkurranse | M31: 0 | N31: 2400000 | O31: 1 | P31: https://www.mercell.com/nb-no/anbud/156557195/konkurranse-kjoep-av-moebler-og-inventar-til-tannbygget---tilbygg-anbud.aspx | Q31: anskaffelse@tffk.no | S31: 0 | T31: 1 | U31: 0 | V31: 0 | W31: 0 | X31: 0 | Y31: 0 | Z31: 0 | AA31: 1 | AB31: 0 | AC31: 1 | AD31: 0 | AE31: 0 | AF31: 0 | AG31: 0 | AH31: 0 | AI31: 0 | AJ31: 0 | AK31: 1 | AL31: 1 | AM31: 0 | AN31: 0 | AO31: 1 | AP31: 0 | AQ31: 0 | AR31: 0 | AS31: 0 | AT31: 0 | AU31: 0 | AV31: - | AW31: 1 | AX31: 0 | AY31: 0 | AZ31: 1 | BA31: 1 | BB31: 1 | BC31: 0 | BD31: 1 | BE31: 0 | BF31: 1 | BG31: 0 | BH31: 0 | BI31: 0 | BJ31: 0 | BK31: 0 | BL31: 0 | BM31: 0 | BN31: 0 | BO31: 0 | BP31: 0 | BQ31: 0 | BR31: 0 | BS31: 0 | BT31: 0 | BU31: 0 | BV31: 0 | BW31: - | CB31: =IF((AK31+AL31+AO31+AP31+AS31+AT31+AU31+AW31)>=1,1,0) -> 1 | CC31: =IF((AK31+AL31+AO31+AP31+AU31+AW31+AX31+AY31)>=1,1,0) -> 1 | CD31: =IF((AM31+AN31+AQ31+AR31+AS31+AT31)>=1,1,0) -> 0 | CE31: =+CE30+1 -> 32 | CF31: {=+_xlfn.IFS(Tabell2[[#This Row],[EPD/Miljødeklarasjon - som krav, tildelingskriterium, kontraktsvilkår eller dokumentasjon]]=2,"Ja",Tabell2[[#This Row],[Bærekraftig trevirke/skogbruk - tømmerforordningen, FSC eller PEFC ]]=2,"Ja",Tabell2[[#This Row],[Krav til kvalitet / EN standarder/henvisning til Norsk møbelfakta]]=2,"Ja",Tabell2[[#This Row],[Robuste møbeltekstiler/ kvalitet på møbeltrekk]]=2,"Ja",Tabell2[[#This Row],[Design for lang levetid (Demontering, Reservedeler, produktinformasjon om montering og vedlikehold)]]=2,"Ja",Tabell2[[#This Row],[Merking av plast]]=2,"Ja",Tabell2[[#This Row],[Vask og rengjøring av møbler]]=2,"Ja",Tabell2[[#This Row],[Emballasjen skal være resirkulerbar/ gjenbrukbar (kravet om miljøvennelig emballasje)]]=2,"Ja",Tabell2[[#This Row],[Emballasje (retur- grønt punkt, gjenvinning) (kravet om gjenvinnbar emballasje)]]=2,"Ja",Tabell2[[#This Row],[Kjemikalietabellen (unngå skadelige kjemikaler)]]=2,"Ja",Tabell2[[#This Row],[Flammehemmere]]=2,"Ja",Tabell2[[#This Row],[PVC]]=2,"Ja",Tabell2[[#This Row],[Sosiale hensyn og menneske-rettigheter er inkludert]]=2,"Ja")} -> #N/A
A32: 2021 | B32: 2021-370676 | C32: 44518 | D32: Troms og Finnmark Fylkeskommune | E32: 922420866 | F32: Konkurranse på kjøp av inventar til arbeidsrom | G32: Troms og Finnmark | H32: Fylkeskommune | I32: 39130000 | J32: Ikke spesifisert | K32: Varer | L32: Begrenset tilbudskonkurranse | M32: 0 | N32: 150000 | O32: 1 | P32: https://www.mercell.com/nb-no/anbud/166910604/konkurranse-paa-kjoep-av-inventar-til-arbeidsrom-anbud.aspx | Q32: anskaffelse@tffk.no | S32: 0 | T32: 0.85 | U32: 0.15 | V32: 0 | W32: 0 | X32: 0 | Y32: 0 | Z32: 0 | AA32: 1 | AB32: 0 | AC32: 0 | AD32: 0 | AE32: 0 | AF32: 0 | AG32: 0 | AH32: 0 | AI32: 0 | AJ32: 0 | AK32: 1 | AL32: 0 | AM32: 0 | AN32: 0 | AO32: 1 | AP32: 0 | AQ32: 0 | AR32: 0 | AS32: 0 | AT32: 0 | AU32: 0 | AV32: 2 | AW32: 1 | AX32: 0 | AY32: 0 | AZ32: 1 | BA32: 1 | BB32: 1 | BC32: 0 | BD32: 0 | BE32: 0 | BF32: 0 | BG32: 0 | BH32: 0 | BI32: 0 | BJ32: 0 | BK32: 0 | BL32: 0 | BM32: 0 | BN32: 0 | BO32: 0 | BP32: 0 | BQ32: 0 | BR32: 1 | BS32: 0 | BT32: 1 | BU32: 0 | BV32: 0 | BW32: https://dirfo.sharepoint.com/:b:/r/sites/Grnneanskaffelser/Shared%20Documents/M%C3%B8bler/Statistikk%20og%20m%C3%A5ling/M%C3%A5ling%202022%20-%20Hedda/Konkurransegrunnlag/Konkurransegrunnlag%202021/Troms%20og%20Finnmark%20Fylkeskommune%20-%2018.11.2021/Vedlegg%203%20-%20Alminnelige%20Kontraktsvilk%C3%A5r-varer.pdf?csf=1&web=1&e=9aepki | CB32: =IF((AK32+AL32+AO32+AP32+AS32+AT32+AU32+AW32)>=1,1,0) -> 1 | CC32: =IF((AK32+AL32+AO32+AP32+AU32+AW32+AX32+AY32)>=1,1,0) -> 1 | CD32: =IF((AM32+AN32+AQ32+AR32+AS32+AT32)>=1,1,0) -> 0 | CE32: =+CE31+1 -> 33 | CF32: {=+_xlfn.IFS(Tabell2[[#This Row],[EPD/Miljødeklarasjon - som krav, tildelingskriterium, kontraktsvilkår eller dokumentasjon]]=2,"Ja",Tabell2[[#This Row],[Bærekraftig trevirke/skogbruk - tømmerforordningen, FSC eller PEFC ]]=2,"Ja",Tabell2[[#This Row],[Krav til kvalitet / EN standarder/henvisning til Norsk møbelfakta]]=2,"Ja",Tabell2[[#This Row],[Robuste møbeltekstiler/ kvalitet på møbeltrekk]]=2,"Ja",Tabell2[[#This Row],[Design for lang levetid (Demontering, Reservedeler, produktinformasjon om montering og vedlikehold)]]=2,"Ja",Tabell2[[#This Row],[Merking av plast]]=2,"Ja",Tabell2[[#This Row],[Vask og rengjøring av møbler]]=2,"Ja",Tabell2[[#This Row],[Emballasjen skal være resirkulerbar/ gjenbrukbar (kravet om miljøvennelig emballasje)]]=2,"Ja",Tabell2[[#This Row],[Emballasje (retur- grønt punkt, gjenvinning) (kravet om gjenvinnbar emballasje)]]=2,"Ja",Tabell2[[#This Row],[Kjemikalietabellen (unngå skadelige kjemikaler)]]=2,"Ja",Tabell2[[#This Row],[Flammehemmere]]=2,"Ja",Tabell2[[#This Row],[PVC]]=2,"Ja",Tabell2[[#This Row],[Sosiale hensyn og menneske-rettigheter er inkludert]]=2,"Ja")} -> #N/A
A33: 2021 | B33: 2021-323205 | C33: 44271 | D33: Øksnes Kommune | E33: 845152012 | F33: Inventar Elvelund 2 | G33: Nordland | H33: Kommune | I33: 39000000 | J33: Ikke spesifisert | K33: Varer | L33: Ikke spesifisert | M33: 0 | N33: 1100000 | O33: 1 | P33: https://www.mercell.com/nb-no/anbud/151956604/inventar-elvelund-2-anbud.aspx | Q33: camilla.waagbo@oksnes.kommune.no | S33: 0 | T33: 0.6 | U33: 0.4 | V33: 0 | W33: 0 | X33: 0 | Y33: 0 | Z33: 0 | AA33: 0 | AB33: 0 | AC33: 0 | AD33: 0 | AE33: 0 | AF33: 0 | AG33: 0 | AH33: 0 | AI33: 0 | AJ33: 0 | AK33: 0 | AL33: 1 | AM33: 0 | AN33: 0 | AO33: 0 | AP33: 0 | AQ33: 0 | AR33: 0 | AS33: 0 | AT33: 0 | AU33: 0 | AV33: 0 | AW33: 0 | AX33: 0 | AY33: 0 | AZ33: 0 | BA33: 0 | BB33: 0 | BC33: 0 | BD33: 0 | BE33: 0 | BF33: 0 | BG33: 0 | BH33: 0 | BI33: 0 | BJ33: 0 | BK33: 0 | BL33: 0 | BM33: 0 | BN33: 0 | BO33: 0 | BP33: 0 | BQ33: 0 | BR33: 0 | BS33: 0 | BT33: 0 | BU33: 0 | BV33: 0 | BW33: - | BX33: Leverandør bes oppgi slitestyrke og annet på produktbeskrivelsen | CB33: =IF((AK33+AL33+AO33+AP33+AS33+AT33+AU33+AW33)>=1,1,0) -> 1 | CC33: =IF((AK33+AL33+AO33+AP33+AU33+AW33+AX33+AY33)>=1,1,0) -> 1 | CD33: =IF((AM33+AN33+AQ33+AR33+AS33+AT33)>=1,1,0) -> 0 | CE33: =+CE32+1 -> 34 | CF33: {=+_xlfn.IFS(Tabell2[[#This Row],[EPD/Miljødeklarasjon - som krav, tildelingskriterium, kontraktsvilkår eller dokumentasjon]]=2,"Ja",Tabell2[[#This Row],[Bærekraftig trevirke/skogbruk - tømmerforordningen, FSC eller PEFC ]]=2,"Ja",Tabell2[[#This Row],[Krav til kvalitet / EN standarder/henvisning til Norsk møbelfakta]]=2,"Ja",Tabell2[[#This Row],[Robuste møbeltekstiler/ kvalitet på møbeltrekk]]=2,"Ja",Tabell2[[#This Row],[Design for lang levetid (Demontering, Reservedeler, produktinformasjon om montering og vedlikehold)]]=2,"Ja",Tabell2[[#This Row],[Merking av plast]]=2,"Ja",Tabell2[[#This Row],[Vask og rengjøring av møbler]]=2,"Ja",Tabell2[[#This Row],[Emballasjen skal være resirkulerbar/ gjenbrukbar (kravet om miljøvennelig emballasje)]]=2,"Ja",Tabell2[[#This Row],[Emballasje (retur- grønt punkt, gjenvinning) (kravet om gjenvinnbar emballasje)]]=2,"Ja",Tabell2[[#This Row],[Kjemikalietabellen (unngå skadelige kjemikaler)]]=2,"Ja",Tabell2[[#This Row],[Flammehemmere]]=2,"Ja",Tabell2[[#This Row],[PVC]]=2,"Ja",Tabell2[[#This Row],[Sosiale hensyn og menneske-rettigheter er inkludert]]=2,"Ja")} -> #N/A
A34: 2021 | B34: 2021-327812 | C34: 44301 | D34: Bergen kommune - Bymiljøetaten | E34: 964338531 | F34: EØS 004-2021 Rammeavtale nye møbler til Bergen kommune og samarbeidsparter - Delkontrakt 1 Kontormøbler | G34: Vestland | H34: Kommune | I34: 39100000 | J34: 0 | K34: Varer | L34: Åpen anbudskonkurranse | M34: 1 | N34: 800000 | O34: 1 | P34: https://www.mercell.com/nb-no/anbud/149738996/eoes-004-2021-kontormoebler-anbud.aspx | Q34: laila.hope@bergen.kommune.no | S34: 0.2 | T34: 0.4 | U34: 0.4 | V34: 1 | W34: 1 | X34: 0 | Y34: 1 | Z34: 1 | AA34: 1 | AB34: 0 | AC34: 0 | AD34: 0 | AE34: 1 | AF34: 0 | AG34: 1 | AH34: 1 | AI34: 0 | AJ34: 1 | AK34: 2 | AL34: 2 | AM34: 0 | AN34: 0 | AO34: 2 | AP34: 0 | AQ34: 0 | AR34: 0 | AS34: 0 | AT34: 1 | AU34: 0 | AV34: 2 | AW34: 1 | AX34: 0 | AY34: 0 | AZ34: 1 | BA34: 1 | BB34: 2 | BC34: 2 | BD34: 1 | BE34: 1 | BF34: 1 | BG34: 1 | BH34: 0 | BI34: 0 | BJ34: 2 | BK34: 1 | BL34: 0 | BM34: 1 | BN34: 1 | BO34: 1 | BP34: 1 | BQ34: 0 | BR34: 2 | BS34: 0 | BT34: 1 | BU34: 1 | BV34: 0 | BW34: https://dirfo.sharepoint.com/:b:/r/sites/Grnneanskaffelser/Shared%20Documents/M%C3%B8bler/Statistikk%20og%20m%C3%A5ling/M%C3%A5ling%202022%20-%20Hedda/Konkurransegrunnlag/Konkurransegrunnlag%202021/Bergen%20kommune%20-%20Bymilj%C3%B8etaten%20Delkontrakt%201%20(kontorm%C3%B8bler)%20-%2015.04.2021/Standardkontrakt%20bilag%207%20-%20Ansvarlig%20forretningspraksis.pdf?csf=1&web=1&e=HKoBld | CB34: =IF((AK34+AL34+AO34+AP34+AS34+AT34+AU34+AW34)>=1,1,0) -> 1 | CC34: =IF((AK34+AL34+AO34+AP34+AU34+AW34+AX34+AY34)>=1,1,0) -> 1 | CD34: =IF((AM34+AN34+AQ34+AR34+AS34+AT34)>=1,1,0) -> 1 | CE34: =+CE33+1 -> 35 | CF34: {=+_xlfn.IFS(Tabell2[[#This Row],[EPD/Miljødeklarasjon - som krav, tildelingskriterium, kontraktsvilkår eller dokumentasjon]]=2,"Ja",Tabell2[[#This Row],[Bærekraftig trevirke/skogbruk - tømmerforordningen, FSC eller PEFC ]]=2,"Ja",Tabell2[[#This Row],[Krav til kvalitet / EN standarder/henvisning til Norsk møbelfakta]]=2,"Ja",Tabell2[[#This Row],[Robuste møbeltekstiler/ kvalitet på møbeltrekk]]=2,"Ja",Tabell2[[#This Row],[Design for lang levetid (Demontering, Reservedeler, produktinformasjon om montering og vedlikehold)]]=2,"Ja",Tabell2[[#This Row],[Merking av plast]]=2,"Ja",Tabell2[[#This Row],[Vask og rengjøring av møbler]]=2,"Ja",Tabell2[[#This Row],[Emballasjen skal være resirkulerbar/ gjenbrukbar (kravet om miljøvennelig emballasje)]]=2,"Ja",Tabell2[[#This Row],[Emballasje (retur- grønt punkt, gjenvinning) (kravet om gjenvinnbar emballasje)]]=2,"Ja",Tabell2[[#This Row],[Kjemikalietabellen (unngå skadelige kjemikaler)]]=2,"Ja",Tabell2[[#This Row],[Flammehemmere]]=2,"Ja",Tabell2[[#This Row],[PVC]]=2,"Ja",Tabell2[[#This Row],[Sosiale hensyn og menneske-rettigheter er inkludert]]=2,"Ja")} -> Ja
A35: 2021 | B35: 2021-322443 | C35: 44275 | D35: Inderøy kommune | E35: 997391853 | F35: Møbler - rammeavtale Innherred Innkjøp - delkontrakt 1 Kontormøbler | G35: Trønderlag | H35: Kommune | I35: 39100000 | J35: 0 | K35: Varer | L35: Åpen anbudskonkurranse | M35: 1 | N35: 18000000 | O35: 1 | P35: https://dirfo.sharepoint.com/:f:/r/sites/Grnneanskaffelser/Shared%20Documents/M%C3%B8bler/Statistikk%20og%20m%C3%A5ling/M%C3%A5ling%202022%20-%20Hedda/Konkurransegrunnlag/Konkurransegrunnlag%202021/Inder%C3%B8y%20kommune%20-%2020.03.2021?csf=1&web=1&e=PR9ac5 | Q35: elin.mathisen.saether@inderoy.kommune.no | S35: 0.3 | T35: 0.5 | U35: 0.2 | V35: 1 | W35: 1 | X35: 0 | Y35: 0 | Z35: 1 | AA35: 1 | AB35: 0 | AC35: 0 | AD35: 0 | AE35: 1 | AF35: 0 | AG35: 1 | AH35: 1 | AI35: 1 | AJ35: 1 | AK35: 1 | AL35: 1 | AM35: 0 | AN35: 1 | AO35: 1 | AP35: 1 | AQ35: 0 | AR35: 0 | AS35: 0 | AT35: 0 | AU35: 1 | AV35: 5 | AW35: 2 | AX35: 0 | AY35: 0 | AZ35: 0 | BA35: 0 | BB35: 2 | BC35: 0 | BD35: 1 | BE35: 1 | BF35: 1 | BG35: 0 | BH35: 1 | BI35: 1 | BJ35: 1 | BK35: 1 | BL35: 1 | BM35: 0 | BN35: 0 | BO35: 0 | BP35: 0 | BQ35: 0 | BR35: 1 | BS35: 0 | BT35: 1 | BU35: 0 | BV35: 1 | BW35: https://dirfo.sharepoint.com/:b:/r/sites/Grnneanskaffelser/Shared%20Documents/M%C3%B8bler/Statistikk%20og%20m%C3%A5ling/M%C3%A5ling%202022%20-%20Hedda/Konkurransegrunnlag/Konkurransegrunnlag%202021/Inder%C3%B8y%20kommune%20-%2020.03.2021/Konkurransedokumenter.pdf?csf=1&web=1&e=7WQhLK | CB35: =IF((AK35+AL35+AO35+AP35+AS35+AT35+AU35+AW35)>=1,1,0) -> 1 | CC35: =IF((AK35+AL35+AO35+AP35+AU35+AW35+AX35+AY35)>=1,1,0) -> 1 | CD35: =IF((AM35+AN35+AQ35+AR35+AS35+AT35)>=1,1,0) -> 1 | CE35: =+CE34+1 -> 36 | CF35: {=+_xlfn.IFS(Tabell2[[#This Row],[EPD/Miljødeklarasjon - som krav, tildelingskriterium, kontraktsvilkår eller dokumentasjon]]=2,"Ja",Tabell2[[#This Row],[Bærekraftig trevirke/skogbruk - tømmerforordningen, FSC eller PEFC ]]=2,"Ja",Tabell2[[#This Row],[Krav til kvalitet / EN standarder/henvisning til Norsk møbelfakta]]=2,"Ja",Tabell2[[#This Row],[Robuste møbeltekstiler/ kvalitet på møbeltrekk]]=2,"Ja",Tabell2[[#This Row],[Design for lang levetid (Demontering, Reservedeler, produktinformasjon om montering og vedlikehold)]]=2,"Ja",Tabell2[[#This Row],[Merking av plast]]=2,"Ja",Tabell2[[#This Row],[Vask og rengjøring av møbler]]=2,"Ja",Tabell2[[#This Row],[Emballasjen skal være resirkulerbar/ gjenbrukbar (kravet om miljøvennelig emballasje)]]=2,"Ja",Tabell2[[#This Row],[Emballasje (retur- grønt punkt, gjenvinning) (kravet om gjenvinnbar emballasje)]]=2,"Ja",Tabell2[[#This Row],[Kjemikalietabellen (unngå skadelige kjemikaler)]]=2,"Ja",Tabell2[[#This Row],[Flammehemmere]]=2,"Ja",Tabell2[[#This Row],[PVC]]=2,"Ja",Tabell2[[#This Row],[Sosiale hensyn og menneske-rettigheter er inkludert]]=2,"Ja")} -> Ja
A36: 2021 | B36: 2021-384009 | C36: 44546 | D36: Innovasjon Norge | E36: 986399445 | F36: Rammeavtale for kjøp av kontormøbler og inventar | G36: Oslo | H36: Statlig virksomhet | I36: 39130000 | J36: 0 | K36: Varer | L36: Konkurranse med forhandling | M36: 0 | N36: 26000000 | O36: 1 | P36: https://www.mercell.com/nb-no/anbud/167768126/rammeavtale-for-kjoep-av-kontormoebler-og-inventar-anbud.aspx | Q36: daniel.tran.huynh@innovasjonnorge.no | S36: 0.3 | T36: 0.4 | U36: 0.3 | V36: 1 | W36: 1 | X36: 1 | Y36: 0 | Z36: 1 | AA36: 1 | AB36: 0 | AC36: 1 | AD36: 0 | AE36: 0 | AF36: 1 | AG36: 1 | AH36: 1 | AI36: 0 | AJ36: 1 | AK36: 0 | AL36: 1 | AM36: 0 | AN36: 0 | AO36: 1 | AP36: 0 | AQ36: 0 | AR36: 0 | AS36: 0 | AT36: 0 | AU36: 0 | AV36: 5 | AW36: 0 | AX36: 0 | AY36: 0 | AZ36: 1 | BA36: 0 | BB36: 1 | BC36: 0 | BD36: 1 | BE36: 0 | BF36: 1 | BG36: 0 | BH36: 0 | BI36: 0 | BJ36: 1 | BK36: 0 | BL36: 0 | BM36: 0 | BN36: 1 | BO36: 0 | BP36: 0 | BQ36: 0 | BR36: 1 | BS36: 0 | BT36: 1 | BU36: 0 | BV36: 0 | BW36: https://dirfo.sharepoint.com/:w:/r/sites/Grnneanskaffelser/Shared%20Documents/M%C3%B8bler/Statistikk%20og%20m%C3%A5ling/M%C3%A5ling%202022%20-%20Hedda/Konkurransegrunnlag/Konkurransegrunnlag%202021/Innovasjon%20Norge%20-%2016.12.2021/Alminnelige%20avtalevilk%C3%A5r.docx?d=we429a9e3e57040f4910887eb4f64af05&csf=1&web=1&e=Suh1eB | CB36: =IF((AK36+AL36+AO36+AP36+AS36+AT36+AU36+AW36)>=1,1,0) -> 1 | CC36: =IF((AK36+AL36+AO36+AP36+AU36+AW36+AX36+AY36)>=1,1,0) -> 1 | CD36: =IF((AM36+AN36+AQ36+AR36+AS36+AT36)>=1,1,0) -> 0 | CE36: =+CE35+1 -> 37 | CF36: {=+_xlfn.IFS(Tabell2[[#This Row],[EPD/Miljødeklarasjon - som krav, tildelingskriterium, kontraktsvilkår eller dokumentasjon]]=2,"Ja",Tabell2[[#This Row],[Bærekraftig trevirke/skogbruk - tømmerforordningen, FSC eller PEFC ]]=2,"Ja",Tabell2[[#This Row],[Krav til kvalitet / EN standarder/henvisning til Norsk møbelfakta]]=2,"Ja",Tabell2[[#This Row],[Robuste møbeltekstiler/ kvalitet på møbeltrekk]]=2,"Ja",Tabell2[[#This Row],[Design for lang levetid (Demontering, Reservedeler, produktinformasjon om montering og vedlikehold)]]=2,"Ja",Tabell2[[#This Row],[Merking av plast]]=2,"Ja",Tabell2[[#This Row],[Vask og rengjøring av møbler]]=2,"Ja",Tabell2[[#This Row],[Emballasjen skal være resirkulerbar/ gjenbrukbar (kravet om miljøvennelig emballasje)]]=2,"Ja",Tabell2[[#This Row],[Emballasje (retur- grønt punkt, gjenvinning) (kravet om gjenvinnbar emballasje)]]=2,"Ja",Tabell2[[#This Row],[Kjemikalietabellen (unngå skadelige kjemikaler)]]=2,"Ja",Tabell2[[#This Row],[Flammehemmere]]=2,"Ja",Tabell2[[#This Row],[PVC]]=2,"Ja",Tabell2[[#This Row],[Sosiale hensyn og menneske-rettigheter er inkludert]]=2,"Ja")} -> #N/A
A37: 2021 | B37: 2021-322688 | C37: 44220 | D37: Kristiansund kommune | E37: 991891919 | F37: NII - Rammeavtale - Møbler | G37: Møre og Romsdal | H37: Kommune | I37: 39100000 | J37: 0 | K37: Varer | L37: Åpen anbudskonkurranse | M37: 0 | N37: 40000000 | O37: 1 | P37: https://www.mercell.com/nb-no/anbud/147600134/nii---rammeavtale---moebler-anbud.aspx | Q37: elina.bjerkestrand@kristiansund.kommune.no | S37: 0.3 | T37: 0.5 | U37: 0.2 | V37: 1 | W37: 1 | X37: 1 | Y37: 1 | Z37: 1 | AA37: 1 | AB37: 0 | AC37: 1 | AD37: 0 | AE37: 0 | AF37: 1 | AG37: 1 | AH37: 1 | AI37: 1 | AJ37: 1 | AK37: 1 | AL37: 1 | AM37: 0 | AN37: 1 | AO37: 1 | AP37: 0 | AQ37: 0 | AR37: 0 | AS37: 0 | AT37: 0 | AU37: 0 | AV37: 5 | AW37: 0 | AX37: 0 | AY37: 0 | AZ37: 0 | BA37: 0 | BB37: 1 | BC37: 0 | BD37: 1 | BE37: 0 | BF37: 0 | BG37: 1 | BH37: 0 | BI37: 0 | BJ37: 1 | BK37: 0 | BL37: 0 | BM37: 0 | BN37: 0 | BO37: 0 | BP37: 0 | BQ37: 0 | BR37: 1 | BS37: 0 | BT37: 0 | BU37: 1 | BV37: 0 | BW37: https://dirfo.sharepoint.com/:b:/r/sites/Grnneanskaffelser/Shared%20Documents/M%C3%B8bler/Statistikk%20og%20m%C3%A5ling/M%C3%A5ling%202022%20-%20Hedda/Konkurransegrunnlag/Konkurransegrunnlag%202021/Kristiansund%20kommune%20-%2024.01.2021/KONKURRANSEGRUNNLAG%20M%C3%B8bler.pdf?csf=1&web=1&e=v9LOZu | BX37: Eget dokument med krav til transport | CB37: =IF((AK37+AL37+AO37+AP37+AS37+AT37+AU37+AW37)>=1,1,0) -> 1 | CC37: =IF((AK37+AL37+AO37+AP37+AU37+AW37+AX37+AY37)>=1,1,0) -> 1 | CD37: =IF((AM37+AN37+AQ37+AR37+AS37+AT37)>=1,1,0) -> 1 | CE37: =+CE36+1 -> 38 | CF37: {=+_xlfn.IFS(Tabell2[[#This Row],[EPD/Miljødeklarasjon - som krav, tildelingskriterium, kontraktsvilkår eller dokumentasjon]]=2,"Ja",Tabell2[[#This Row],[Bærekraftig trevirke/skogbruk - tømmerforordningen, FSC eller PEFC ]]=2,"Ja",Tabell2[[#This Row],[Krav til kvalitet / EN standarder/henvisning til Norsk møbelfakta]]=2,"Ja",Tabell2[[#This Row],[Robuste møbeltekstiler/ kvalitet på møbeltrekk]]=2,"Ja",Tabell2[[#This Row],[Design for lang levetid (Demontering, Reservedeler, produktinformasjon om montering og vedlikehold)]]=2,"Ja",Tabell2[[#This Row],[Merking av plast]]=2,"Ja",Tabell2[[#This Row],[Vask og rengjøring av møbler]]=2,"Ja",Tabell2[[#This Row],[Emballasjen skal være resirkulerbar/ gjenbrukbar (kravet om miljøvennelig emballasje)]]=2,"Ja",Tabell2[[#This Row],[Emballasje (retur- grønt punkt, gjenvinning) (kravet om gjenvinnbar emballasje)]]=2,"Ja",Tabell2[[#This Row],[Kjemikalietabellen (unngå skadelige kjemikaler)]]=2,"Ja",Tabell2[[#This Row],[Flammehemmere]]=2,"Ja",Tabell2[[#This Row],[PVC]]=2,"Ja",Tabell2[[#This Row],[Sosiale hensyn og menneske-rettigheter er inkludert]]=2,"Ja")} -> #N/A
A38: 2021 | B38: 2021-328184 | C38: 44299 | D38: Sykehusinnkjøp HF | E38: 916879067 | F38: Kontormøbler og andre Ikke-medisinske møbler til helseforetakene i Norge - delkontrakt 1 Kontormøbler | G38: Hele landet | H38: Statlig virksomhet | I38: 39000000 | J38: 0 | K38: Varer | L38: Åpen anbudskonkurranse | M38: 1 | N38: 120000000 | O38: 1 | P38: https://www.mercell.com/nb-no/anbud/153557726/delkontrakt-01-kontormoebler---bord-og-oppbevaringsmoebler-stoeyskjermer-og-lydabsorbenter-anbud.aspx | Q38: post@sykehusinnkjop.no | S38: 0.1 | T38: 0.55 | U38: 0.35 | V38: 1 | W38: 1 | X38: 0 | Y38: 0 | Z38: 1 | AA38: 1 | AB38: 0 | AC38: 0 | AD38: 0 | AE38: 0 | AF38: 0 | AG38: 1 | AH38: 1 | AI38: 0 | AJ38: 1 | AK38: 0 | AL38: 2 | AM38: 0 | AN38: 1 | AO38: 2 | AP38: 0 | AQ38: 0 | AR38: 0 | AS38: 0 | AT38: 1 | AU38: 0 | AV38: - | AW38: 0 | AX38: 0 | AY38: 0 | AZ38: 1 | BA38: 2 | BB38: 2 | BC38: 2 | BD38: 1 | BE38: 1 | BF38: 1 | BG38: 1 | BH38: 0 | BI38: 0 | BJ38: 2 | BK38: 2 | BL38: 0 | BM38: 1 | BN38: 1 | BO38: 1 | BP38: 1 | BQ38: 0 | BR38: 1 | BS38: 0 | BT38: 0 | BU38: 1 | BV38: 0 | BW38: https://dirfo.sharepoint.com/:w:/r/sites/Grnneanskaffelser/Shared%20Documents/M%C3%B8bler/Statistikk%20og%20m%C3%A5ling/M%C3%A5ling%202022%20-%20Hedda/Konkurransegrunnlag/Konkurransegrunnlag%202021/Sykehusinnkj%C3%B8p%20HF%20-%2013.04.2021/Vedlegg%20Svarskjema%20etisk%20handel.docx?d=w2bdb75275bb1481da059e1c74ed981da&csf=1&web=1&e=0oPox1 | CB38: =IF((AK38+AL38+AO38+AP38+AS38+AT38+AU38+AW38)>=1,1,0) -> 1 | CC38: =IF((AK38+AL38+AO38+AP38+AU38+AW38+AX38+AY38)>=1,1,0) -> 1 | CD38: =IF((AM38+AN38+AQ38+AR38+AS38+AT38)>=1,1,0) -> 1 | CE38: =+CE37+1 -> 39 | CF38: {=+_xlfn.IFS(Tabell2[[#This Row],[EPD/Miljødeklarasjon - som krav, tildelingskriterium, kontraktsvilkår eller dokumentasjon]]=2,"Ja",Tabell2[[#This Row],[Bærekraftig trevirke/skogbruk - tømmerforordningen, FSC eller PEFC ]]=2,"Ja",Tabell2[[#This Row],[Krav til kvalitet / EN standarder/henvisning til Norsk møbelfakta]]=2,"Ja",Tabell2[[#This Row],[Robuste møbeltekstiler/ kvalitet på møbeltrekk]]=2,"Ja",Tabell2[[#This Row],[Design for lang levetid (Demontering, Reservedeler, produktinformasjon om montering og vedlikehold)]]=2,"Ja",Tabell2[[#This Row],[Merking av plast]]=2,"Ja",Tabell2[[#This Row],[Vask og rengjøring av møbler]]=2,"Ja",Tabell2[[#This Row],[Emballasjen skal være resirkulerbar/ gjenbrukbar (kravet om miljøvennelig emballasje)]]=2,"Ja",Tabell2[[#This Row],[Emballasje (retur- grønt punkt, gjenvinning) (kravet om gjenvinnbar emballasje)]]=2,"Ja",Tabell2[[#This Row],[Kjemikalietabellen (unngå skadelige kjemikaler)]]=2,"Ja",Tabell2[[#This Row],[Flammehemmere]]=2,"Ja",Tabell2[[#This Row],[PVC]]=2,"Ja",Tabell2[[#This Row],[Sosiale hensyn og menneske-rettigheter er inkludert]]=2,"Ja")} -> Ja
A39: 2021 | B39: 2021-328184 | C39: 44299 | D39: Sykehusinnkjøp HF | E39: 916879067 | F39: Kontormøbler og andre Ikke-medisinske møbler til helseforetakene i Norge - delkontrakt 2 Kontorstoler | G39: Hele landet | H39: Statlig virksomhet | I39: 39000000 | J39: 0 | K39: Varer | L39: Åpen anbudskonkurranse | M39: 1 | N39: 120000000 | O39: 1 | P39: https://www.mercell.com/nb-no/anbud/153557750/delkontrakt-02-kontormoebler---stoler-anbud.aspx | Q39: post@sykehusinnkjop.no | S39: 0.1 | T39: 0.45 | U39: 0.45 | V39: 1 | W39: 1 | X39: 0 | Y39: 0 | Z39: 1 | AA39: 1 | AB39: 0 | AC39: 0 | AD39: 0 | AE39: 0 | AF39: 0 | AG39: 1 | AH39: 1 | AI39: 0 | AJ39: 1 | AK39: 0 | AL39: 2 | AM39: 0 | AN39: 1 | AO39: 2 | AP39: 0 | AQ39: 0 | AR39: 0 | AS39: 0 | AT39: 1 | AU39: 0 | AV39: - | AW39: 0 | AX39: 0 | AY39: 0 | AZ39: 1 | BA39: 2 | BB39: 2 | BC39: 2 | BD39: 1 | BE39: 1 | BF39: 1 | BG39: 1 | BH39: 0 | BI39: 0 | BJ39: 2 | BK39: 2 | BL39: 0 | BM39: 1 | BN39: 1 | BO39: 1 | BP39: 1 | BQ39: 0 | BR39: 1 | BS39: 0 | BT39: 0 | BU39: 1 | BV39: 0 | BW39: https://dirfo.sharepoint.com/:w:/r/sites/Grnneanskaffelser/Shared%20Documents/M%C3%B8bler/Statistikk%20og%20m%C3%A5ling/M%C3%A5ling%202022%20-%20Hedda/Konkurransegrunnlag/Konkurransegrunnlag%202021/Sykehusinnkj%C3%B8p%20HF%20-%2013.04.2021/Vedlegg%20Svarskjema%20etisk%20handel.docx?d=w2bdb75275bb1481da059e1c74ed981da&csf=1&web=1&e=0oPox1 | CB39: =IF((AK39+AL39+AO39+AP39+AS39+AT39+AU39+AW39)>=1,1,0) -> 1 | CC39: =IF((AK39+AL39+AO39+AP39+AU39+AW39+AX39+AY39)>=1,1,0) -> 1 | CD39: =IF((AM39+AN39+AQ39+AR39+AS39+AT39)>=1,1,0) -> 1 | CE39: =+CE38+1 -> 40 | CF39: {=+_xlfn.IFS(Tabell2[[#This Row],[EPD/Miljødeklarasjon - som krav, tildelingskriterium, kontraktsvilkår eller dokumentasjon]]=2,"Ja",Tabell2[[#This Row],[Bærekraftig trevirke/skogbruk - tømmerforordningen, FSC eller PEFC ]]=2,"Ja",Tabell2[[#This Row],[Krav til kvalitet / EN standarder/henvisning til Norsk møbelfakta]]=2,"Ja",Tabell2[[#This Row],[Robuste møbeltekstiler/ kvalitet på møbeltrekk]]=2,"Ja",Tabell2[[#This Row],[Design for lang levetid (Demontering, Reservedeler, produktinformasjon om montering og vedlikehold)]]=2,"Ja",Tabell2[[#This Row],[Merking av plast]]=2,"Ja",Tabell2[[#This Row],[Vask og rengjøring av møbler]]=2,"Ja",Tabell2[[#This Row],[Emballasjen skal være resirkulerbar/ gjenbrukbar (kravet om miljøvennelig emballasje)]]=2,"Ja",Tabell2[[#This Row],[Emballasje (retur- grønt punkt, gjenvinning) (kravet om gjenvinnbar emballasje)]]=2,"Ja",Tabell2[[#This Row],[Kjemikalietabellen (unngå skadelige kjemikaler)]]=2,"Ja",Tabell2[[#This Row],[Flammehemmere]]=2,"Ja",Tabell2[[#This Row],[PVC]]=2,"Ja",Tabell2[[#This Row],[Sosiale hensyn og menneske-rettigheter er inkludert]]=2,"Ja")} -> Ja
A40: 2021 | B40: 2021-328184 | C40: 44299 | D40: Sykehusinnkjøp HF | E40: 916879067 | F40: Kontormøbler og andre Ikke-medisinske møbler til helseforetakene i Norge - delkontrakt 3 Sosiale og publikumsmøbler i kontormiljø | G40: Hele landet | H40: Statlig virksomhet | I40: 39000000 | J40: 0 | K40: Varer | L40: Åpen anbudskonkurranse | M40: 1 | N40: 24000000 | O40: 1 | P40: https://www.mercell.com/nb-no/anbud/153558082/delkontrakt-03-sosiale--og-publikumsmoebler-anbud.aspx | Q40: post@sykehusinnkjop.no | S40: 0.1 | T40: 0.45 | U40: 0.45 | V40: 1 | W40: 1 | X40: 0 | Y40: 0 | Z40: 1 | AA40: 1 | AB40: 0 | AC40: 0 | AD40: 0 | AE40: 0 | AF40: 0 | AG40: 1 | AH40: 1 | AI40: 0 | AJ40: 1 | AK40: 0 | AL40: 2 | AM40: 0 | AN40: 1 | AO40: 2 | AP40: 0 | AQ40: 0 | AR40: 0 | AS40: 0 | AT40: 1 | AU40: 0 | AV40: - | AW40: 0 | AX40: 0 | AY40: 0 | AZ40: 1 | BA40: 2 | BB40: 2 | BC40: 2 | BD40: 1 | BE40: 1 | BF40: 1 | BG40: 1 | BH40: 0 | BI40: 0 | BJ40: 2 | BK40: 2 | BL40: 0 | BM40: 1 | BN40: 1 | BO40: 1 | BP40: 1 | BQ40: 0 | BR40: 1 | BS40: 0 | BT40: 0 | BU40: 1 | BV40: 0 | BW40: https://dirfo.sharepoint.com/:w:/r/sites/Grnneanskaffelser/Shared%20Documents/M%C3%B8bler/Statistikk%20og%20m%C3%A5ling/M%C3%A5ling%202022%20-%20Hedda/Konkurransegrunnlag/Konkurransegrunnlag%202021/Sykehusinnkj%C3%B8p%20HF%20-%2013.04.2021/Vedlegg%20Svarskjema%20etisk%20handel.docx?d=w2bdb75275bb1481da059e1c74ed981da&csf=1&web=1&e=0oPox1 | CB40: =IF((AK40+AL40+AO40+AP40+AS40+AT40+AU40+AW40)>=1,1,0) -> 1 | CC40: =IF((AK40+AL40+AO40+AP40+AU40+AW40+AX40+AY40)>=1,1,0) -> 1 | CD40: =IF((AM40+AN40+AQ40+AR40+AS40+AT40)>=1,1,0) -> 1 | CE40: =+CE39+1 -> 41 | CF40: {=+_xlfn.IFS(Tabell2[[#This Row],[EPD/Miljødeklarasjon - som krav, tildelingskriterium, kontraktsvilkår eller dokumentasjon]]=2,"Ja",Tabell2[[#This Row],[Bærekraftig trevirke/skogbruk - tømmerforordningen, FSC eller PEFC ]]=2,"Ja",Tabell2[[#This Row],[Krav til kvalitet / EN standarder/henvisning til Norsk møbelfakta]]=2,"Ja",Tabell2[[#This Row],[Robuste møbeltekstiler/ kvalitet på møbeltrekk]]=2,"Ja",Tabell2[[#This Row],[Design for lang levetid (Demontering, Reservedeler, produktinformasjon om montering og vedlikehold)]]=2,"Ja",Tabell2[[#This Row],[Merking av plast]]=2,"Ja",Tabell2[[#This Row],[Vask og rengjøring av møbler]]=2,"Ja",Tabell2[[#This Row],[Emballasjen skal være resirkulerbar/ gjenbrukbar (kravet om miljøvennelig emballasje)]]=2,"Ja",Tabell2[[#This Row],[Emballasje (retur- grønt punkt, gjenvinning) (kravet om gjenvinnbar emballasje)]]=2,"Ja",Tabell2[[#This Row],[Kjemikalietabellen (unngå skadelige kjemikaler)]]=2,"Ja",Tabell2[[#This Row],[Flammehemmere]]=2,"Ja",Tabell2[[#This Row],[PVC]]=2,"Ja",Tabell2[[#This Row],[Sosiale hensyn og menneske-rettigheter er inkludert]]=2,"Ja")} -> Ja
A41: 2021 | B41: 2021-353681 | C41: 44322 | D41: Tromsø kommune | E41: 940101808 | F41: Rammeavtale på nye møbler (kontormøbler, skolemøbler og institusjonsmøbler) - delkontrakt 1 Kontormøbler | G41: Troms og Finnmark | H41: Kommune | I41: 39100000 | J41: 0 | K41: Varer | L41: Åpen anbudskonkurranse | M41: 1 | N41: 20000000 | O41: 1 | P41: https://dirfo.sharepoint.com/:f:/r/sites/Grnneanskaffelser/Shared%20Documents/M%C3%B8bler/Statistikk%20og%20m%C3%A5ling/M%C3%A5ling%202022%20-%20Hedda/Konkurransegrunnlag/Konkurransegrunnlag%202021/Troms%C3%B8%20kommune%20-%2006.05.2021?csf=1&web=1&e=TBglZe | Q41: mads.bratteng.stagrum@tromso.kommune.no | S41: 0.3 | T41: 0.45 | U41: 0.25 | V41: 1 | W41: 1 | X41: 0 | Y41: 0 | Z41: 1 | AA41: 1 | AB41: 0 | AC41: 0 | AD41: 0 | AE41: 0 | AF41: 1 | AG41: 1 | AH41: 1 | AI41: 0 | AJ41: 1 | AK41: 0 | AL41: 1 | AM41: 0 | AN41: 1 | AO41: 1 | AP41: 2 | AQ41: 0 | AR41: 0 | AS41: 0 | AT41: 1 | AU41: 0 | AV41: 5 | AW41: 1 | AX41: 0 | AY41: 0 | AZ41: 0 | BA41: 0 | BB41: 2 | BC41: 0 | BD41: 1 | BE41: 1 | BF41: 1 | BG41: 0 | BH41: 0 | BI41: 1 | BJ41: 1 | BK41: 1 | BL41: 0 | BM41: 0 | BN41: 0 | BO41: 1 | BP41: 0 | BQ41: 0 | BR41: 1 | BS41: 0 | BT41: 1 | BU41: 0 | BV41: 0 | BW41: https://dirfo.sharepoint.com/:w:/r/sites/Grnneanskaffelser/Shared%20Documents/M%C3%B8bler/Statistikk%20og%20m%C3%A5ling/M%C3%A5ling%202022%20-%20Hedda/Konkurransegrunnlag/Konkurransegrunnlag%202021/Troms%C3%B8%20kommune%20-%2006.05.2021/Vedlegg%204%20Alminnelige%20kontraktsbestemmelser%20for%20varekj%C3%B8p.docx?d=w27826c50206e4888a4f2c4952107b02d&csf=1&web=1&e=s7CqRC | CB41: =IF((AK41+AL41+AO41+AP41+AS41+AT41+AU41+AW41)>=1,1,0) -> 1 | CC41: =IF((AK41+AL41+AO41+AP41+AU41+AW41+AX41+AY41)>=1,1,0) -> 1 | CD41: =IF((AM41+AN41+AQ41+AR41+AS41+AT41)>=1,1,0) -> 1 | CE41: =+CE40+1 -> 42 | CF41: {=+_xlfn.IFS(Tabell2[[#This Row],[EPD/Miljødeklarasjon - som krav, tildelingskriterium, kontraktsvilkår eller dokumentasjon]]=2,"Ja",Tabell2[[#This Row],[Bærekraftig trevirke/skogbruk - tømmerforordningen, FSC eller PEFC ]]=2,"Ja",Tabell2[[#This Row],[Krav til kvalitet / EN standarder/henvisning til Norsk møbelfakta]]=2,"Ja",Tabell2[[#This Row],[Robuste møbeltekstiler/ kvalitet på møbeltrekk]]=2,"Ja",Tabell2[[#This Row],[Design for lang levetid (Demontering, Reservedeler, produktinformasjon om montering og vedlikehold)]]=2,"Ja",Tabell2[[#This Row],[Merking av plast]]=2,"Ja",Tabell2[[#This Row],[Vask og rengjøring av møbler]]=2,"Ja",Tabell2[[#This Row],[Emballasjen skal være resirkulerbar/ gjenbrukbar (kravet om miljøvennelig emballasje)]]=2,"Ja",Tabell2[[#This Row],[Emballasje (retur- grønt punkt, gjenvinning) (kravet om gjenvinnbar emballasje)]]=2,"Ja",Tabell2[[#This Row],[Kjemikalietabellen (unngå skadelige kjemikaler)]]=2,"Ja",Tabell2[[#This Row],[Flammehemmere]]=2,"Ja",Tabell2[[#This Row],[PVC]]=2,"Ja",Tabell2[[#This Row],[Sosiale hensyn og menneske-rettigheter er inkludert]]=2,"Ja")} -> Ja
A42: 2021 | B42: 2021-377199 | C42: 44372 | D42: Trondheim kommune | E42: 942110464 | F42: Rammeavtale på kjøp, levering og montering av nye møbler - delkontrakt 3 Kontormøbler | G42: Trønderlag | H42: Kommune | I42: 39100000 | J42: 0 | K42: Varer | L42: Åpen anbudskonkurranse | M42: 1 | N42: 40000000 | O42: 1 | P42: https://www.mercell.com/nb-no/anbud/151524596/deltilbud-c-kontormoebler-anbud.aspx | Q42: flet@trondheim.kommune.no | S42: 0.2 | T42: 0.45 | U42: 0.35 | V42: 1 | W42: 1 | X42: 1 | Y42: 1 | Z42: 1 | AA42: 1 | AB42: 0 | AC42: 1 | AD42: 0 | AE42: 0 | AF42: 1 | AG42: 1 | AH42: 1 | AI42: 1 | AJ42: 2 | AK42: 2 | AL42: 2 | AM42: 0 | AN42: 1 | AO42: 1 | AP42: 0 | AQ42: 0 | AR42: 0 | AS42: 0 | AT42: 0 | AU42: 0 | AV42: 5 | AW42: 2 | AX42: 0 | AY42: 0 | AZ42: 1 | BA42: 1 | BB42: 2 | BC42: 1 | BD42: 1 | BE42: 1 | BF42: 1 | BG42: 1 | BH42: 0 | BI42: 1 | BJ42: 2 | BK42: 2 | BL42: 0 | BM42: 0 | BN42: 0 | BO42: 0 | BP42: 0 | BQ42: 0 | BR42: 1 | BS42: 0 | BT42: 1 | BU42: 1 | BV42: 0 | BW42: https://dirfo.sharepoint.com/:b:/r/sites/Grnneanskaffelser/Shared%20Documents/M%C3%B8bler/Statistikk%20og%20m%C3%A5ling/M%C3%A5ling%202022%20-%20Hedda/Konkurransegrunnlag/Konkurransegrunnlag%202021/Trondheim%20Kommune%20(delkontrakt%203%20-%20kontorm%C3%B8bler)%20-%2025.06.2021/Konkurransegrunnlag%20-%20Nye%20m%C3%B8bler%20til%20Trondheim%20kommune.pdf?csf=1&web=1&e=bbrG11 | CB42: =IF((AK42+AL42+AO42+AP42+AS42+AT42+AU42+AW42)>=1,1,0) -> 1 | CC42: =IF((AK42+AL42+AO42+AP42+AU42+AW42+AX42+AY42)>=1,1,0) -> 1 | CD42: =IF((AM42+AN42+AQ42+AR42+AS42+AT42)>=1,1,0) -> 1 | CE42: =+CE41+1 -> 43 | CF42: {=+_xlfn.IFS(Tabell2[[#This Row],[EPD/Miljødeklarasjon - som krav, tildelingskriterium, kontraktsvilkår eller dokumentasjon]]=2,"Ja",Tabell2[[#This Row],[Bærekraftig trevirke/skogbruk - tømmerforordningen, FSC eller PEFC ]]=2,"Ja",Tabell2[[#This Row],[Krav til kvalitet / EN standarder/henvisning til Norsk møbelfakta]]=2,"Ja",Tabell2[[#This Row],[Robuste møbeltekstiler/ kvalitet på møbeltrekk]]=2,"Ja",Tabell2[[#This Row],[Design for lang levetid (Demontering, Reservedeler, produktinformasjon om montering og vedlikehold)]]=2,"Ja",Tabell2[[#This Row],[Merking av plast]]=2,"Ja",Tabell2[[#This Row],[Vask og rengjøring av møbler]]=2,"Ja",Tabell2[[#This Row],[Emballasjen skal være resirkulerbar/ gjenbrukbar (kravet om miljøvennelig emballasje)]]=2,"Ja",Tabell2[[#This Row],[Emballasje (retur- grønt punkt, gjenvinning) (kravet om gjenvinnbar emballasje)]]=2,"Ja",Tabell2[[#This Row],[Kjemikalietabellen (unngå skadelige kjemikaler)]]=2,"Ja",Tabell2[[#This Row],[Flammehemmere]]=2,"Ja",Tabell2[[#This Row],[PVC]]=2,"Ja",Tabell2[[#This Row],[Sosiale hensyn og menneske-rettigheter er inkludert]]=2,"Ja")} -> Ja
A43: 2021 | B43: 2021-385094 | C43: 44303 | D43: Utdanningsdirektoratet | E43: 970018131 | F43: Møbler og inventar til Utdanningsdirektoratets nye lokaler i Molde | G43: Møre og Romsdal | H43: Statlig virksomhet | I43: 39130000 | J43: 0 | K43: Varer | L43: Åpen anbudskonkurranse | M43: 0 | N43: Ikke spesifisert | O43: 1 | P43: https://www.mercell.com/nb-no/anbud/153950415/moebler-og-inventar-til-utdanningsdirektoratets-nye-lokaler-i-molde-anbud.aspx | Q43: mads.aure@utdanningsdirektoratet.no | S43: 0.3 | T43: 0.3 | U43: 0.4 | V43: 1 | W43: 1 | X43: 1 | Y43: 0 | Z43: 0 | AA43: 1 | AB43: 0 | AC43: 0 | AD43: 0 | AE43: 0 | AF43: 0 | AG43: 1 | AH43: 1 | AI43: 1 | AJ43: 1 | AK43: 0 | AL43: 1 | AM43: 0 | AN43: 0 | AO43: 0 | AP43: 0 | AQ43: 0 | AR43: 0 | AS43: 0 | AT43: 1 | AU43: 0 | AV43: 3 | AW43: 0 | AX43: 0 | AY43: 0 | AZ43: 0 | BA43: 0 | BB43: 1 | BC43: 0 | BD43: 0 | BE43: 0 | BF43: 0 | BG43: 0 | BH43: 0 | BI43: 0 | BJ43: 0 | BK43: 0 | BL43: 0 | BM43: 0 | BN43: 0 | BO43: 0 | BP43: 0 | BQ43: 0 | BR43: 0 | BS43: 0 | BT43: 0 | BU43: 0 | BV43: 0 | BW43: - | CB43: =IF((AK43+AL43+AO43+AP43+AS43+AT43+AU43+AW43)>=1,1,0) -> 1 | CC43: =IF((AK43+AL43+AO43+AP43+AU43+AW43+AX43+AY43)>=1,1,0) -> 1 | CD43: =IF((AM43+AN43+AQ43+AR43+AS43+AT43)>=1,1,0) -> 1 | CE43: =+CE42+1 -> 44 | CF43: {=+_xlfn.IFS(Tabell2[[#This Row],[EPD/Miljødeklarasjon - som krav, tildelingskriterium, kontraktsvilkår eller dokumentasjon]]=2,"Ja",Tabell2[[#This Row],[Bærekraftig trevirke/skogbruk - tømmerforordningen, FSC eller PEFC ]]=2,"Ja",Tabell2[[#This Row],[Krav til kvalitet / EN standarder/henvisning til Norsk møbelfakta]]=2,"Ja",Tabell2[[#This Row],[Robuste møbeltekstiler/ kvalitet på møbeltrekk]]=2,"Ja",Tabell2[[#This Row],[Design for lang levetid (Demontering, Reservedeler, produktinformasjon om montering og vedlikehold)]]=2,"Ja",Tabell2[[#This Row],[Merking av plast]]=2,"Ja",Tabell2[[#This Row],[Vask og rengjøring av møbler]]=2,"Ja",Tabell2[[#This Row],[Emballasjen skal være resirkulerbar/ gjenbrukbar (kravet om miljøvennelig emballasje)]]=2,"Ja",Tabell2[[#This Row],[Emballasje (retur- grønt punkt, gjenvinning) (kravet om gjenvinnbar emballasje)]]=2,"Ja",Tabell2[[#This Row],[Kjemikalietabellen (unngå skadelige kjemikaler)]]=2,"Ja",Tabell2[[#This Row],[Flammehemmere]]=2,"Ja",Tabell2[[#This Row],[PVC]]=2,"Ja",Tabell2[[#This Row],[Sosiale hensyn og menneske-rettigheter er inkludert]]=2,"Ja")} -> #N/A
A44: 2021 | B44: 2021-381987 | C44: 44220 | D44: Ålesund kommune | E44: 920415288 | F44: Anskaffelse - Kontorstoler, 2021 - delkontrakt 1 - KANSELLERT | G44: Møre og Romsdal | H44: Kommune | I44: 39112000 | J44: 0 | K44: Varer | L44: Åpen anbudskonkurranse | M44: 1 | N44: 3500000 | O44: 1 | P44: https://dirfo.sharepoint.com/:f:/r/sites/Grnneanskaffelser/Shared%20Documents/M%C3%B8bler/Statistikk%20og%20m%C3%A5ling/M%C3%A5ling%202022%20-%20Hedda/Konkurransegrunnlag/Konkurransegrunnlag%202021/%C3%85lesund%20kommune%20-%20kontorstoler%202%20utlysninger/KANSELLERT%20%C3%85lesund%20kommune%20-%2024.01.2021?csf=1&web=1&e=rmGQan | Q44: gina.olsnes@alesund.kommune.no | S44: 0.2 | T44: 0.4 | U44: 0.4 | V44: 1 | W44: 1 | X44: 1 | Y44: 1 | Z44: 0 | AA44: 1 | AB44: 0 | AC44: 0 | AD44: 0 | AE44: 0 | AF44: 1 | AG44: 1 | AH44: 1 | AI44: 2 | AJ44: 1 | AK44: 1 | AL44: 2 | AM44: 0 | AN44: 1 | AO44: 1 | AP44: 1 | AQ44: 0 | AR44: 0 | AS44: 0 | AT44: 0 | AU44: 0 | AV44: 5 | AW44: 1 | AX44: 1 | AY44: 0 | AZ44: 1 | BA44: 2 | BB44: 1 | BC44: 2 | BD44: 1 | BE44: 1 | BF44: 1 | BG44: 1 | BH44: 0 | BI44: 1 | BJ44: 2 | BK44: 2 | BL44: 0 | BM44: 1 | BN44: 1 | BO44: 1 | BP44: 1 | BQ44: 0 | BR44: 1 | BS44: 0 | BT44: 1 | BU44: 0 | BV44: 0 | BW44: https://dirfo.sharepoint.com/:b:/r/sites/Grnneanskaffelser/Shared%20Documents/M%C3%B8bler/Statistikk%20og%20m%C3%A5ling/M%C3%A5ling%202022%20-%20Hedda/Konkurransegrunnlag/Konkurransegrunnlag%202021/%C3%85lesund%20kommune%20-%20kontorstoler%202%20utlysninger/KANSELLERT%20%C3%85lesund%20kommune%20-%2024.01.2021/Publisert%20konkurransegrunnlag.pdf?csf=1&web=1&e=raZXAu | CB44: =IF((AK44+AL44+AO44+AP44+AS44+AT44+AU44+AW44)>=1,1,0) -> 1 | CC44: =IF((AK44+AL44+AO44+AP44+AU44+AW44+AX44+AY44)>=1,1,0) -> 1 | CD44: =IF((AM44+AN44+AQ44+AR44+AS44+AT44)>=1,1,0) -> 1 | CE44: =+CE43+1 -> 45 | CF44: {=+_xlfn.IFS(Tabell2[[#This Row],[EPD/Miljødeklarasjon - som krav, tildelingskriterium, kontraktsvilkår eller dokumentasjon]]=2,"Ja",Tabell2[[#This Row],[Bærekraftig trevirke/skogbruk - tømmerforordningen, FSC eller PEFC ]]=2,"Ja",Tabell2[[#This Row],[Krav til kvalitet / EN standarder/henvisning til Norsk møbelfakta]]=2,"Ja",Tabell2[[#This Row],[Robuste møbeltekstiler/ kvalitet på møbeltrekk]]=2,"Ja",Tabell2[[#This Row],[Design for lang levetid (Demontering, Reservedeler, produktinformasjon om montering og vedlikehold)]]=2,"Ja",Tabell2[[#This Row],[Merking av plast]]=2,"Ja",Tabell2[[#This Row],[Vask og rengjøring av møbler]]=2,"Ja",Tabell2[[#This Row],[Emballasjen skal være resirkulerbar/ gjenbrukbar (kravet om miljøvennelig emballasje)]]=2,"Ja",Tabell2[[#This Row],[Emballasje (retur- grønt punkt, gjenvinning) (kravet om gjenvinnbar emballasje)]]=2,"Ja",Tabell2[[#This Row],[Kjemikalietabellen (unngå skadelige kjemikaler)]]=2,"Ja",Tabell2[[#This Row],[Flammehemmere]]=2,"Ja",Tabell2[[#This Row],[PVC]]=2,"Ja",Tabell2[[#This Row],[Sosiale hensyn og menneske-rettigheter er inkludert]]=2,"Ja")} -> Ja
A45: 2021 | B45: 2021-381987 | C45: 44220 | D45: Ålesund kommune | E45: 920415288 | F45: Anskaffelse - Kontorstoler, 2021 - delkontrakt 2 - KANSELLERT | G45: Møre og Romsdal | H45: Kommune | I45: 39112000 | J45: 0 | K45: Varer | L45: Åpen anbudskonkurranse | M45: 1 | N45: 1500000 | O45: 1 | P45: https://dirfo.sharepoint.com/:f:/r/sites/Grnneanskaffelser/Shared%20Documents/M%C3%B8bler/Statistikk%20og%20m%C3%A5ling/M%C3%A5ling%202022%20-%20Hedda/Konkurransegrunnlag/Konkurransegrunnlag%202021/%C3%85lesund%20kommune%20-%20kontorstoler%202%20utlysninger/KANSELLERT%20%C3%85lesund%20kommune%20-%2024.01.2021?csf=1&web=1&e=rmGQan | Q45: gina.olsnes@alesund.kommune.no | S45: 0.2 | T45: 0.4 | U45: 0.4 | V45: 1 | W45: 1 | X45: 1 | Y45: 1 | Z45: 0 | AA45: 1 | AB45: 0 | AC45: 0 | AD45: 0 | AE45: 0 | AF45: 1 | AG45: 1 | AH45: 1 | AI45: 2 | AJ45: 1 | AK45: 1 | AL45: 2 | AM45: 0 | AN45: 1 | AO45: 1 | AP45: 1 | AQ45: 0 | AR45: 0 | AS45: 0 | AT45: 0 | AU45: 0 | AV45: 5 | AW45: 1 | AX45: 1 | AY45: 0 | AZ45: 1 | BA45: 2 | BB45: 1 | BC45: 2 | BD45: 1 | BE45: 1 | BF45: 1 | BG45: 1 | BH45: 0 | BI45: 1 | BJ45: 2 | BK45: 2 | BL45: 0 | BM45: 1 | BN45: 1 | BO45: 1 | BP45: 1 | BQ45: 0 | BR45: 1 | BS45: 0 | BT45: 1 | BU45: 0 | BV45: 0 | BW45: https://dirfo.sharepoint.com/:b:/r/sites/Grnneanskaffelser/Shared%20Documents/M%C3%B8bler/Statistikk%20og%20m%C3%A5ling/M%C3%A5ling%202022%20-%20Hedda/Konkurransegrunnlag/Konkurransegrunnlag%202021/%C3%85lesund%20kommune%20-%20kontorstoler%202%20utlysninger/KANSELLERT%20%C3%85lesund%20kommune%20-%2024.01.2021/Publisert%20konkurransegrunnlag.pdf?csf=1&web=1&e=raZXAu | CB45: =IF((AK45+AL45+AO45+AP45+AS45+AT45+AU45+AW45)>=1,1,0) -> 1 | CC45: =IF((AK45+AL45+AO45+AP45+AU45+AW45+AX45+AY45)>=1,1,0) -> 1 | CD45: =IF((AM45+AN45+AQ45+AR45+AS45+AT45)>=1,1,0) -> 1 | CE45: =+CE44+1 -> 46 | CF45: {=+_xlfn.IFS(Tabell2[[#This Row],[EPD/Miljødeklarasjon - som krav, tildelingskriterium, kontraktsvilkår eller dokumentasjon]]=2,"Ja",Tabell2[[#This Row],[Bærekraftig trevirke/skogbruk - tømmerforordningen, FSC eller PEFC ]]=2,"Ja",Tabell2[[#This Row],[Krav til kvalitet / EN standarder/henvisning til Norsk møbelfakta]]=2,"Ja",Tabell2[[#This Row],[Robuste møbeltekstiler/ kvalitet på møbeltrekk]]=2,"Ja",Tabell2[[#This Row],[Design for lang levetid (Demontering, Reservedeler, produktinformasjon om montering og vedlikehold)]]=2,"Ja",Tabell2[[#This Row],[Merking av plast]]=2,"Ja",Tabell2[[#This Row],[Vask og rengjøring av møbler]]=2,"Ja",Tabell2[[#This Row],[Emballasjen skal være resirkulerbar/ gjenbrukbar (kravet om miljøvennelig emballasje)]]=2,"Ja",Tabell2[[#This Row],[Emballasje (retur- grønt punkt, gjenvinning) (kravet om gjenvinnbar emballasje)]]=2,"Ja",Tabell2[[#This Row],[Kjemikalietabellen (unngå skadelige kjemikaler)]]=2,"Ja",Tabell2[[#This Row],[Flammehemmere]]=2,"Ja",Tabell2[[#This Row],[PVC]]=2,"Ja",Tabell2[[#This Row],[Sosiale hensyn og menneske-rettigheter er inkludert]]=2,"Ja")} -> Ja
A46: 2021 | B46: 2021-332293 | C46: 44283 | D46: Ålesund kommune | E46: 920415288 | F46: Anskaffelse - Kontorstoler, 2021 (2) - delkontrakt 1 | G46: Møre og Romsdal | H46: Kommune | I46: 39100000 | J46: 0 | K46: Varer | L46: Åpen anbudskonkurranse | M46: 1 | N46: 3500000 | O46: 1 | P46: https://dirfo.sharepoint.com/:f:/r/sites/Grnneanskaffelser/Shared%20Documents/M%C3%B8bler/Statistikk%20og%20m%C3%A5ling/M%C3%A5ling%202022%20-%20Hedda/Konkurransegrunnlag/Konkurransegrunnlag%202021/%C3%85lesund%20kommune%20-%20kontorstoler%202%20utlysninger/%C3%85lesund%20kommune%20-%2028.03.2021?csf=1&web=1&e=IXku4A | Q46: gina.olsnes@alesund.kommune.no | S46: 0.2 | T46: 0.4 | U46: 0.4 | V46: 1 | W46: 1 | X46: 1 | Y46: 1 | Z46: 0 | AA46: 1 | AB46: 0 | AC46: 0 | AD46: 0 | AE46: 0 | AF46: 1 | AG46: 1 | AH46: 1 | AI46: 2 | AJ46: 1 | AK46: 1 | AL46: 2 | AM46: 0 | AN46: 1 | AO46: 1 | AP46: 1 | AQ46: 0 | AR46: 0 | AS46: 0 | AT46: 0 | AU46: 0 | AV46: 5 | AW46: 1 | AX46: 0 | AY46: 0 | AZ46: 1 | BA46: 2 | BB46: 1 | BC46: 2 | BD46: 1 | BE46: 1 | BF46: 1 | BG46: 1 | BH46: 0 | BI46: 1 | BJ46: 2 | BK46: 2 | BL46: 0 | BM46: 1 | BN46: 1 | BO46: 1 | BP46: 1 | BQ46: 0 | BR46: 1 | BS46: 0 | BT46: 1 | BU46: 0 | BV46: 0 | BW46: https://dirfo.sharepoint.com/:b:/r/sites/Grnneanskaffelser/Shared%20Documents/M%C3%B8bler/Statistikk%20og%20m%C3%A5ling/M%C3%A5ling%202022%20-%20Hedda/Konkurransegrunnlag/Konkurransegrunnlag%202021/%C3%85lesund%20kommune%20-%20kontorstoler%202%20utlysninger/%C3%85lesund%20kommune%20-%2028.03.2021/KKG%20-%20kontorstoler.pdf?csf=1&web=1&e=6vAAfQ | CB46: =IF((AK46+AL46+AO46+AP46+AS46+AT46+AU46+AW46)>=1,1,0) -> 1 | CC46: =IF((AK46+AL46+AO46+AP46+AU46+AW46+AX46+AY46)>=1,1,0) -> 1 | CD46: =IF((AM46+AN46+AQ46+AR46+AS46+AT46)>=1,1,0) -> 1 | CE46: =+CE45+1 -> 47 | CF46: {=+_xlfn.IFS(Tabell2[[#This Row],[EPD/Miljødeklarasjon - som krav, tildelingskriterium, kontraktsvilkår eller dokumentasjon]]=2,"Ja",Tabell2[[#This Row],[Bærekraftig trevirke/skogbruk - tømmerforordningen, FSC eller PEFC ]]=2,"Ja",Tabell2[[#This Row],[Krav til kvalitet / EN standarder/henvisning til Norsk møbelfakta]]=2,"Ja",Tabell2[[#This Row],[Robuste møbeltekstiler/ kvalitet på møbeltrekk]]=2,"Ja",Tabell2[[#This Row],[Design for lang levetid (Demontering, Reservedeler, produktinformasjon om montering og vedlikehold)]]=2,"Ja",Tabell2[[#This Row],[Merking av plast]]=2,"Ja",Tabell2[[#This Row],[Vask og rengjøring av møbler]]=2,"Ja",Tabell2[[#This Row],[Emballasjen skal være resirkulerbar/ gjenbrukbar (kravet om miljøvennelig emballasje)]]=2,"Ja",Tabell2[[#This Row],[Emballasje (retur- grønt punkt, gjenvinning) (kravet om gjenvinnbar emballasje)]]=2,"Ja",Tabell2[[#This Row],[Kjemikalietabellen (unngå skadelige kjemikaler)]]=2,"Ja",Tabell2[[#This Row],[Flammehemmere]]=2,"Ja",Tabell2[[#This Row],[PVC]]=2,"Ja",Tabell2[[#This Row],[Sosiale hensyn og menneske-rettigheter er inkludert]]=2,"Ja")} -> Ja
A47: 2021 | B47: 2021-332293 | C47: 44283 | D47: Ålesund kommune | E47: 920415288 | F47: Anskaffelse - Kontorstoler, 2021 (2) - delkontrakt 2 | G47: Møre og Romsdal | H47: Kommune | I47: 39100000 | J47: 0 | K47: Varer | L47: Åpen anbudskonkurranse | M47: 1 | N47: 1500000 | O47: 1 | P47: https://dirfo.sharepoint.com/:f:/r/sites/Grnneanskaffelser/Shared%20Documents/M%C3%B8bler/Statistikk%20og%20m%C3%A5ling/M%C3%A5ling%202022%20-%20Hedda/Konkurransegrunnlag/Konkurransegrunnlag%202021/%C3%85lesund%20kommune%20-%20kontorstoler%202%20utlysninger/%C3%85lesund%20kommune%20-%2028.03.2021?csf=1&web=1&e=IXku4A | Q47: gina.olsnes@alesund.kommune.no | S47: 0.2 | T47: 0.4 | U47: 0.4 | V47: 1 | W47: 1 | X47: 1 | Y47: 1 | Z47: 0 | AA47: 1 | AB47: 0 | AC47: 0 | AD47: 0 | AE47: 0 | AF47: 1 | AG47: 1 | AH47: 1 | AI47: 2 | AJ47: 1 | AK47: 1 | AL47: 2 | AM47: 0 | AN47: 1 | AO47: 1 | AP47: 1 | AQ47: 0 | AR47: 0 | AS47: 0 | AT47: 0 | AU47: 0 | AV47: 5 | AW47: 1 | AX47: 0 | AY47: 0 | AZ47: 1 | BA47: 2 | BB47: 1 | BC47: 2 | BD47: 1 | BE47: 1 | BF47: 1 | BG47: 1 | BH47: 0 | BI47: 1 | BJ47: 2 | BK47: 2 | BL47: 0 | BM47: 1 | BN47: 1 | BO47: 1 | BP47: 1 | BQ47: 0 | BR47: 1 | BS47: 0 | BT47: 1 | BU47: 0 | BV47: 0 | BW47: https://dirfo.sharepoint.com/:b:/r/sites/Grnneanskaffelser/Shared%20Documents/M%C3%B8bler/Statistikk%20og%20m%C3%A5ling/M%C3%A5ling%202022%20-%20Hedda/Konkurransegrunnlag/Konkurransegrunnlag%202021/%C3%85lesund%20kommune%20-%20kontorstoler%202%20utlysninger/%C3%85lesund%20kommune%20-%2028.03.2021/KKG%20-%20kontorstoler.pdf?csf=1&web=1&e=6vAAfQ | CB47: =IF((AK47+AL47+AO47+AP47+AS47+AT47+AU47+AW47)>=1,1,0) -> 1 | CC47: =IF((AK47+AL47+AO47+AP47+AU47+AW47+AX47+AY47)>=1,1,0) -> 1 | CD47: =IF((AM47+AN47+AQ47+AR47+AS47+AT47)>=1,1,0) -> 1 | CE47: =+CE46+1 -> 48 | CF47: {=+_xlfn.IFS(Tabell2[[#This Row],[EPD/Miljødeklarasjon - som krav, tildelingskriterium, kontraktsvilkår eller dokumentasjon]]=2,"Ja",Tabell2[[#This Row],[Bærekraftig trevirke/skogbruk - tømmerforordningen, FSC eller PEFC ]]=2,"Ja",Tabell2[[#This Row],[Krav til kvalitet / EN standarder/henvisning til Norsk møbelfakta]]=2,"Ja",Tabell2[[#This Row],[Robuste møbeltekstiler/ kvalitet på møbeltrekk]]=2,"Ja",Tabell2[[#This Row],[Design for lang levetid (Demontering, Reservedeler, produktinformasjon om montering og vedlikehold)]]=2,"Ja",Tabell2[[#This Row],[Merking av plast]]=2,"Ja",Tabell2[[#This Row],[Vask og rengjøring av møbler]]=2,"Ja",Tabell2[[#This Row],[Emballasjen skal være resirkulerbar/ gjenbrukbar (kravet om miljøvennelig emballasje)]]=2,"Ja",Tabell2[[#This Row],[Emballasje (retur- grønt punkt, gjenvinning) (kravet om gjenvinnbar emballasje)]]=2,"Ja",Tabell2[[#This Row],[Kjemikalietabellen (unngå skadelige kjemikaler)]]=2,"Ja",Tabell2[[#This Row],[Flammehemmere]]=2,"Ja",Tabell2[[#This Row],[PVC]]=2,"Ja",Tabell2[[#This Row],[Sosiale hensyn og menneske-rettigheter er inkludert]]=2,"Ja")} -> Ja
A48: 2021 | B48: 2021-312165 | C48: 44378 | D48: Ålesund kommune | E48: 920415288 | F48: Anskaffelse - Kontormøbler, 2021 | G48: Møre og Romsdal | H48: Kommune | I48: 39130000 | J48: 0 | K48: Varer | L48: Åpen anbudskonkurranse | M48: 0 | N48: 14000000 | O48: 1 | P48: https://dirfo.sharepoint.com/:f:/r/sites/Grnneanskaffelser/Shared%20Documents/M%C3%B8bler/Statistikk%20og%20m%C3%A5ling/M%C3%A5ling%202022%20-%20Hedda/Konkurransegrunnlag/Konkurransegrunnlag%202021/%C3%85lesund%20kommune%20-%2001.07.2021?csf=1&web=1&e=95wbam | Q48: gina.olsnes@alesund.kommune.no | S48: 0.2 | T48: 0.4 | U48: 0.4 | V48: 1 | W48: 1 | X48: 1 | Y48: 1 | Z48: 0 | AA48: 0 | AB48: 0 | AC48: 1 | AD48: 0 | AE48: 0 | AF48: 1 | AG48: 1 | AH48: 1 | AI48: 1 | AJ48: 0 | AK48: 2 | AL48: 2 | AM48: 0 | AN48: 1 | AO48: 1 | AP48: 0 | AQ48: 0 | AR48: 0 | AS48: 0 | AT48: 0 | AU48: 0 | AV48: 5 | AW48: 1 | AX48: 0 | AY48: 0 | AZ48: 1 | BA48: 1 | BB48: 1 | BC48: 2 | BD48: 1 | BE48: 1 | BF48: 1 | BG48: 1 | BH48: 0 | BI48: 1 | BJ48: 2 | BK48: 2 | BL48: 0 | BM48: 1 | BN48: 1 | BO48: 1 | BP48: 1 | BQ48: 0 | BR48: 1 | BS48: 0 | BT48: 1 | BU48: 0 | BV48: 0 | BW48: https://dirfo.sharepoint.com/:b:/r/sites/Grnneanskaffelser/Shared%20Documents/M%C3%B8bler/Statistikk%20og%20m%C3%A5ling/M%C3%A5ling%202022%20-%20Hedda/Konkurransegrunnlag/Konkurransegrunnlag%202021/%C3%85lesund%20kommune%20-%2001.07.2021/Konkurransegrunnlag.pdf?csf=1&web=1&e=9cG5tj | CB48: =IF((AK48+AL48+AO48+AP48+AS48+AT48+AU48+AW48)>=1,1,0) -> 1 | CC48: =IF((AK48+AL48+AO48+AP48+AU48+AW48+AX48+AY48)>=1,1,0) -> 1 | CD48: =IF((AM48+AN48+AQ48+AR48+AS48+AT48)>=1,1,0) -> 1 | CE48: =+CE47+1 -> 49 | CF48: {=+_xlfn.IFS(Tabell2[[#This Row],[EPD/Miljødeklarasjon - som krav, tildelingskriterium, kontraktsvilkår eller dokumentasjon]]=2,"Ja",Tabell2[[#This Row],[Bærekraftig trevirke/skogbruk - tømmerforordningen, FSC eller PEFC ]]=2,"Ja",Tabell2[[#This Row],[Krav til kvalitet / EN standarder/henvisning til Norsk møbelfakta]]=2,"Ja",Tabell2[[#This Row],[Robuste møbeltekstiler/ kvalitet på møbeltrekk]]=2,"Ja",Tabell2[[#This Row],[Design for lang levetid (Demontering, Reservedeler, produktinformasjon om montering og vedlikehold)]]=2,"Ja",Tabell2[[#This Row],[Merking av plast]]=2,"Ja",Tabell2[[#This Row],[Vask og rengjøring av møbler]]=2,"Ja",Tabell2[[#This Row],[Emballasjen skal være resirkulerbar/ gjenbrukbar (kravet om miljøvennelig emballasje)]]=2,"Ja",Tabell2[[#This Row],[Emballasje (retur- grønt punkt, gjenvinning) (kravet om gjenvinnbar emballasje)]]=2,"Ja",Tabell2[[#This Row],[Kjemikalietabellen (unngå skadelige kjemikaler)]]=2,"Ja",Tabell2[[#This Row],[Flammehemmere]]=2,"Ja",Tabell2[[#This Row],[PVC]]=2,"Ja",Tabell2[[#This Row],[Sosiale hensyn og menneske-rettigheter er inkludert]]=2,"Ja")} -> Ja
A49: 2021 | B49: 2021-321467 | C49: 44216 | D49: NIBIO, Norsk institutt for bioøkonomi | E49: 988983837 | F49: 21/00031 Rammeavtale for kjøp av nye kontormøbler og tilstøtende møblement | G49: Viken | H49: Statlig virksomhet | I49: 39130000 | J49: 0 | K49: Varer | L49: Åpen anbudskonkurranse | M49: 0 | N49: 4000000 | O49: 1 | P49: https://www.mercell.com/nb-no/anbud/147559377/2100031-rammeavtale-for-kjoep-av-nye-kontormoebler-og-tilstoetende-moeblement-anbud.aspx | Q49: borge.jensen@nibio.no | S49: 0.2 | T49: 0.3 | U49: 0.5 | V49: 1 | W49: 1 | X49: 1 | Y49: 0 | Z49: 0 | AA49: 1 | AB49: 0 | AC49: 1 | AD49: 0 | AE49: 0 | AF49: 0 | AG49: 0 | AH49: 1 | AI49: 0 | AJ49: 1 | AK49: 1 | AL49: 1 | AM49: 0 | AN49: 1 | AO49: 1 | AP49: 0 | AQ49: 0 | AR49: 0 | AS49: 0 | AT49: 0 | AU49: 0 | AV49: 5 | AW49: 0 | AX49: 0 | AY49: 0 | AZ49: 0 | BA49: 0 | BB49: 1 | BC49: 0 | BD49: 1 | BE49: 1 | BF49: 1 | BG49: 0 | BH49: 0 | BI49: 0 | BJ49: 0 | BK49: 0 | BL49: 0 | BM49: 0 | BN49: 1 | BO49: 0 | BP49: 0 | BQ49: 0 | BR49: 0 | BS49: 0 | BT49: 0 | BU49: 0 | BV49: 0 | BW49: - | CB49: =IF((AK49+AL49+AO49+AP49+AS49+AT49+AU49+AW49)>=1,1,0) -> 1 | CC49: =IF((AK49+AL49+AO49+AP49+AU49+AW49+AX49+AY49)>=1,1,0) -> 1 | CD49: =IF((AM49+AN49+AQ49+AR49+AS49+AT49)>=1,1,0) -> 1 | CE49: =+CE48+1 -> 50 | CF49: {=+_xlfn.IFS(Tabell2[[#This Row],[EPD/Miljødeklarasjon - som krav, tildelingskriterium, kontraktsvilkår eller dokumentasjon]]=2,"Ja",Tabell2[[#This Row],[Bærekraftig trevirke/skogbruk - tømmerforordningen, FSC eller PEFC ]]=2,"Ja",Tabell2[[#This Row],[Krav til kvalitet / EN standarder/henvisning til Norsk møbelfakta]]=2,"Ja",Tabell2[[#This Row],[Robuste møbeltekstiler/ kvalitet på møbeltrekk]]=2,"Ja",Tabell2[[#This Row],[Design for lang levetid (Demontering, Reservedeler, produktinformasjon om montering og vedlikehold)]]=2,"Ja",Tabell2[[#This Row],[Merking av plast]]=2,"Ja",Tabell2[[#This Row],[Vask og rengjøring av møbler]]=2,"Ja",Tabell2[[#This Row],[Emballasjen skal være resirkulerbar/ gjenbrukbar (kravet om miljøvennelig emballasje)]]=2,"Ja",Tabell2[[#This Row],[Emballasje (retur- grønt punkt, gjenvinning) (kravet om gjenvinnbar emballasje)]]=2,"Ja",Tabell2[[#This Row],[Kjemikalietabellen (unngå skadelige kjemikaler)]]=2,"Ja",Tabell2[[#This Row],[Flammehemmere]]=2,"Ja",Tabell2[[#This Row],[PVC]]=2,"Ja",Tabell2[[#This Row],[Sosiale hensyn og menneske-rettigheter er inkludert]]=2,"Ja")} -> #N/A
A50: 2021 | B50: 2021-326109 | C50: 44234 | D50: Politiets fellestjenester | E50: 974761157 | F50: Kontor- og miljømøbler | G50: Oslo | H50: Statlig virksomhet | I50: 39100000 | J50: 0 | K50: Varer | L50: Konkurranse med forhandling | M50: 0 | N50: 145000000 | O50: 1 | P50: https://dirfo.sharepoint.com/:f:/r/sites/Grnneanskaffelser/Shared%20Documents/M%C3%B8bler/Statistikk%20og%20m%C3%A5ling/M%C3%A5ling%202022%20-%20Hedda/Konkurransegrunnlag/Konkurransegrunnlag%202021/Politiets%20Fellestjenester%20-%2007.02.2021?csf=1&web=1&e=l0EqPM | Q50: hege.lund@politiet.no | S50: 0 | T50: 0.5 | U50: 0.5 | V50: 0 | W50: 0 | X50: 0 | Y50: 1 | Z50: 0 | AA50: 1 | AB50: 0 | AC50: 1 | AD50: 0 | AE50: 0 | AF50: 1 | AG50: 0 | AH50: 1 | AI50: 1 | AJ50: 1 | AK50: 1 | AL50: 2 | AM50: 0 | AN50: 0 | AO50: 1 | AP50: 0 | AQ50: 0 | AR50: 1 | AS50: 0 | AT50: 0 | AU50: 0 | AV50: 5 | AW50: 0 | AX50: 0 | AY50: 0 | AZ50: 1 | BA50: 0 | BB50: 1 | BC50: 0 | BD50: 1 | BE50: 0 | BF50: 1 | BG50: 0 | BH50: 1 | BI50: 0 | BJ50: 1 | BK50: 0 | BL50: 0 | BM50: 0 | BN50: 1 | BO50: 0 | BP50: 0 | BQ50: 0 | BR50: 1 | BS50: 0 | BT50: 1 | BU50: 0 | BV50: 0 | BW50: https://dirfo.sharepoint.com/:b:/r/sites/Grnneanskaffelser/Shared%20Documents/M%C3%B8bler/Statistikk%20og%20m%C3%A5ling/M%C3%A5ling%202022%20-%20Hedda/Konkurransegrunnlag/Konkurransegrunnlag%202021/Politiets%20Fellestjenester%20-%2007.02.2021/9.%20Alminnelige%20avtalevilk%C3%A5r.pdf?csf=1&web=1&e=jabH56 | CB50: =IF((AK50+AL50+AO50+AP50+AS50+AT50+AU50+AW50)>=1,1,0) -> 1 | CC50: =IF((AK50+AL50+AO50+AP50+AU50+AW50+AX50+AY50)>=1,1,0) -> 1 | CD50: =IF((AM50+AN50+AQ50+AR50+AS50+AT50)>=1,1,0) -> 1 | CE50: =+CE49+1 -> 51 | CF50: {=+_xlfn.IFS(Tabell2[[#This Row],[EPD/Miljødeklarasjon - som krav, tildelingskriterium, kontraktsvilkår eller dokumentasjon]]=2,"Ja",Tabell2[[#This Row],[Bærekraftig trevirke/skogbruk - tømmerforordningen, FSC eller PEFC ]]=2,"Ja",Tabell2[[#This Row],[Krav til kvalitet / EN standarder/henvisning til Norsk møbelfakta]]=2,"Ja",Tabell2[[#This Row],[Robuste møbeltekstiler/ kvalitet på møbeltrekk]]=2,"Ja",Tabell2[[#This Row],[Design for lang levetid (Demontering, Reservedeler, produktinformasjon om montering og vedlikehold)]]=2,"Ja",Tabell2[[#This Row],[Merking av plast]]=2,"Ja",Tabell2[[#This Row],[Vask og rengjøring av møbler]]=2,"Ja",Tabell2[[#This Row],[Emballasjen skal være resirkulerbar/ gjenbrukbar (kravet om miljøvennelig emballasje)]]=2,"Ja",Tabell2[[#This Row],[Emballasje (retur- grønt punkt, gjenvinning) (kravet om gjenvinnbar emballasje)]]=2,"Ja",Tabell2[[#This Row],[Kjemikalietabellen (unngå skadelige kjemikaler)]]=2,"Ja",Tabell2[[#This Row],[Flammehemmere]]=2,"Ja",Tabell2[[#This Row],[PVC]]=2,"Ja",Tabell2[[#This Row],[Sosiale hensyn og menneske-rettigheter er inkludert]]=2,"Ja")} -> Ja
A51: 2021 | B51: 2021-348349 | C51: 44241 | D51: Statens arbeidsmiljøinstitutt | E51: 874761222 | F51: Kontorinventar, rammeavtale | G51: Oslo | H51: Statlig virksomhet | I51: 39130000 | J51: 0 | K51: Varer | L51: Åpen anbudskonkurranse | M51: 0 | N51: 1500000 | O51: 1 | P51: https://dirfo.sharepoint.com/:f:/r/sites/Grnneanskaffelser/Shared%20Documents/M%C3%B8bler/Statistikk%20og%20m%C3%A5ling/M%C3%A5ling%202022%20-%20Hedda/Konkurransegrunnlag/Konkurransegrunnlag%202021/Statens%20arbeidsmilj%C3%B8institutt%20-%2014.02.2021?csf=1&web=1&e=gtE7Vy | Q51: tor.kristian@innkjopskontoret.no | S51: 0 | T51: 0.3 | U51: 0.7 | V51: 0 | W51: 0 | X51: 0 | Y51: 0 | Z51: 0 | AA51: 1 | AB51: 0 | AC51: 0 | AD51: 0 | AE51: 0 | AF51: 0 | AG51: 0 | AH51: 1 | AI51: 1 | AJ51: 1 | AK51: 0 | AL51: 0 | AM51: 0 | AN51: 0 | AO51: 1 | AP51: 1 | AQ51: 0 | AR51: 0 | AS51: 0 | AT51: 0 | AU51: 0 | AV51: 5 | AW51: 0 | AX51: 0 | AY51: 0 | AZ51: 1 | BA51: 0 | BB51: 1 | BC51: 0 | BD51: 1 | BE51: 1 | BF51: 1 | BG51: 0 | BH51: 1 | BI51: 1 | BJ51: 1 | BK51: 0 | BL51: 0 | BM51: 0 | BN51: 0 | BO51: 0 | BP51: 0 | BQ51: 0 | BR51: 1 | BS51: 0 | BT51: 0 | BU51: 0 | BV51: 1 | BW51: https://dirfo.sharepoint.com/:b:/r/sites/Grnneanskaffelser/Shared%20Documents/M%C3%B8bler/Statistikk%20og%20m%C3%A5ling/M%C3%A5ling%202022%20-%20Hedda/Konkurransegrunnlag/Konkurransegrunnlag%202021/Statens%20arbeidsmilj%C3%B8institutt%20-%2014.02.2021/Kunngjort%20konkurransegrunnlag.pdf?csf=1&web=1&e=nrIxPS | CB51: =IF((AK51+AL51+AO51+AP51+AS51+AT51+AU51+AW51)>=1,1,0) -> 1 | CC51: =IF((AK51+AL51+AO51+AP51+AU51+AW51+AX51+AY51)>=1,1,0) -> 1 | CD51: =IF((AM51+AN51+AQ51+AR51+AS51+AT51)>=1,1,0) -> 0 | CE51: =+CE50+1 -> 52 | CF51: {=+_xlfn.IFS(Tabell2[[#This Row],[EPD/Miljødeklarasjon - som krav, tildelingskriterium, kontraktsvilkår eller dokumentasjon]]=2,"Ja",Tabell2[[#This Row],[Bærekraftig trevirke/skogbruk - tømmerforordningen, FSC eller PEFC ]]=2,"Ja",Tabell2[[#This Row],[Krav til kvalitet / EN standarder/henvisning til Norsk møbelfakta]]=2,"Ja",Tabell2[[#This Row],[Robuste møbeltekstiler/ kvalitet på møbeltrekk]]=2,"Ja",Tabell2[[#This Row],[Design for lang levetid (Demontering, Reservedeler, produktinformasjon om montering og vedlikehold)]]=2,"Ja",Tabell2[[#This Row],[Merking av plast]]=2,"Ja",Tabell2[[#This Row],[Vask og rengjøring av møbler]]=2,"Ja",Tabell2[[#This Row],[Emballasjen skal være resirkulerbar/ gjenbrukbar (kravet om miljøvennelig emballasje)]]=2,"Ja",Tabell2[[#This Row],[Emballasje (retur- grønt punkt, gjenvinning) (kravet om gjenvinnbar emballasje)]]=2,"Ja",Tabell2[[#This Row],[Kjemikalietabellen (unngå skadelige kjemikaler)]]=2,"Ja",Tabell2[[#This Row],[Flammehemmere]]=2,"Ja",Tabell2[[#This Row],[PVC]]=2,"Ja",Tabell2[[#This Row],[Sosiale hensyn og menneske-rettigheter er inkludert]]=2,"Ja")} -> #N/A
A52: 2021 | B52: 2021-354024 | C52: 44260 | D52: Statens vegvesen | E52: 971032081 | F52: Rammeavtale kjøp av møbler og inventar til Statens vegvesen | G52: Innlandet | H52: Statlig virksomhet | I52: 39100000 | J52: 0 | K52: Varer | L52: Åpen anbudskonkurranse | M52: 0 | N52: 90000000 | O52: 1 | P52: https://eu.eu-supply.com/app/rfq/publicpurchase_docs.asp?PID=293159&LID=344144&AllowPrint=1 | Q52: wenche.sundsfjord@vegvesen.no | S52: 0.2 | T52: 0.4 | U52: 0.4 | V52: 1 | W52: 0 | X52: 0 | Y52: 0 | Z52: 0 | AA52: 1 | AB52: 0 | AC52: 0 | AD52: 0 | AE52: 0 | AF52: 1 | AG52: 0 | AH52: 1 | AI52: 0 | AJ52: 1 | AK52: 1 | AL52: 1 | AM52: 0 | AN52: 0 | AO52: 1 | AP52: 1 | AQ52: 0 | AR52: 0 | AS52: 1 | AT52: 0 | AU52: 0 | AV52: 5 | AW52: 1 | AX52: 0 | AY52: 0 | AZ52: 1 | BA52: 1 | BB52: 1 | BC52: 0 | BD52: 1 | BE52: 1 | BF52: 1 | BG52: 0 | BH52: 1 | BI52: 0 | BJ52: 1 | BK52: 0 | BL52: 0 | BM52: 0 | BN52: 1 | BO52: 0 | BP52: 0 | BQ52: 0 | BR52: 1 | BS52: 0 | BT52: 1 | BU52: 0 | BV52: 0 | BW52: https://dirfo.sharepoint.com/:b:/r/sites/Grnneanskaffelser/Shared%20Documents/M%C3%B8bler/Statistikk%20og%20m%C3%A5ling/M%C3%A5ling%202022%20-%20Hedda/Konkurransegrunnlag/Konkurransegrunnlag%202021/Statens%20vegvesen%20-%2005.03.2021/Kontraktsbetemmelser.pdf?csf=1&web=1&e=LDNf2Q | CB52: =IF((AK52+AL52+AO52+AP52+AS52+AT52+AU52+AW52)>=1,1,0) -> 1 | CC52: =IF((AK52+AL52+AO52+AP52+AU52+AW52+AX52+AY52)>=1,1,0) -> 1 | CD52: =IF((AM52+AN52+AQ52+AR52+AS52+AT52)>=1,1,0) -> 1 | CE52: =+CE51+1 -> 53 | CF52: {=+_xlfn.IFS(Tabell2[[#This Row],[EPD/Miljødeklarasjon - som krav, tildelingskriterium, kontraktsvilkår eller dokumentasjon]]=2,"Ja",Tabell2[[#This Row],[Bærekraftig trevirke/skogbruk - tømmerforordningen, FSC eller PEFC ]]=2,"Ja",Tabell2[[#This Row],[Krav til kvalitet / EN standarder/henvisning til Norsk møbelfakta]]=2,"Ja",Tabell2[[#This Row],[Robuste møbeltekstiler/ kvalitet på møbeltrekk]]=2,"Ja",Tabell2[[#This Row],[Design for lang levetid (Demontering, Reservedeler, produktinformasjon om montering og vedlikehold)]]=2,"Ja",Tabell2[[#This Row],[Merking av plast]]=2,"Ja",Tabell2[[#This Row],[Vask og rengjøring av møbler]]=2,"Ja",Tabell2[[#This Row],[Emballasjen skal være resirkulerbar/ gjenbrukbar (kravet om miljøvennelig emballasje)]]=2,"Ja",Tabell2[[#This Row],[Emballasje (retur- grønt punkt, gjenvinning) (kravet om gjenvinnbar emballasje)]]=2,"Ja",Tabell2[[#This Row],[Kjemikalietabellen (unngå skadelige kjemikaler)]]=2,"Ja",Tabell2[[#This Row],[Flammehemmere]]=2,"Ja",Tabell2[[#This Row],[PVC]]=2,"Ja",Tabell2[[#This Row],[Sosiale hensyn og menneske-rettigheter er inkludert]]=2,"Ja")} -> #N/A
A53: 2021 | B53: 2021-380063 | C53: 44318 | D53: Stavanger kommune | E53: 964965226 | F53: Løst inventar - Madlamark skole | G53: Rogaland | H53: Kommune | I53: 39160000 | J53: 0 | K53: Varer | L53: Åpen anbudskonkurranse | M53: 0 | N53: Ikke spesifisert | O53: 1 | P53: https://www.mercell.com/nb-no/anbud/153815162/loest-inventar---madlamark-skole-anbud.aspx | Q53: stina.sel@stavanger.kommune.no | S53: 0 | T53: 0.4 | U53: 0.6 | V53: 0 | W53: 0 | X53: 0 | Y53: 1 | Z53: 0 | AA53: 1 | AB53: 0 | AC53: 0 | AD53: 0 | AE53: 0 | AF53: 0 | AG53: 0 | AH53: 1 | AI53: 0 | AJ53: 1 | AK53: 1 | AL53: 1 | AM53: 0 | AN53: 0 | AO53: 0 | AP53: 0 | AQ53: 0 | AR53: 0 | AS53: 0 | AT53: 0 | AU53: 0 | AV53: 5 | AW53: 0 | AX53: 0 | AY53: 0 | AZ53: 0 | BA53: 0 | BB53: 1 | BC53: 0 | BD53: 1 | BE53: 0 | BF53: 0 | BG53: 0 | BH53: 0 | BI53: 0 | BJ53: 1 | BK53: 0 | BL53: 0 | BM53: 0 | BN53: 1 | BO53: 0 | BP53: 0 | BQ53: 0 | BR53: 1 | BS53: 0 | BT53: 1 | BU53: 0 | BV53: 0 | BW53: https://dirfo.sharepoint.com/:b:/r/sites/Grnneanskaffelser/Shared%20Documents/M%C3%B8bler/Statistikk%20og%20m%C3%A5ling/M%C3%A5ling%202022%20-%20Hedda/Konkurransegrunnlag/Konkurransegrunnlag%202021/Stavanger%20kommune%20-%2002.05.2021/Generelle%20avtalevilk%C3%A5r.pdf?csf=1&web=1&e=9E4mXz | CB53: =IF((AK53+AL53+AO53+AP53+AS53+AT53+AU53+AW53)>=1,1,0) -> 1 | CC53: =IF((AK53+AL53+AO53+AP53+AU53+AW53+AX53+AY53)>=1,1,0) -> 1 | CD53: =IF((AM53+AN53+AQ53+AR53+AS53+AT53)>=1,1,0) -> 0 | CE53: =+CE52+1 -> 54 | CF53: {=+_xlfn.IFS(Tabell2[[#This Row],[EPD/Miljødeklarasjon - som krav, tildelingskriterium, kontraktsvilkår eller dokumentasjon]]=2,"Ja",Tabell2[[#This Row],[Bærekraftig trevirke/skogbruk - tømmerforordningen, FSC eller PEFC ]]=2,"Ja",Tabell2[[#This Row],[Krav til kvalitet / EN standarder/henvisning til Norsk møbelfakta]]=2,"Ja",Tabell2[[#This Row],[Robuste møbeltekstiler/ kvalitet på møbeltrekk]]=2,"Ja",Tabell2[[#This Row],[Design for lang levetid (Demontering, Reservedeler, produktinformasjon om montering og vedlikehold)]]=2,"Ja",Tabell2[[#This Row],[Merking av plast]]=2,"Ja",Tabell2[[#This Row],[Vask og rengjøring av møbler]]=2,"Ja",Tabell2[[#This Row],[Emballasjen skal være resirkulerbar/ gjenbrukbar (kravet om miljøvennelig emballasje)]]=2,"Ja",Tabell2[[#This Row],[Emballasje (retur- grønt punkt, gjenvinning) (kravet om gjenvinnbar emballasje)]]=2,"Ja",Tabell2[[#This Row],[Kjemikalietabellen (unngå skadelige kjemikaler)]]=2,"Ja",Tabell2[[#This Row],[Flammehemmere]]=2,"Ja",Tabell2[[#This Row],[PVC]]=2,"Ja",Tabell2[[#This Row],[Sosiale hensyn og menneske-rettigheter er inkludert]]=2,"Ja")} -> #N/A
A54: 2021 | B54: 2021-320036 | C54: 44521 | D54: Universitetet i Oslo | E54: 971035854 | F54: Rammeavtale for leveranse av kontormøbler | G54: Oslo | H54: Universitet/Høyskole | I54: 39000000 | J54: 0 | K54: Varer | L54: Åpen anbudskonkurranse | M54: 0 | N54: 80000000 | O54: 1 | P54: https://dirfo.sharepoint.com/:f:/r/sites/Grnneanskaffelser/Shared%20Documents/M%C3%B8bler/Statistikk%20og%20m%C3%A5ling/M%C3%A5ling%202022%20-%20Hedda/Konkurransegrunnlag/Konkurransegrunnlag%202021/Universitetet%20i%20Oslo%20-%2021.11.2021?csf=1&web=1&e=alJSfz | Q54: innkjop@eiendom.uio.no | S54: 0 | T54: 0.4 | U54: 0.6 | V54: 0 | W54: 0 | X54: 0 | Y54: 1 | Z54: 0 | AA54: 1 | AB54: 0 | AC54: 0 | AD54: 0 | AE54: 0 | AF54: 1 | AG54: 0 | AH54: 1 | AI54: 0 | AJ54: 1 | AK54: 2 | AL54: 1 | AM54: 0 | AN54: 0 | AO54: 1 | AP54: 0 | AQ54: 0 | AR54: 0 | AS54: 0 | AT54: 0 | AU54: 0 | AV54: 5 | AW54: 1 | AX54: 0 | AY54: 0 | AZ54: 1 | BA54: 0 | BB54: 1 | BC54: 0 | BD54: 1 | BE54: 0 | BF54: 0 | BG54: 0 | BH54: 1 | BI54: 0 | BJ54: 1 | BK54: 0 | BL54: 0 | BM54: 0 | BN54: 1 | BO54: 0 | BP54: 0 | BQ54: 0 | BR54: 1 | BS54: 0 | BT54: 1 | BU54: 0 | BV54: 1 | BW54: https://dirfo.sharepoint.com/:w:/r/sites/Grnneanskaffelser/Shared%20Documents/M%C3%B8bler/Statistikk%20og%20m%C3%A5ling/M%C3%A5ling%202022%20-%20Hedda/Konkurransegrunnlag/Konkurransegrunnlag%202021/Universitetet%20i%20Oslo%20-%2021.11.2021/Bilag%205%20-%20Kontratsvilk%C3%A5r%20for%20etisk%20handel.docx?d=wc4b3b51ce4f54ef79dbf14ec0619381c&csf=1&web=1&e=SnFhIR | CB54: =IF((AK54+AL54+AO54+AP54+AS54+AT54+AU54+AW54)>=1,1,0) -> 1 | CC54: =IF((AK54+AL54+AO54+AP54+AU54+AW54+AX54+AY54)>=1,1,0) -> 1 | CD54: =IF((AM54+AN54+AQ54+AR54+AS54+AT54)>=1,1,0) -> 0 | CE54: =+CE53+1 -> 55 | CF54: {=+_xlfn.IFS(Tabell2[[#This Row],[EPD/Miljødeklarasjon - som krav, tildelingskriterium, kontraktsvilkår eller dokumentasjon]]=2,"Ja",Tabell2[[#This Row],[Bærekraftig trevirke/skogbruk - tømmerforordningen, FSC eller PEFC ]]=2,"Ja",Tabell2[[#This Row],[Krav til kvalitet / EN standarder/henvisning til Norsk møbelfakta]]=2,"Ja",Tabell2[[#This Row],[Robuste møbeltekstiler/ kvalitet på møbeltrekk]]=2,"Ja",Tabell2[[#This Row],[Design for lang levetid (Demontering, Reservedeler, produktinformasjon om montering og vedlikehold)]]=2,"Ja",Tabell2[[#This Row],[Merking av plast]]=2,"Ja",Tabell2[[#This Row],[Vask og rengjøring av møbler]]=2,"Ja",Tabell2[[#This Row],[Emballasjen skal være resirkulerbar/ gjenbrukbar (kravet om miljøvennelig emballasje)]]=2,"Ja",Tabell2[[#This Row],[Emballasje (retur- grønt punkt, gjenvinning) (kravet om gjenvinnbar emballasje)]]=2,"Ja",Tabell2[[#This Row],[Kjemikalietabellen (unngå skadelige kjemikaler)]]=2,"Ja",Tabell2[[#This Row],[Flammehemmere]]=2,"Ja",Tabell2[[#This Row],[PVC]]=2,"Ja",Tabell2[[#This Row],[Sosiale hensyn og menneske-rettigheter er inkludert]]=2,"Ja")} -> Ja
A55: 2021 | B55: 2021-321609 | C55: 44528 | D55: Vågan Kommune | E55: 938644500 | F55: Kontormøbler og annet tilbehør. | G55: Nordland | H55: Kommune | I55: 39130000 | J55: 0 | K55: Varer | L55: Åpen anbudskonkurranse | M55: 0 | N55: 7500000 | O55: 1 | P55: https://www.mercell.com/nb-no/anbud/168098345/kontormoebler-og-annet-tilbehoer-anbud.aspx | Q55: magne.haslevang@vagan.kommune.no | S55: 0.1 | T55: 0.6 | U55: 0.3 | V55: 1 | W55: 1 | X55: 1 | Y55: 0 | Z55: 0 | AA55: 0 | AB55: 0 | AC55: 0 | AD55: 0 | AE55: 0 | AF55: 0 | AG55: 0 | AH55: 1 | AI55: 0 | AJ55: 0 | AK55: 0 | AL55: 0 | AM55: 0 | AN55: 0 | AO55: 0 | AP55: 0 | AQ55: 0 | AR55: 0 | AS55: 0 | AT55: 0 | AU55: 0 | AV55: 2 | AW55: 0 | AX55: 0 | AY55: 0 | AZ55: 0 | BA55: 0 | BB55: 0 | BC55: 0 | BD55: 0 | BE55: 0 | BF55: 0 | BG55: 0 | BH55: 0 | BI55: 0 | BJ55: 0 | BK55: 0 | BL55: 0 | BM55: 0 | BN55: 0 | BO55: 0 | BP55: 0 | BQ55: 0 | BR55: 1 | BS55: 0 | BT55: 1 | BU55: 0 | BV55: 0 | BW55: https://dirfo.sharepoint.com/:w:/r/sites/Grnneanskaffelser/Shared%20Documents/M%C3%B8bler/Statistikk%20og%20m%C3%A5ling/M%C3%A5ling%202022%20-%20Hedda/Konkurransegrunnlag/Konkurransegrunnlag%202021/V%C3%A5gan%20Kommune%20-%2028.11.2021/Standardkontrakt%20for%20vare%20og%20tjenestekj%C3%B8p%20i%20V%C3%A5gan%20kommune.docx?d=w987d5dbed4c04e1ca2b6ef662ca31d36&csf=1&web=1&e=fiQM9e | CB55: =IF((AK55+AL55+AO55+AP55+AS55+AT55+AU55+AW55)>=1,1,0) -> 0 | CC55: =IF((AK55+AL55+AO55+AP55+AU55+AW55+AX55+AY55)>=1,1,0) -> 0 | CD55: =IF((AM55+AN55+AQ55+AR55+AS55+AT55)>=1,1,0) -> 0 | CE55: =+CE54+1 -> 56 | CF55: {=+_xlfn.IFS(Tabell2[[#This Row],[EPD/Miljødeklarasjon - som krav, tildelingskriterium, kontraktsvilkår eller dokumentasjon]]=2,"Ja",Tabell2[[#This Row],[Bærekraftig trevirke/skogbruk - tømmerforordningen, FSC eller PEFC ]]=2,"Ja",Tabell2[[#This Row],[Krav til kvalitet / EN standarder/henvisning til Norsk møbelfakta]]=2,"Ja",Tabell2[[#This Row],[Robuste møbeltekstiler/ kvalitet på møbeltrekk]]=2,"Ja",Tabell2[[#This Row],[Design for lang levetid (Demontering, Reservedeler, produktinformasjon om montering og vedlikehold)]]=2,"Ja",Tabell2[[#This Row],[Merking av plast]]=2,"Ja",Tabell2[[#This Row],[Vask og rengjøring av møbler]]=2,"Ja",Tabell2[[#This Row],[Emballasjen skal være resirkulerbar/ gjenbrukbar (kravet om miljøvennelig emballasje)]]=2,"Ja",Tabell2[[#This Row],[Emballasje (retur- grønt punkt, gjenvinning) (kravet om gjenvinnbar emballasje)]]=2,"Ja",Tabell2[[#This Row],[Kjemikalietabellen (unngå skadelige kjemikaler)]]=2,"Ja",Tabell2[[#This Row],[Flammehemmere]]=2,"Ja",Tabell2[[#This Row],[PVC]]=2,"Ja",Tabell2[[#This Row],[Sosiale hensyn og menneske-rettigheter er inkludert]]=2,"Ja")} -> #N/A
AJ56: =+COUNTIF(Tabell2[Bærekraftig trevirke/skogbruk - tømmerforordningen, FSC eller PEFC ],1)+COUNTIF(Tabell2[Bærekraftig trevirke/skogbruk - tømmerforordningen, FSC eller PEFC ],2) -> 34 | AK56: =+COUNTIF(Tabell2[Krav til kvalitet / EN standarder/henvisning til Norsk møbelfakta],1)+COUNTIF(Tabell2[Krav til kvalitet / EN standarder/henvisning til Norsk møbelfakta],2) -> 33 | AL56: =+COUNTIF(Tabell2[Robuste møbeltekstiler/ kvalitet på møbeltrekk],1)+COUNTIF(Tabell2[Robuste møbeltekstiler/ kvalitet på møbeltrekk],2) -> 43 | AM56: =+COUNTIF(Tabell2[Leverandøren skal kunne levere brukte møbler],1)+COUNTIF(Tabell2[Leverandøren skal kunne levere brukte møbler],2) -> 1 | AN56: =+COUNTIF(Tabell2[Brukte møbler er untatt fra avtalen],1)+COUNTIF(Tabell2[Brukte møbler er untatt fra avtalen],2) -> 16 | AO56: =+COUNTIF(Tabell2[Design for lang levetid (Demontering, Reservedeler, produktinformasjon om montering og vedlikehold)],1)+COUNTIF(Tabell2[Design for lang levetid (Demontering, Reservedeler, produktinformasjon om montering og vedlikehold)],2) -> 38 | AP56: =+COUNTIF(Tabell2[Merking av plast],1)+COUNTIF(Tabell2[Merking av plast],2) -> 10 | AQ56: =+COUNTIF(Tabell2[Leie/ leasing av møbler],1)+COUNTIF(Tabell2[Leie/ leasing av møbler],2) -> 0 | AR56: =+COUNTIF(Tabell2[Leverandøren skal ta tilbake brukte møbler],1)+COUNTIF(Tabell2[Leverandøren skal ta tilbake brukte møbler],2) -> 3 | AS56: =+COUNTIF(Tabell2[Avhending, videresalg, materialgjenvinnes/resirkuleres, (at de ber om en tjeneste om at leverandøren skal ta inn oppdragsgivers brukte møbler og videreselge, eller materialgjenvinne/resirkulere). Dette stille kanskje oftest som kontraktvilkår. ],1)+COUNTIF(Tabell2[Avhending, videresalg, materialgjenvinnes/resirkuleres, (at de ber om en tjeneste om at leverandøren skal ta inn oppdragsgivers brukte møbler og videreselge, eller materialgjenvinne/resirkulere). Dette stille kanskje oftest som kontraktvilkår. ],2) -> 3 | AT56: =+COUNTIF(Tabell2[Serviceavtale/ reparasjonsavtale],1)+COUNTIF(Tabell2[Serviceavtale/ reparasjonsavtale],2) -> 7 | AU56: =+COUNTIF(Tabell2[TCO/ LCC (Livssyklus kostnader)],1)+COUNTIF(Tabell2[TCO/ LCC (Livssyklus kostnader)],2) -> 1 | AV56: =+COUNTIF(Tabell2[Garantitid (år)],1)+COUNTIF(Tabell2[Garantitid (år)],2) -> 8 | AW56: =+COUNTIF(Tabell2[Vask og rengjøring av møbler],1)+COUNTIF(Tabell2[Vask og rengjøring av møbler],2) -> 27 | AX56: =+COUNTIF(Tabell2[Bruk av resirkulert materiale/resirkulert andel ],1)+COUNTIF(Tabell2[Bruk av resirkulert materiale/resirkulert andel ],2) -> 3 | AY56: =+COUNTIF(Tabell2[Skal kunne materialgjenvinnes/ resirkuleres, eller at de ber om en tjeneste om at leverandøren],1)+COUNTIF(Tabell2[Skal kunne materialgjenvinnes/ resirkuleres, eller at de ber om en tjeneste om at leverandøren],2) -> 0 | AZ56: =+COUNTIF(Tabell2[Minimere emballasje],1)+COUNTIF(Tabell2[Minimere emballasje],2) -> 30 | BA56: =+COUNTIF(Tabell2[Emballasjen skal være resirkulerbar/ gjenbrukbar (kravet om miljøvennelig emballasje)],1)+COUNTIF(Tabell2[Emballasjen skal være resirkulerbar/ gjenbrukbar (kravet om miljøvennelig emballasje)],2) -> 19 | BB56: =+COUNTIF(Tabell2[Emballasje (retur- grønt punkt, gjenvinning) (kravet om gjenvinnbar emballasje)],1)+COUNTIF(Tabell2[Emballasje (retur- grønt punkt, gjenvinning) (kravet om gjenvinnbar emballasje)],2) -> 44 | BC56: =+COUNTIF(Tabell2[Kjemikalietabellen (unngå skadelige kjemikaler)],1)+COUNTIF(Tabell2[Kjemikalietabellen (unngå skadelige kjemikaler)],2) -> 15 | BD56: =+COUNTIF(Tabell2[Kjemikalieinnhold og -håndtering ],1)+COUNTIF(Tabell2[Kjemikalieinnhold og -håndtering ],2) -> 36 | BE56: =+COUNTIF(Tabell2[REACH (prioritetslisten, kandidatlisten)],1)+COUNTIF(Tabell2[REACH (prioritetslisten, kandidatlisten)],2) -> 22 | BF56: =+COUNTIF(Tabell2[Produkt-forskriften],1)+COUNTIF(Tabell2[Produkt-forskriften],2) -> 28 | BG56: =+COUNTIF(Tabell2[CLP-forordningen kjemikalier klassifisert etter faresetninger i CLP],1)+COUNTIF(Tabell2[CLP-forordningen kjemikalier klassifisert etter faresetninger i CLP],2) -> 16 | BH56: =+COUNTIF(Tabell2[VOC],1)+COUNTIF(Tabell2[VOC],2) -> 12 | BI56: =+COUNTIF(Tabell2[Formaldehyd],1)+COUNTIF(Tabell2[Formaldehyd],2) -> 15 | BJ56: =+COUNTIF(Tabell2[Flammehemmere],1)+COUNTIF(Tabell2[Flammehemmere],2) -> 32 | BK56: =+COUNTIF(Tabell2[PVC],1)+COUNTIF(Tabell2[PVC],2) -> 19 | BL56: =+COUNTIF(Tabell2[Tungmetaller],1)+COUNTIF(Tabell2[Tungmetaller],2) -> 1 | BM56: =+COUNTIF(Tabell2[Kvikksølv],1)+COUNTIF(Tabell2[Kvikksølv],2) -> 13 | BN56: =+COUNTIF(Tabell2[Krom (både 3/III og 6/IV)],1)+COUNTIF(Tabell2[Krom (både 3/III og 6/IV)],2) -> 26 | BO56: =+COUNTIF(Tabell2[Bly],1)+COUNTIF(Tabell2[Bly],2) -> 15 | BP56: =+COUNTIF(Tabell2[Kadmium],1)+COUNTIF(Tabell2[Kadmium],2) -> 13 | BQ56: =+COUNTIF(Tabell2[Tinn],1)+COUNTIF(Tabell2[Tinn],2) -> 0 | BR56: =+COUNTIF(Tabell2[Sosiale hensyn og menneske-rettigheter er inkludert],1)+COUNTIF(Tabell2[Sosiale hensyn og menneske-rettigheter er inkludert],2) -> 39 | BS56: =+COUNTIF(Tabell2[Menneske-rettigheter som tildelingskriterium],1)+COUNTIF(Tabell2[Menneske-rettigheter som tildelingskriterium],2) -> 0 | BT56: =+COUNTIF(Tabell2[Menneske-rettigheter som kontraktsvilkår],1)+COUNTIF(Tabell2[Menneske-rettigheter som kontraktsvilkår],2) -> 31 | BU56: =+COUNTIF(Tabell2[Menneske-rettigheter som kvalifikasjonskrav],1)+COUNTIF(Tabell2[Menneske-rettigheter som kvalifikasjonskrav],2) -> 8 | BV56: =+COUNTIF(Tabell2[Menneske-rettigheter som kravspesifikasjon],1)+COUNTIF(Tabell2[Menneske-rettigheter som kravspesifikasjon],2) -> 6
AJ57: =+Tabell2[[#Totals],[Bærekraftig trevirke/skogbruk - tømmerforordningen, FSC eller PEFC ]]/53 -> 0.64150943 | AK57: =+Tabell2[[#Totals],[Krav til kvalitet / EN standarder/henvisning til Norsk møbelfakta]]/53 -> 0.62264151 | AL57: =+Tabell2[[#Totals],[Robuste møbeltekstiler/ kvalitet på møbeltrekk]]/53 -> 0.81132075 | AM57: =+Tabell2[[#Totals],[Leverandøren skal kunne levere brukte møbler]]/53 -> 0.018867925 | AN57: =+Tabell2[[#Totals],[Brukte møbler er untatt fra avtalen]]/53 -> 0.30188679 | AO57: =+Tabell2[[#Totals],[Design for lang levetid (Demontering, Reservedeler, produktinformasjon om montering og vedlikehold)]]/53 -> 0.71698113 | AP57: =+Tabell2[[#Totals],[Merking av plast]]/53 -> 0.18867925 | AQ57: =+Tabell2[[#Totals],[Leie/ leasing av møbler]]/53 -> 0 | AR57: =+Tabell2[[#Totals],[Leverandøren skal ta tilbake brukte møbler]]/53 -> 0.056603774 | AS57: =+Tabell2[[#Totals],[Avhending, videresalg, materialgjenvinnes/resirkuleres, (at de ber om en tjeneste om at leverandøren skal ta inn oppdragsgivers brukte møbler og videreselge, eller materialgjenvinne/resirkulere). Dette stille kanskje oftest som kontraktvilkår. ]]/53 -> 0.056603774 | AT57: =+Tabell2[[#Totals],[Serviceavtale/ reparasjonsavtale]]/53 -> 0.13207547 | AU57: =+Tabell2[[#Totals],[TCO/ LCC (Livssyklus kostnader)]]/53 -> 0.018867925 | AV57: =+Tabell2[[#Totals],[Garantitid (år)]]/53 -> 0.1509434 | AW57: =+Tabell2[[#Totals],[Vask og rengjøring av møbler]]/53 -> 0.50943396 | AX57: =+Tabell2[[#Totals],[Bruk av resirkulert materiale/resirkulert andel ]]/53 -> 0.056603774 | AY57: =+Tabell2[[#Totals],[Skal kunne materialgjenvinnes/ resirkuleres, eller at de ber om en tjeneste om at leverandøren]]/53 -> 0 | AZ57: =+Tabell2[[#Totals],[Minimere emballasje]]/53 -> 0.56603774 | BA57: =+Tabell2[[#Totals],[Emballasjen skal være resirkulerbar/ gjenbrukbar (kravet om miljøvennelig emballasje)]]/53 -> 0.35849057 | BB57: =+Tabell2[[#Totals],[Emballasje (retur- grønt punkt, gjenvinning) (kravet om gjenvinnbar emballasje)]]/53 -> 0.83018868 | BC57: =+Tabell2[[#Totals],[Kjemikalietabellen (unngå skadelige kjemikaler)]]/53 -> 0.28301887 | BD57: =+Tabell2[[#Totals],[Kjemikalieinnhold og -håndtering ]]/53 -> 0.67924528 | BE57: =+Tabell2[[#Totals],[REACH (prioritetslisten, kandidatlisten)]]/53 -> 0.41509434 | BF57: =+Tabell2[[#Totals],[Produkt-forskriften]]/53 -> 0.52830189 | BG57: =+Tabell2[[#Totals],[CLP-forordningen kjemikalier klassifisert etter faresetninger i CLP]]/53 -> 0.30188679 | BH57: =+Tabell2[[#Totals],[VOC]]/53 -> 0.22641509 | BI57: =+Tabell2[[#Totals],[Formaldehyd]]/53 -> 0.28301887 | BJ57: =+Tabell2[[#Totals],[Flammehemmere]]/53 -> 0.60377358 | BK57: =+Tabell2[[#Totals],[PVC]]/53 -> 0.35849057 | BL57: =+Tabell2[[#Totals],[Tungmetaller]]/53 -> 0.018867925 | BM57: =+Tabell2[[#Totals],[Kvikksølv]]/53 -> 0.24528302 | BN57: =+Tabell2[[#Totals],[Krom (både 3/III og 6/IV)]]/53 -> 0.49056604 | BO57: =+Tabell2[[#Totals],[Bly]]/53 -> 0.28301887 | BP57: =+Tabell2[[#Totals],[Kadmium]]/53 -> 0.24528302 | BQ57: =+Tabell2[[#Totals],[Tinn]]/53 -> 0 | BR57: =+Tabell2[[#Totals],[Sosiale hensyn og menneske-rettigheter er inkludert]]/53 -> 0.73584906 | BS57: =+Tabell2[[#Totals],[Menneske-rettigheter som tildelingskriterium]]/53 -> 0 | BT57: =+Tabell2[[#Totals],[Menneske-rettigheter som kontraktsvilkår]]/53 -> 0.58490566 | BU57: =+Tabell2[[#Totals],[Menneske-rettigheter som kvalifikasjonskrav]]/53 -> 0.1509434 | BV57: =+Tabell2[[#Totals],[Menneske-rettigheter som kravspesifikasjon]]/53 -> 0.11320755
AI58: g
I59: {=+_xlfn.UNIQUE(I3:I54)} -> 39000000
I60: 39130000
I61: 39100000
I62: 39131100
F63: =COUNTA(Tabell2[Tittel]) -> 53 | I63: 39161000
I64: 39132300
I65: 39112000
I66: 39160000

Sheet Database møbler 2021 - grafer
C2: Farger
B5: DPS - ANDEL | I5: ANDELEN OPPDRAGSGIVERE SOM HAR BRUKT MINST 1 KRAV ORDRETT FRA KRITERIEVEIVISEREN | Q5: GJENNOMSNITTLIG VEKTING
B21: FORDELINGEN AV ANSKAFFELSENE PÅ DE FORSKJELLIGE KRAVENE FRA KRITERIEVEIVISEREN
B23: FORDELING AV OPPDRAGSGIVERE PÅ DE FORSKJELLIGE KRAVENE I KRITERIEVEIVISEREN ORDRETT | L23: FORDELING AV OPPDRAGSGIVERE PÅ DE FORSKJELLIGE KRAVENE I KRITERIEVEIVISEREN (BÅDE ORDRETT OG IKKE LIKT) | V23: FORDELING AV OPPDRAGSGIVERE PÅ DE FORSKJELLIGE KRAVENE I KRITERIEVEIVISEREN (BRUKT KRAVET, MEN IKKE ORDRETT)
B46: MILJØ SOM TILDELINGSKRITERIUM
AE47: UNIVERSITET OG HØYSKOLE ER EGEN OPPDRAGSGIVER
B48: MILJØ SOM TILDELINGSKRITERIUM: PROSENTVIS ANDEL FORDELT PÅ OPPDRAGSGIVERE | I48: MILJØ SOM TILDELINGSKRITERIUM: PROSENTVIS ANDEL AV OPPDRAGSGIVERE | P48: MILJØ SOM TILDELINGSKRITERIUM: PROSENTVIS ANDEL AV TOTALVERDI FORDELT PÅ OPPDRAGSGIVERE | W48: MILJØ SOM TILDELINGSKRITERIUM: PROSENTVIS ANDEL AV TOTALVERDI
AI51: Antall oppdragsgivere
AI58: % av totalverdi fordelt på oppdragsgiver
B67: MILJØMERKE SOM TILDELINGSKRITERIUM
B69: MILJØMERKE SOM TILDELINGSKRITERIUM: PROSENTVIS ANDEL FORDELT PÅ OPPDRAGSGIVERE | I69: MILJØMERKE SOM TILDELINGSKRITERIUM: PROSENTVIS ANDEL AV OPPDRAGSGIVERE | P69: MILJØMERKE SOM TILDELINGSKRITERIUM: PROSENTVIS ANDEL AV TOTALVERDI FORDELT PÅ OPPDRAGSGIVERE | W69: MILJØMERKE SOM TILDELINGSKRITERIUM: PROSENTVIS ANDEL AV TOTALVERDI
AI70: Antall oppdragsgivere
AI77: % av totalverdi fordelt på oppdragsgiver
B88: EPD SOM TILDELINGSKRITERIUM
B90: EPD SOM TILDELINGSKRITERIUM: PROSENTVIS ANDEL FORDELT PÅ OPPDRAGSGIVERE | I90: EPD SOM TILDELINGSKRITERIUM: PROSENTVIS ANDEL AV OPPDRAGSGIVERE | P90: EPD SOM TILDELINGSKRITERIUM: PROSENTVIS ANDEL AV TOTALVERDI FORDELT PÅ OPPDRAGSGIVERE | W90: EPD SOM TILDELINGSKRITERIUM: PROSENTVIS ANDEL AV TOTALVERDI
AI94: Antall oppdragsgivere
AI101: % av totalverdi fordelt på oppdragsgiver
B108: MILJØ SOM KONTRAKTSVILKÅR
B110: MILJØ SOM KONTRAKTSVILKÅR: PROSENTVIS ANDEL FORDELT PÅ OPPDRAGSGIVERE | I110: MILJØ SOM KONTRAKTSVILKÅR: PROSENTVIS ANDEL AV OPPDRAGSGIVERE | P110: MILJØ SOM KONTRAKTSVILKÅR: PROSENTVIS ANDEL AV TOTALVERDI FORDELT PÅ OPPDRAGSGIVERE | W110: MILJØ SOM KONTRAKTSVILKÅR: PROSENTVIS ANDEL AV TOTALVERDI
AI112: Antall oppdragsgivere
AI119: % av totalverdi fordelt på oppdragsgiver
B128: MILJØ SOM KVALIFIKASJONSKRAV
B130: MILJØ SOM KVALIFIKASJONSKRAV: PROSENTVIS ANDEL FORDELT PÅ OPPDRAGSGIVERE | I130: MILJØ SOM KVALIFIKASJONSKRAV: PROSENTVIS ANDEL AV OPPDRAGSGIVERE | P130: MILJØ SOM KVALIFIKASJONSKRAV: PROSENTVIS ANDEL AV TOTALVERDI FORDELT PÅ OPPDRAGSGIVERE | W130: MILJØ SOM KVALIFIKASJONSKRAV: PROSENTVIS ANDEL AV TOTALVERDI
AI132: Antall oppdragsgivere
AI139: % av totalverdi fordelt på oppdragsgiver
B148: MILJØ SOM KRAVSPESIFIKASJON
B150: MILJØ SOM KRAVSPESIFIKASJON: PROSENTVIS ANDEL FORDELT PÅ OPPDRAGSGIVERE | I150: MILJØ SOM KRAVSPESIFIKASJON: PROSENTVIS ANDEL AV OPPDRAGSGIVERE | P150: MILJØ SOM KRAVSPESIFIKASJON: PROSENTVIS ANDEL AV TOTALVERDI FORDELT PÅ OPPDRAGSGIVERE | W150: MILJØ SOM KRAVSPESIFIKASJON: PROSENTVIS ANDEL AV TOTALVERDI
AI152: Antall oppdragsgivere
AI159: % av totalverdi fordelt på oppdragsgiver
B168: MILJØLEDELSESSYSTEM
B170: MILJØLEDELSESSYSTEM: PROSENTVIS ANDEL FORDELT PÅ OPPDRAGSGIVERE | I170: MILJØLEDELSESSYSTEM: PROSENTVIS ANDEL AV OPPDRAGSGIVERE | P170: MILJØLEDELSESSYSTEM: PROSENTVIS ANDEL AV TOTALVERDI FORDELT PÅ OPPDRAGSGIVERE | W170: MILJØLEDELSESSYSTEM: PROSENTVIS ANDEL AV TOTALVERDI
B188: MILJØMERKE TYPE 1 SOM KONTRAKTSVILKÅR, KRAV ELLER TILDELINGSKRITERIUM
B190: MILJØMERKE TYPE 1: PROSENTVIS ANDEL FORDELT PÅ OPPDRAGSGIVERE | I190: MILJØMERKE: PROSENTVIS ANDEL AV OPPDRAGSGIVERE | P190: MILJØMERKE: PROSENTVIS ANDEL AV TOTALVERDI FORDELT PÅ OPPDRAGSGIVERE | W190: MILJØMERKE: PROSENTVIS ANDEL AV TOTALVERDI
AD192: Hvor mange som har brukt det som tildeling, krav og kontrakt
B208: EPD SOM KONTRAKTSVILKÅR, KRAV ELLER TILDELINGSKRITERIUM
B210: EPD: PROSENTVIS ANDEL FORDELT PÅ OPPDRAGSGIVERE | I210: EPD: PROSENTVIS ANDEL AV OPPDRAGSGIVERE | P210: EPD: PROSENTVIS ANDEL AV TOTALVERDI FORDELT PÅ OPPDRAGSGIVERE | W210: EPD: PROSENTVIS ANDEL AV TOTALVERDI
B228: KRAV TIL BÆREKRAFTIG SKOGBRUK (PEFC/FSC/¨TØMMERFORORDNINGEN)
B230: BÆREKRAFTIG SKOGBRUK: PROSENTVIS ANDEL FORDELT PÅ OPPDRAGSGIVERE | I230: BÆREKRAFTIG SKOGBRUK: PROSENTVIS ANDEL AV OPPDRAGSGIVERE
B248: SIRKULÆR ØKONOMI - KRAV TIL KVALITET
B250: KRAV TIL KVALITET PÅ PRODUKTET: PROSENTVIS ANTALL OPPDRAGSGIVERE | I250: ANDEL OPPDRAGSGIVERE FORDELT PÅ DE FORSKJELLIGE KVALITETSKRAVENE
B275: SIRKULÆRE FORRETNINGSMODELLER
B277: KRAV TIL SIRKULÆRE FORRETNINGSMODELLER: PROSENTVIS ANTALL OPPDRAGSGIVERE | I277: ANDEL ANSKAFFELSER SOM HAR KRAV TIL SIRKULÆRE FORRETNINGSMODELLER FORDELT PÅ DE FORSKJELLIGE KRAVENE
B303: KRAV TIL KVALITET
B305: KRAV TIL KVALITET: PROSENTVIS ANDEL FORDELT PÅ OPPDRAGSGIVERE | I305: KRAV TIL KVALITET: PROSENTVIS ANDEL AV OPPDRAGSGIVERE
B323: KRAV TIL ROBUSTE MØBELTEKSTILER
B325: KRAV TIL ROBUSTE MØBELTEKSTILER: PROSENTVIS ANDEL FORDELT PÅ OPPDRAGSGIVERE | I325: KRAV TIL ROBUSTE MØBELTEKSTILER: PROSENTVIS ANDEL AV OPPDRAGSGIVERE
B343: LEVERANDØREN SKAL KUNNE LEVERE BRUKTE MØBLER | I343: BRUKTE MØBLER ER UNTATT FRA AVTALEN
B345: KRAV TIL LEVERANDØREN SKAL KUNNE LEVERE BRUKTE MØBLER: PROSENTVIS ANDEL AV OPPDRAGSGIVERE | I345: BRUKTE MØBLER ER UNTATT FRA AVTALEN: PROSENTVIS ANDEL AV OPPDRAGSGIVERE
B363: KRAV TIL PRODUKTINFORMASJON OM DEMONTERING, REPARASJON OG TILGANG PÅ RESERVEDELER
B365: KRAV TIL PRODUKTINFORMASJON OM DEMONTERING, REPARASJON OG TILGANG PÅ RESERVEDELER: PROSENTVIS ANDEL FORDELT PÅ OPPDRAGSGIVERE | I365: KRAV TIL PRODUKTINFORMASJON OM DEMONTERING, REPARASJON OG TILGANG PÅ RESERVEDELER: PROSENTVIS ANDEL AV OPPDRAGSGIVERE
B385: KRAV TIL MERKING AV PLASTDELER
B387: KRAV TIL MERKING AV PLAST: PROSENTVIS ANDEL FORDELT PÅ OPPDRAGSGIVERE | I387: KRAV TIL MERKING AV PLAST: PROSENTVIS ANDEL AV OPPDRAGSGIVERE
B407: KRAV TIL AT LEVERANDØREN SKAL TA TILBAKE BRUKTE MØBLER | I407: KRAV TIL AVHENDING, VIDERESALG, MATERIALGJENVINNES/RESIRKULERES | Q407: KRAV TIL TCO/ LCC (Livssyklus kostnader)
B409: KRAV TIL AT LEVERANDØREN SKAL TA TILBAKE BRUKTE MØBLER: PROSENTVIS ANDEL AV OPPDRAGSGIVERE | I409: KRAV TIL AVHENDING, VIDERESALG, MATERIALGJENVINNES/RESIRKULERES: PROSENTVIS ANDEL AV OPPDRAGSGIVERE | Q409: KRAV TIL TCO/ LCC
B428: KRAV TIL SERVICEAVTALE/REPARASJONSAVTALE
B430: SERVICEAVTALE/REPARASJONSAVTALE: PROSENTVIS ANDEL FORDELT PÅ OPPDRAGSGIVERE | I430: SERVICEAVTALE/REPARASJONSAVTALE: PROSENTVIS ANDEL AV OPPDRAGSGIVERE
B448: GARANTI TID
B450: MINIMUMSKRAV TIL GARANTITID: PROSENTVIS ANDEL FORDELT PÅ OPPDRAGSGIVERE | I450: GARANTITID: PROSENTVIS ANDEL AV OPPDRAGSGIVERE
B468: KRAV TIL ENKEL RENGJØRING AV MØBLER
B470: KRAV TIL ENKEL RENGJØRING AV MØBLER: PROSENTVIS ANDEL FORDELT PÅ OPPDRAGSGIVERE | I470: KRAV TIL ENKEL RENGJØRING AV MØBLER: PROSENTVIS ANDEL AV OPPDRAGSGIVERE
B489: BRUK AV RESIRKULERT MATERIALE
B491: KRAV TIL RESIRKULERT MATERIALE
B509: KRAV OM MILJØVENNELIG EMBALLASJE
B511: KRAV TIL MILJØVENNELIG EMBALLASJE: PROSENTVIS ANDEL FORDELT PÅ OPPDRAGSGIVERE | I511: KRAV TIL MILJØVENNELIG EMBALLASJE: PROSENTVIS ANDEL AV OPPDRAGSGIVERE
B531: KRAV OM GJENVINNBAR EMBALLASJE
B533: KRAV TIL GJENVINNBAR EMBALLASJE: PROSENTVIS ANDEL FORDELT PÅ OPPDRAGSGIVERE | I533: KRAV TIL GJENVINNBAR EMBALLASJE: PROSENTVIS ANDEL AV OPPDRAGSGIVERE
B556: KJEMIKALIER - GENERELT
B558: KRAV TIL KJEMIKALIER: PROSENTVIS ANTALL OPPDRAGSGIVERE | I558: ANDEL OPPDRAGSGIVERE FORDELT PÅ DE FORSKJELLIGE KJEMIKALIEKRAVENE | S558: ANDEL AV OPPDRAGSGIVERE SOM HAR BRUKT KJEMIKALIETABELLEN - (FRA KRITERIEVEIVISEREN)
B583: KJEMIKALIER - REACH
B585: KRAV TIL REACH: PROSENTVIS ANDEL FORDELT PÅ OPPDRAGSGIVERE | I585: KRAV TIL REACH: PROSENTVIS ANDEL AV OPPDRAGSGIVERE
B603: KJEMIKALIER - PRODUKTFORSKRIFTEN
B605: KRAV TIL PRODUKTFORSKRIFTEN: PROSENTVIS ANDEL FORDELT PÅ OPPDRAGSGIVERE | I605: KRAV TIL PRODUKTFORSKRIFTEN: PROSENTVIS ANDEL AV OPPDRAGSGIVERE
B623: KJEMIKALIER - CLP-FORORDNINGEN
B625: KRAV TIL CLP-FORORDNINGEN: PROSENTVIS ANDEL FORDELT PÅ OPPDRAGSGIVERE | I625: KRAV TIL CLP-FORORDNINGEN: PROSENTVIS ANDEL AV OPPDRAGSGIVERE
B643: KJEMIKALIER - VOC
B645: KRAV TIL VOC: PROSENTVIS ANDEL FORDELT PÅ OPPDRAGSGIVERE | I645: KRAV TIL VOC: PROSENTVIS ANDEL AV OPPDRAGSGIVERE
B663: KJEMIKALIER - FORMALDEHYD
B665: KRAV TIL FORMALDEHYD: PROSENTVIS ANDEL FORDELT PÅ OPPDRAGSGIVERE | I665: KRAV TIL FORMALDEHYD: PROSENTVIS ANDEL AV OPPDRAGSGIVERE
B683: KJEMIKALIER - FLAMMEHEMMERE
B685: KRAV TIL FLAMMEHEMMERE: PROSENTVIS ANDEL FORDELT PÅ OPPDRAGSGIVERE | I685: KRAV TIL FLAMMEHEMMERE: PROSENTVIS ANDEL AV OPPDRAGSGIVERE
B703: KJEMIKALIER - PVC
B705: KRAV TIL PVC: PROSENTVIS ANDEL FORDELT PÅ OPPDRAGSGIVERE | I705: KRAV TIL PVC: PROSENTVIS ANDEL AV OPPDRAGSGIVERE
B723: KJEMIKALIER - TUNGMETALLER
B725: KRAV TIL TUNGMETALLER: PROSENTVIS ANDEL AV OPPDRAGSGIVERE
B743: KJEMIKALIER - KVIKKSØLV
B745: KRAV TIL KVIKKSØLV: PROSENTVIS ANDEL FORDELT PÅ OPPDRAGSGIVERE | I745: KRAV TIL KVIKKSØLV: PROSENTVIS ANDEL AV OPPDRAGSGIVERE
B763: KJEMIKALIER - KROM
B765: KRAV TIL KROM: PROSENTVIS ANDEL FORDELT PÅ OPPDRAGSGIVERE | I765: KRAV TIL KROM: PROSENTVIS ANDEL AV OPPDRAGSGIVERE
B783: KJEMIKALIER - BLY
B785: KRAV TIL BLY: PROSENTVIS ANDEL FORDELT PÅ OPPDRAGSGIVERE | I785: KRAV TIL BLY: PROSENTVIS ANDEL AV OPPDRAGSGIVERE
B803: KJEMIKALIER - KADIUM
B805: KRAV TIL KADIUM: PROSENTVIS ANDEL FORDELT PÅ OPPDRAGSGIVERE | I805: KRAV TIL KADIUM: PROSENTVIS ANDEL AV OPPDRAGSGIVERE
B824: MENNESKERETTIGHETER - GENERELT
B826: KRAV TIL MENNESKERETTIGHETER: PROSENTVIS ANDEL FORDELT PÅ OPPDRAGSGIVERE | I826: KRAV TIL MENNESKERETTIGHETER: PROSENTVIS ANDEL AV OPPDRAGSGIVERE
B844: MENNESKERETTIGHETER SOM KONTRAKTSVILKÅR
B846: MENNESKERETTIGHETER SOM KONTRAKTSVILKÅR: PROSENTVIS ANDEL FORDELT PÅ OPPDRAGSGIVERE | I846: MENNESKERETTIGHETER SOM KONTRAKTSVILKÅR: PROSENTVIS ANDEL AV OPPDRAGSGIVERE
B864: MENNESKERETTIGHETER SOM KVALIFIKASJONSKRAV
B866: MENNESKERETTIGHETER SOM KVALIFIKASJONSKRAV: PROSENTVIS ANDEL FORDELT PÅ OPPDRAGSGIVERE | I866: MENNESKERETTIGHETER SOM KVALIFIKASJONSKRAV: PROSENTVIS ANDEL AV OPPDRAGSGIVERE
B884: MENNESKERETTIGHETER SOM KRAVSPESIFIKASJON
B886: MENNESKERETTIGHETER SOM KRAVSPESIFIKAJSON: PROSENTVIS ANDEL FORDELT PÅ OPPDRAGSGIVERE | I886: MENNESKERETTIGHETER SOM KRAVSPESIFIKASJON: PROSENTVIS ANDEL AV OPPDRAGSGIVERE

Sheet Utregning av grafer
A2: DPS andel | B2: Antall | C2: Prosentvis | F2: Brukt kriterieveiviseren | G2: Antall | H2: Prosentvis | J2: Brukt kriterieveiviseren | K2: Bærekraftig trevirke i møbler | L2: Møbler med høy kvalitet etter produktstandard | M2: Robuste møbeltekstiler | N2: Produktinformasjon om demontering, reparasjon og tilgang på reservedeler | O2: Merking av plast | P2: Avhending, videresalg, materialgjenvinnes/ resirkuleres | Q2: Enkel rengjøring av møbler | R2: Miljøvennelig emballasje | S2: Gjenvinnbar emballasje | T2: Unngå skadelige kjemikalier | U2: Brannsikkerhet og å unngå bruk av flammehemmere | V2: Unngå bruk av PVC | W2: Ivaretagelse av grunnleggende menneskerettigheter i leverandørkjeder | Z2: Brukt kriterieveiviseren | AA2: Bærekraftig trevirke i møbler | AB2: Møbler med høy kvalitet etter produktstandard | AC2: Robuste møbeltekstiler | AD2: Produktinformasjon om demontering, reparasjon og tilgang på reservedeler | AE2: Merking av plast | AF2: Avhending, videresalg, materialgjenvinnes/ resirkuleres | AG2: Enkel rengjøring av møbler | AH2: Miljøvennelig emballasje | AI2: Gjenvinnbar emballasje | AJ2: Unngå skadelige kjemikalier | AK2: Brannsikkerhet og å unngå bruk av flammehemmere | AL2: Unngå bruk av PVC | AM2: Ivaretagelse av grunnleggende menneskerettigheter i leverandørkjeder | AO2: Bærekraftig trevirke i møbler | AP2: Møbler med høy kvalitet etter produktstandard | AQ2: Robuste møbeltekstiler | AR2: Produktinformasjon om demontering, reparasjon og tilgang på reservedeler | AS2: Merking av plast | AT2: Avhending, videresalg, materialgjenvinnes/ resirkuleres | AU2: Enkel rengjøring av møbler | AV2: Miljøvennelig emballasje | AW2: Gjenvinnbar emballasje | AX2: Unngå skadelige kjemikalier | AY2: Brannsikkerhet og å unngå bruk av flammehemmere | AZ2: Unngå bruk av PVC | BA2: Ivaretagelse av grunnleggende menneskerettigheter i leverandørkjeder
A3: Ikke DPS | B3: 53 | C3: =B3/$B$5 -> 0.92982456 | F3: Andelen anskaffelser som har brukt minst 1 krav ordrett fra Kriterieveiviseren | G3: =+COUNTIF('Database kontormøbler - 2021'!CF3:CF55,"Ja") -> 31 | H3: =G3/$B$5 -> 0.54385965 | J3: Andelen anskaffelser som har brukt krav fra Kriterieveiviseren | K3: =+COUNTIF(Tabell2[Bærekraftig trevirke/skogbruk - tømmerforordningen, FSC eller PEFC ],2) -> 4 | L3: =+COUNTIF(Tabell2[Krav til kvalitet / EN standarder/henvisning til Norsk møbelfakta],2) -> 12 | M3: =+COUNTIF(Tabell2[Robuste møbeltekstiler/ kvalitet på møbeltrekk],2) -> 17 | N3: =+COUNTIF(Tabell2[Design for lang levetid (Demontering, Reservedeler, produktinformasjon om montering og vedlikehold)],2) -> 12 | O3: =+COUNTIF(Tabell2[Merking av plast],2) -> 2 | P3: =+COUNTIF(Tabell2[Avhending, videresalg, materialgjenvinnes/resirkuleres, (at de ber om en tjeneste om at leverandøren skal ta inn oppdragsgivers brukte møbler og videreselge, eller materialgjenvinne/resirkulere). Dette stille kanskje oftest som kontraktvilkår. ],2) -> 1 | Q3: =+COUNTIF(Tabell2[Vask og rengjøring av møbler],2) -> 7 | R3: =+COUNTIF(Tabell2[Emballasjen skal være resirkulerbar/ gjenbrukbar (kravet om miljøvennelig emballasje)],2) -> 11 | S3: =+COUNTIF(Tabell2[Emballasje (retur- grønt punkt, gjenvinning) (kravet om gjenvinnbar emballasje)],2) -> 14 | T3: =+COUNTIF(Tabell2[Kjemikalietabellen (unngå skadelige kjemikaler)],2) -> 13 | U3: =+COUNTIF(Tabell2[Flammehemmere],2) -> 15 | V3: =+COUNTIF(Tabell2[PVC],2) -> 13 | W3: =+COUNTIF(Tabell2[Sosiale hensyn og menneske-rettigheter er inkludert],2) -> 6 | Z3: Andelen anskaffelser som har brukt krav fra Kriterieveiviseren | AA3: =+COUNTIF(Tabell2[Bærekraftig trevirke/skogbruk - tømmerforordningen, FSC eller PEFC ],1) -> 30 | AB3: =+COUNTIF(Tabell2[Krav til kvalitet / EN standarder/henvisning til Norsk møbelfakta],1) -> 21 | AC3: =+COUNTIF(Tabell2[Robuste møbeltekstiler/ kvalitet på møbeltrekk],1) -> 26 | AD3: =+COUNTIF(Tabell2[Design for lang levetid (Demontering, Reservedeler, produktinformasjon om montering og vedlikehold)],1) -> 26 | AE3: =+COUNTIF(Tabell2[Merking av plast],1) -> 8 | AF3: =+COUNTIF(Tabell2[Avhending, videresalg, materialgjenvinnes/resirkuleres, (at de ber om en tjeneste om at leverandøren skal ta inn oppdragsgivers brukte møbler og videreselge, eller materialgjenvinne/resirkulere). Dette stille kanskje oftest som kontraktvilkår. ],1) -> 2 | AG3: =+COUNTIF(Tabell2[Vask og rengjøring av møbler],1) -> 20 | AH3: =+COUNTIF(Tabell2[Emballasjen skal være resirkulerbar/ gjenbrukbar (kravet om miljøvennelig emballasje)],1) -> 8 | AI3: =+COUNTIF(Tabell2[Emballasje (retur- grønt punkt, gjenvinning) (kravet om gjenvinnbar emballasje)],1) -> 30 | AJ3: =+COUNTIF(Tabell2[Kjemikalietabellen (unngå skadelige kjemikaler)],1) -> 2 | AK3: =+COUNTIF(Tabell2[Flammehemmere],1) -> 17 | AL3: =+COUNTIF(Tabell2[PVC],1) -> 6 | AM3: =+COUNTIF(Tabell2[Sosiale hensyn og menneske-rettigheter er inkludert],1) -> 33 | AO3: =+'Database kontormøbler - 2021'!AJ57 -> 0.64150943 | AP3: =+'Database kontormøbler - 2021'!AK57 -> 0.62264151 | AQ3: =+'Database kontormøbler - 2021'!AL57 -> 0.81132075 | AR3: =+'Database kontormøbler - 2021'!AO57 -> 0.71698113 | AS3: =+'Database kontormøbler - 2021'!AP57 -> 0.18867925 | AT3: =+'Database kontormøbler - 2021'!AS57 -> 0.056603774 | AU3: =+'Database kontormøbler - 2021'!AW57 -> 0.50943396 | AV3: =+'Database kontormøbler - 2021'!BA57 -> 0.35849057 | AW3: =+'Database kontormøbler - 2021'!BB57 -> 0.83018868 | AX3: =+'Database kontormøbler - 2021'!BC57 -> 0.28301887 | AY3: =+'Database kontormøbler - 2021'!BJ57 -> 0.60377358 | AZ3: =+'Database kontormøbler - 2021'!BK57+0.000001 -> 0.35849157 | BA3: =+'Database kontormøbler - 2021'!BR57 -> 0.73584906
A4: DPS | B4: =57-B3 -> 4 | C4: =B4/$B$5 -> 0.070175439 | F4: Ikke brukt krtierieveiviseren | G4: =53-G3 -> 22 | H4: =+G4/B5 -> 0.38596491 | J4: Ikke brukt | K4: =53-K3 -> 49 | L4: =53-L3 -> 41 | M4: =53-M3 -> 36 | N4: =53-N3 -> 41 | O4: =53-O3 -> 51 | P4: =53-P3 -> 52 | Q4: =53-Q3 -> 46 | R4: =53-R3 -> 42 | ... W4: =53-W3 -> 47 | Z4: Ikke brukt | AA4: =53-AA3 -> 23 | AB4: =53-AB3 -> 32 | AC4: =53-AC3 -> 27 | AD4: =53-AD3 -> 27 | AE4: =53-AE3 -> 45 | AF4: =53-AF3 -> 51 | AG4: =53-AG3 -> 33 | AH4: =53-AH3 -> 45 | ... AM4: =53-AM3 -> 20
A5: Total | B5: =SUM(B3:B4) -> 57 | J5: Prosent | K5: =+K3/(K4+K4) -> 0.040816327 | L5: =+L3/(L4+L4)+0.000001 -> 0.14634246 | M5: =+M3/(M4+M4) -> 0.23611111 | N5: =+N3/(N4+N4) -> 0.14634146 | O5: =+O3/(O4+O4) -> 0.019607843 | P5: =+P3/(P4+P4) -> 0.0096153846 | Q5: =+Q3/(Q4+Q4) -> 0.076086957 | R5: =+R3/(R4+R4) -> 0.13095238 | S5: =+S3/(S4+S4) -> 0.17948718 | T5: =+T3/(T4+T4) -> 0.1625 | U5: =+U3/(U4+U4) -> 0.19736842 | V5: =+V3/(V4+V4)+0.00000001 -> 0.16250001 | W5: =+W3/(W4+W4) -> 0.063829787 | Z5: Prosent | AA5: =+AA3/(AA4+AA4) -> 0.65217391 | AB5: =+AB3/(AB4+AB4)+0.000001 -> 0.328126 | AC5: =+AC3/(AC4+AC4) -> 0.48148148 | AD5: =+AD3/(AD4+AD4) -> 0.48148148 | AE5: =+AE3/(AE4+AE4) -> 0.088888889 | AF5: =+AF3/(AF4+AF4) -> 0.019607843 | AG5: =+AG3/(AG4+AG4) -> 0.3030303 | AH5: =+AH3/(AH4+AH4) -> 0.088888889 | AI5: =+AI3/(AI4+AI4) -> 0.65217391 | AJ5: =+AJ3/(AJ4+AJ4) -> 0.019607843 | AK5: =+AK3/(AK4+AK4) -> 0.23611111 | AL5: =+AL3/(AL4+AL4)+0.00000001 -> 0.063829797 | AM5: =+AM3/(AM4+AM4) -> 0.825 | AO5: =+_xlfn.XLOOKUP(AO6,$AO$3:$BA$3,$AO$2:$BA$2) -> Avhending, videresalg, materialgjenvinnes/ resirkuleres | AP5: =+_xlfn.XLOOKUP(AP6,$AO$3:$BA$3,$AO$2:$BA$2) -> Merking av plast | AQ5: =+_xlfn.XLOOKUP(AQ6,$AO$3:$BA$3,$AO$2:$BA$2) -> Unngå skadelige kjemikalier | AR5: =+_xlfn.XLOOKUP(AR6,$AO$3:$BA$3,$AO$2:$BA$2) -> Miljøvennelig emballasje | AS5: =+_xlfn.XLOOKUP(AS6,$AO$3:$BA$3,$AO$2:$BA$2) -> Unngå bruk av PVC | AT5: =+_xlfn.XLOOKUP(AT6,$AO$3:$BA$3,$AO$2:$BA$2) -> Enkel rengjøring av møbler | AU5: =+_xlfn.XLOOKUP(AU6,$AO$3:$BA$3,$AO$2:$BA$2) -> Brannsikkerhet og å unngå bruk av flammehemmere | AV5: =+_xlfn.XLOOKUP(AV6,$AO$3:$BA$3,$AO$2:$BA$2) -> Møbler med høy kvalitet etter produktstandard | ... BA5: =+_xlfn.XLOOKUP(BA6,$AO$3:$BA$3,$AO$2:$BA$2) -> Gjenvinnbar emballasje
J6: Rang | K6: =+_xlfn.RANK.EQ(K5,$K$5:$W$5) -> 11 | L6: =+_xlfn.RANK.EQ(L5,$K$5:$W$5) -> 6 | M6: =+_xlfn.RANK.EQ(M5,$K$5:$W$5) -> 1 | N6: =+_xlfn.RANK.EQ(N5,$K$5:$W$5) -> 7 | O6: =+_xlfn.RANK.EQ(O5,$K$5:$W$5) -> 12 | P6: =+_xlfn.RANK.EQ(P5,$K$5:$W$5) -> 13 | Q6: =+_xlfn.RANK.EQ(Q5,$K$5:$W$5) -> 9 | R6: =+_xlfn.RANK.EQ(R5,$K$5:$W$5) -> 8 | ... W6: =+_xlfn.RANK.EQ(W5,$K$5:$W$5) -> 10 | Z6: Rang | AA6: =+_xlfn.RANK.EQ(AA5,$K$5:$W$5) -> #N/A | AB6: =+_xlfn.RANK.EQ(AB5,$K$5:$W$5) -> #N/A | AC6: =+_xlfn.RANK.EQ(AC5,$K$5:$W$5) -> #N/A | AD6: =+_xlfn.RANK.EQ(AD5,$K$5:$W$5) -> #N/A | AE6: =+_xlfn.RANK.EQ(AE5,$K$5:$W$5) -> #N/A | AF6: =+_xlfn.RANK.EQ(AF5,$K$5:$W$5) -> 12 | AG6: =+_xlfn.RANK.EQ(AG5,$K$5:$W$5) -> #N/A | AH6: =+_xlfn.RANK.EQ(AH5,$K$5:$W$5) -> #N/A | ... AM6: =+_xlfn.RANK.EQ(AM5,$K$5:$W$5) -> #N/A | AO6: =+AT3 -> 0.056603774 | AP6: =+AS3 -> 0.18867925 | AQ6: =+AX3 -> 0.28301887 | AR6: =+AV3 -> 0.35849057 | AS6: =+AZ3 -> 0.35849157 | AT6: =+AU3 -> 0.50943396 | AU6: =+AY3 -> 0.60377358 | AV6: =+AP3 -> 0.62264151 | AW6: =+AO3 -> 0.64150943 | AX6: =+AR3 -> 0.71698113 | AY6: =+BA3 -> 0.73584906 | AZ6: =+AQ3 -> 0.81132075 | BA6: =+AW3 -> 0.83018868
J8: Rang | K8: 1 | L8: 2 | M8: 3 | N8: 4 | O8: 5 | P8: 6 | Q8: 7 | R8: 8 | S8: 9 | T8: 10 | U8: 11 | V8: 12 | W8: 13 | Z8: Rang | AA8: 1 | AB8: 2 | AC8: 3 | AD8: 4 | AE8: 5 | AF8: 6 | AG8: 7 | AH8: 8 | AI8: 9 | AJ8: 10 | AK8: 11 | AL8: 12 | AM8: 13
J9: Krav | K9: =+_xlfn.XLOOKUP(K8,$K$6:$W$6,$K$2:$W$2) -> Robuste møbeltekstiler | L9: =+_xlfn.XLOOKUP(L8,$K$6:$W$6,$K$2:$W$2) -> Brannsikkerhet og å unngå bruk av flammehemmere | M9: =+_xlfn.XLOOKUP(M8,$K$6:$W$6,$K$2:$W$2) -> Gjenvinnbar emballasje | N9: =+_xlfn.XLOOKUP(N8,$K$6:$W$6,$K$2:$W$2) -> Unngå bruk av PVC | O9: =+_xlfn.XLOOKUP(O8,$K$6:$W$6,$K$2:$W$2) -> Unngå skadelige kjemikalier | P9: =+_xlfn.XLOOKUP(P8,$K$6:$W$6,$K$2:$W$2) -> Møbler med høy kvalitet etter produktstandard | Q9: =+_xlfn.XLOOKUP(Q8,$K$6:$W$6,$K$2:$W$2) -> Produktinformasjon om demontering, reparasjon og tilgang på reservedeler | R9: =+_xlfn.XLOOKUP(R8,$K$6:$W$6,$K$2:$W$2) -> Miljøvennelig emballasje | ... W9: =+_xlfn.XLOOKUP(W8,$K$6:$W$6,$K$2:$W$2) -> Avhending, videresalg, materialgjenvinnes/ resirkuleres | Z9: Krav | AA9: =+_xlfn.XLOOKUP(AA8,$K$6:$W$6,$K$2:$W$2) -> Robuste møbeltekstiler | AB9: =+_xlfn.XLOOKUP(AB8,$K$6:$W$6,$K$2:$W$2) -> Brannsikkerhet og å unngå bruk av flammehemmere | AC9: =+_xlfn.XLOOKUP(AC8,$K$6:$W$6,$K$2:$W$2) -> Gjenvinnbar emballasje | AD9: =+_xlfn.XLOOKUP(AD8,$K$6:$W$6,$K$2:$W$2) -> Unngå bruk av PVC | AE9: =+_xlfn.XLOOKUP(AE8,$K$6:$W$6,$K$2:$W$2) -> Unngå skadelige kjemikalier | AF9: =+_xlfn.XLOOKUP(AF8,$K$6:$W$6,$K$2:$W$2) -> Møbler med høy kvalitet etter produktstandard | AG9: =+_xlfn.XLOOKUP(AG8,$K$6:$W$6,$K$2:$W$2) -> Produktinformasjon om demontering, reparasjon og tilgang på reservedeler | AH9: =+_xlfn.XLOOKUP(AH8,$K$6:$W$6,$K$2:$W$2) -> Miljøvennelig emballasje | ... AM9: =+_xlfn.XLOOKUP(AM8,$K$6:$W$6,$K$2:$W$2) -> Avhending, videresalg, materialgjenvinnes/ resirkuleres
J10: Prosent | K10: =+_xlfn.XLOOKUP(K8,$K$6:$W$6,$K$5:$W$5) -> 0.23611111 | L10: =+_xlfn.XLOOKUP(L8,$K$6:$W$6,$K$5:$W$5) -> 0.19736842 | M10: =+_xlfn.XLOOKUP(M8,$K$6:$W$6,$K$5:$W$5) -> 0.17948718 | N10: =+_xlfn.XLOOKUP(N8,$K$6:$W$6,$K$5:$W$5) -> 0.16250001 | O10: =+_xlfn.XLOOKUP(O8,$K$6:$W$6,$K$5:$W$5) -> 0.1625 | P10: =+_xlfn.XLOOKUP(P8,$K$6:$W$6,$K$5:$W$5) -> 0.14634246 | Q10: =+_xlfn.XLOOKUP(Q8,$K$6:$W$6,$K$5:$W$5) -> 0.14634146 | R10: =+_xlfn.XLOOKUP(R8,$K$6:$W$6,$K$5:$W$5) -> 0.13095238 | ... W10: =+_xlfn.XLOOKUP(W8,$K$6:$W$6,$K$5:$W$5) -> 0.0096153846 | Z10: Prosent | AA10: =+_xlfn.XLOOKUP(AA8,$K$6:$W$6,$K$5:$W$5) -> 0.23611111 | AB10: =+_xlfn.XLOOKUP(AB8,$K$6:$W$6,$K$5:$W$5) -> 0.19736842 | AC10: =+_xlfn.XLOOKUP(AC8,$K$6:$W$6,$K$5:$W$5) -> 0.17948718 | AD10: =+_xlfn.XLOOKUP(AD8,$K$6:$W$6,$K$5:$W$5) -> 0.16250001 | AE10: =+_xlfn.XLOOKUP(AE8,$K$6:$W$6,$K$5:$W$5) -> 0.1625 | AF10: =+_xlfn.XLOOKUP(AF8,$K$6:$W$6,$K$5:$W$5) -> 0.14634246 | AG10: =+_xlfn.XLOOKUP(AG8,$K$6:$W$6,$K$5:$W$5) -> 0.14634146 | AH10: =+_xlfn.XLOOKUP(AH8,$K$6:$W$6,$K$5:$W$5) -> 0.13095238 | ... AM10: =+_xlfn.XLOOKUP(AM8,$K$6:$W$6,$K$5:$W$5) -> 0.0096153846
A16: Miljø som tildelingskriterium | F16: Prosentandel som har miljø som tildelingskriterium | I16: Prosentvis fordeling av antall | L16: Estimert verdi som har miljø som tildelingskriterium | R16: Prosentvis fordeling av verdi | U16: Totalverdi | V16: =SUM(Tabell2[Estimert verdi]) -> 961959000
B17: Ja | C17: Nei | D17: Total | F17: Oppdragsgiver | G17: Prosent | I17: Andel anskaffelser som har brukt miljø som tildelingskriterium | J17: Ikke brukt miljø miljø som tildelingskritierum | L17: Ja | M17: Nei | N17: Total | P17: Estimert verdi som har miljø som tildelingskriterium (%) | R17: Andel av totalverdi der miljø er brukt som tildelingskriterium | S17: Ikke brukt miljø miljø som tildelingskritierum
A18: Statlig virksomhet | B18: =COUNTIFS('Database kontormøbler - 2021'!$H$3:$H$55,'Utregning av grafer'!$A18,'Database kontormøbler - 2021'!$V$3:$V$55,1)+COUNTIFS('Database kontormøbler - 2021'!$H$3:$H$55,"Universitet/Høyskole",'Database kontormøbler - 2021'!$V$3:$V$55,1) -> 10 | C18: =COUNTIFS('Database kontormøbler - 2021'!$H$3:$H$55,'Utregning av grafer'!$A18,'Database kontormøbler - 2021'!$V$3:$V$55,0)+COUNTIFS('Database kontormøbler - 2021'!$H$3:$H$55,"Universitet/Høyskole",'Database kontormøbler - 2021'!$V$3:$V$55,0) -> 16 | D18: =SUM(B18:C18) -> 26 | F18: Statlig virksomhet | G18: =B18/D18 -> 0.38461538 | I18: =B21/D21 -> 0.41509434 | J18: =1-I18 -> 0.58490566 | L18: =SUMIFS('Database kontormøbler - 2021'!$N$3:$N$55,'Database kontormøbler - 2021'!$H$3:$H$55,'Utregning av grafer'!$A18,'Database kontormøbler - 2021'!$V$3:$V$55,1)+SUMIFS('Database kontormøbler - 2021'!$N$3:$N$55,'Database kontormøbler - 2021'!$H$3:$H$55,"Universitet/Høyskole",'Database kontormøbler - 2021'!$V$3:$V$55,1) -> 389549000 | M18: =SUMIFS('Database kontormøbler - 2021'!$N$3:$N$55,'Database kontormøbler - 2021'!$H$3:$H$55,'Utregning av grafer'!$A18,'Database kontormøbler - 2021'!$V$3:$V$55,0)+SUMIFS('Database kontormøbler - 2021'!$N$3:$N$55,'Database kontormøbler - 2021'!$H$3:$H$55,"Universitet/Høyskole",'Database kontormøbler - 2021'!$V$3:$V$55,0) -> 316360000 | N18: =SUM(L18:M18) -> 705909000 | P18: =L18/N18 -> 0.55184025 | R18: =SUM(L18:L20)/N21 -> 0.56431615 | S18: =1-R18 -> 0.43568385
A19: Kommune | B19: =COUNTIFS('Database kontormøbler - 2021'!$H$3:$H$55,'Utregning av grafer'!$A19,'Database kontormøbler - 2021'!$V$3:$V$55,1) -> 12 | C19: =COUNTIFS('Database kontormøbler - 2021'!$H$3:$H$55,'Utregning av grafer'!$A19,'Database kontormøbler - 2021'!$V$3:$V$55,0) -> 12 | D19: =SUM(B19:C19) -> 24 | F19: Kommune | G19: =B19/D19 -> 0.5 | L19: =SUMIFS('Database kontormøbler - 2021'!$N$3:$N$55,'Database kontormøbler - 2021'!$H$3:$H$55,'Utregning av grafer'!$A19,'Database kontormøbler - 2021'!$V$3:$V$55,1) -> 153300000 | M19: =SUMIFS('Database kontormøbler - 2021'!$N$3:$N$55,'Database kontormøbler - 2021'!$H$3:$H$55,'Utregning av grafer'!$A19,'Database kontormøbler - 2021'!$V$3:$V$55,0) -> 60200000 | N19: =SUM(L19:M19) -> 213500000 | P19: =L19/N19 -> 0.71803279
A20: Fylkeskommune | B20: =COUNTIFS('Database kontormøbler - 2021'!$H$3:$H$55,'Utregning av grafer'!$A20,'Database kontormøbler - 2021'!$V$3:$V$55,1) -> 0 | C20: =COUNTIFS('Database kontormøbler - 2021'!$H$3:$H$55,'Utregning av grafer'!$A20,'Database kontormøbler - 2021'!$V$3:$V$55,0) -> 3 | D20: =SUM(B20:C20) -> 3 | F20: Fylkeskommune | G20: =B20/D20 -> 0 | L20: =SUMIFS('Database kontormøbler - 2021'!$N$3:$N$55,'Database kontormøbler - 2021'!$H$3:$H$55,'Utregning av grafer'!$A20,'Database kontormøbler - 2021'!$V$3:$V$55,1) -> 0 | M20: =SUMIFS('Database kontormøbler - 2021'!$N$3:$N$55,'Database kontormøbler - 2021'!$H$3:$H$55,'Utregning av grafer'!$A20,'Database kontormøbler - 2021'!$V$3:$V$55,0) -> 42550000 | N20: =SUM(L20:M20) -> 42550000 | P20: =L20/N20 -> 0
A21: Total verdi av miljø som tildelingskriterium | B21: =SUM(B18:B20) -> 22 | C21: =SUM(C18:C20) -> 31 | D21: =SUM(D18:D20) -> 53 | L21: =SUM(L18:L20) -> 542849000 | M21: =SUM(M18:M20) -> 419110000 | N21: =SUM(N18:N20) -> 961959000
A25: Miljømerke som tildelingskriterium | B25: Ja | C25: Nei | D25: Total | F25: Prosentandel som har miljømerke som tildelingskriterium | I25: Prosentvis fordeling av antall | L25: Ja | M25: Nei | N25: Total | P25: Estimert verdi som har miljømerke som tildelingskriterium (%) | R25: Prosentvis fordeling av verdi
A26: Statlig virksomhet | B26: =COUNTIFS('Database kontormøbler - 2021'!$H$3:$H$55,'Utregning av grafer'!$A26,'Database kontormøbler - 2021'!$W$3:$W$55,1)+COUNTIFS('Database kontormøbler - 2021'!$H$3:$H$55,"Universitet/Høyskole",'Database kontormøbler - 2021'!$W$3:$W$55,1) -> 7 | C26: =COUNTIFS('Database kontormøbler - 2021'!$H$3:$H$55,'Utregning av grafer'!$A26,'Database kontormøbler - 2021'!$W$3:$W$55,0)+COUNTIFS('Database kontormøbler - 2021'!$H$3:$H$55,"Universitet/Høyskole",'Database kontormøbler - 2021'!$W$3:$W$55,0) -> 19 | D26: =SUM(B26:C26) -> 26 | F26: Oppdragsgiver | G26: Prosent | I26: Andel anskaffelser som har brukt miljømerke som tildelingskriterium | J26: Ikke brukt miljø miljø som tildelingskritierum | L26: =SUMIFS('Database kontormøbler - 2021'!$N$3:$N$55,'Database kontormøbler - 2021'!$H$3:$H$55,'Utregning av grafer'!$A26,'Database kontormøbler - 2021'!$W$3:$W$55,1)+SUMIFS('Database kontormøbler - 2021'!$N$3:$N$55,'Database kontormøbler - 2021'!$H$3:$H$55,"Universitet/Høyskole",'Database kontormøbler - 2021'!$W$3:$W$55,1) -> 294250000 | M26: =SUMIFS('Database kontormøbler - 2021'!$N$3:$N$55,'Database kontormøbler - 2021'!$H$3:$H$55,'Utregning av grafer'!$A26,'Database kontormøbler - 2021'!$W$3:$W$55,0)+SUMIFS('Database kontormøbler - 2021'!$N$3:$N$55,'Database kontormøbler - 2021'!$H$3:$H$55,"Universitet/Høyskole",'Database kontormøbler - 2021'!$W$3:$W$55,0) -> 411659000 | N26: =SUM(L26:M26) -> 705909000 | P26: =L26/N26 -> 0.41683843 | R26: Andel av totalverdi der miljømerke er brukt som tildelingskriterium | S26: Ikke brukt miljø miljø som tildelingskritierum
A27: Kommune | B27: =COUNTIFS('Database kontormøbler - 2021'!$H$3:$H$55,'Utregning av grafer'!A27,'Database kontormøbler - 2021'!$W$3:$W$55,1) -> 11 | C27: =COUNTIFS('Database kontormøbler - 2021'!$H$3:$H$55,'Utregning av grafer'!$A27,'Database kontormøbler - 2021'!$W$3:$W$55,0) -> 13 | D27: =SUM(B27:C27) -> 24 | F27: Statlig virksomhet | G27: =B26/D26 -> 0.26923077 | I27: =B29/D29 -> 0.33962264 | J27: =1-I27 -> 0.66037736 | L27: =SUMIFS('Database kontormøbler - 2021'!$N$3:$N$55,'Database kontormøbler - 2021'!$H$3:$H$55,'Utregning av grafer'!$A27,'Database kontormøbler - 2021'!$W$3:$W$55,1) -> 150300000 | M27: =SUMIFS('Database kontormøbler - 2021'!$N$3:$N$55,'Database kontormøbler - 2021'!$H$3:$H$55,'Utregning av grafer'!$A27,'Database kontormøbler - 2021'!$W$3:$W$55,0) -> 63200000 | N27: =SUM(L27:M27) -> 213500000 | P27: =L27/N27 -> 0.70398126 | R27: =SUM(L26:L28)/N29 -> 0.46212988 | S27: =1-R27 -> 0.53787012
A28: Fylkeskommune | B28: =COUNTIFS('Database kontormøbler - 2021'!$H$3:$H$55,'Utregning av grafer'!A28,'Database kontormøbler - 2021'!$W$3:$W$55,1) -> 0 | C28: =COUNTIFS('Database kontormøbler - 2021'!$H$3:$H$55,'Utregning av grafer'!$A28,'Database kontormøbler - 2021'!$W$3:$W$55,0) -> 3 | D28: =SUM(B28:C28) -> 3 | F28: Kommune | G28: =B27/D27 -> 0.45833333 | L28: =SUMIFS('Database kontormøbler - 2021'!$N$3:$N$55,'Database kontormøbler - 2021'!$H$3:$H$55,'Utregning av grafer'!$A28,'Database kontormøbler - 2021'!$W$3:$W$55,1) -> 0 | M28: =SUMIFS('Database kontormøbler - 2021'!$N$3:$N$55,'Database kontormøbler - 2021'!$H$3:$H$55,'Utregning av grafer'!$A28,'Database kontormøbler - 2021'!$W$3:$W$55,0) -> 42550000 | N28: =SUM(L28:M28) -> 42550000 | P28: =L28/N28 -> 0
A29: Total | B29: =SUM(B26:B28) -> 18 | C29: =SUM(C26:C28) -> 35 | D29: =SUM(D26:D28) -> 53 | F29: Fylkeskommune | G29: =B28/D28 -> 0 | L29: =SUM(L26:L28) -> 444550000 | M29: =SUM(M26:M28) -> 517409000 | N29: =SUM(N26:N28) -> 961959000
A33: EPD som tildelingskriterium | B33: Ja | C33: Nei | D33: Total | F33: Oppdragsgiver | G33: Prosent | I33: Prosentvis fordeling av antall | L33: Ja | M33: Nei | N33: Total | P33: Estimert verdi som har miljømerke som tildelingskriterium (%) | R33: Prosentvis fordeling av verdi
A34: Statlig virksomhet | B34: =COUNTIFS('Database kontormøbler - 2021'!$H$3:$H$55,'Utregning av grafer'!$A26,'Database kontormøbler - 2021'!$X$3:$X$55,1)+COUNTIFS('Database kontormøbler - 2021'!$H$3:$H$55,"Universitet/Høyskole",'Database kontormøbler - 2021'!$X$3:$X$55,1) -> 3 | C34: =COUNTIFS('Database kontormøbler - 2021'!$H$3:$H$55,'Utregning av grafer'!$A26,'Database kontormøbler - 2021'!$X$3:$X$55,0)+COUNTIFS('Database kontormøbler - 2021'!$H$3:$H$55,"Universitet/Høyskole",'Database kontormøbler - 2021'!$X$3:$X$55,0) -> 23 | D34: =SUM(B34:C34) -> 26 | F34: Statlig virksomhet | G34: =B34/D34 -> 0.11538462 | I34: Andel anskaffelser som har brukt EPD som tildelingskriterium | J34: Ikke brukt miljø miljø som tildelingskritierum | L34: =SUMIFS('Database kontormøbler - 2021'!$N$3:$N$55,'Database kontormøbler - 2021'!$H$3:$H$55,'Utregning av grafer'!$A34,'Database kontormøbler - 2021'!$X$3:$X$55,1)+SUMIFS('Database kontormøbler - 2021'!$N$3:$N$55,'Database kontormøbler - 2021'!$H$3:$H$55,"Universitet/Høyskole",'Database kontormøbler - 2021'!$X$3:$X$55,1) -> 30000000 | M34: =SUMIFS('Database kontormøbler - 2021'!$N$3:$N$55,'Database kontormøbler - 2021'!$H$3:$H$55,'Utregning av grafer'!$A34,'Database kontormøbler - 2021'!$X$3:$X$55,0)+SUMIFS('Database kontormøbler - 2021'!$N$3:$N$55,'Database kontormøbler - 2021'!$H$3:$H$55,"Universitet/Høyskole",'Database kontormøbler - 2021'!$X$3:$X$55,0) -> 675909000 | N34: =SUM(L34:M34) -> 705909000 | P34: =L34/N34 -> 0.042498396 | R34: Andel av totalverdi der EPD er brukt som tildelingskriterium | S34: Ikke brukt EPD som tildelingskritierum
A35: Kommune | B35: =COUNTIFS('Database kontormøbler - 2021'!$H$3:$H$55,'Utregning av grafer'!$A27,'Database kontormøbler - 2021'!$X$3:$X$55,1) -> 8 | C35: =COUNTIFS('Database kontormøbler - 2021'!$H$3:$H$55,'Utregning av grafer'!$A27,'Database kontormøbler - 2021'!$X$3:$X$55,0) -> 16 | D35: =SUM(B35:C35) -> 24 | F35: Kommune | G35: =B35/D35 -> 0.33333333 | I35: =B37/D37 -> 0.20754717 | J35: =1-I35 -> 0.79245283 | L35: =SUMIFS('Database kontormøbler - 2021'!$N$3:$N$55,'Database kontormøbler - 2021'!$H$3:$H$55,'Utregning av grafer'!$A35,'Database kontormøbler - 2021'!$X$3:$X$55,1) -> 111500000 | M35: =SUMIFS('Database kontormøbler - 2021'!$N$3:$N$55,'Database kontormøbler - 2021'!$H$3:$H$55,'Utregning av grafer'!$A35,'Database kontormøbler - 2021'!$X$3:$X$55,0) -> 102000000 | N35: =SUM(L35:M35) -> 213500000 | P35: =L35/N35 -> 0.52224824 | R35: =SUM(L34:L36)/N37 -> 0.14709567 | S35: =1-R35 -> 0.85290433
A36: Fylkeskommune | B36: =COUNTIFS('Database kontormøbler - 2021'!$H$3:$H$55,'Utregning av grafer'!$A28,'Database kontormøbler - 2021'!$X$3:$X$55,1) -> 0 | C36: =COUNTIFS('Database kontormøbler - 2021'!$H$3:$H$55,'Utregning av grafer'!$A28,'Database kontormøbler - 2021'!$X$3:$X$55,0) -> 3 | D36: =SUM(B36:C36) -> 3 | F36: Fylkeskommune | G36: =B36/D36 -> 0 | L36: =SUMIFS('Database kontormøbler - 2021'!$N$3:$N$55,'Database kontormøbler - 2021'!$H$3:$H$55,'Utregning av grafer'!$A36,'Database kontormøbler - 2021'!$X$3:$X$55,1) -> 0 | M36: =SUMIFS('Database kontormøbler - 2021'!$N$3:$N$55,'Database kontormøbler - 2021'!$H$3:$H$55,'Utregning av grafer'!$A36,'Database kontormøbler - 2021'!$X$3:$X$55,0) -> 42550000 | N36: =SUM(L36:M36) -> 42550000 | P36: =L36/N36 -> 0
A37: Total | B37: =SUM(B34:B36) -> 11 | C37: =SUM(C34:C36) -> 42 | D37: =SUM(D34:D36) -> 53 | L37: =SUM(L34:L36) -> 141500000 | M37: =SUM(M34:M36) -> 820459000 | N37: =SUM(N34:N36) -> 961959000
A41: Miljø som kontraktsvilkår | B41: Ja | C41: Nei | D41: Total | F41: Oppdragsgiver | G41: Prosent | I41: Prosentvis fordeling av antall | L41: Ja | M41: Nei | N41: Total | P41: Estimert verdi som har miljø som kontraktsvilkår(%) | R41: Prosentvis fordeling av verdi
A42: Statlig virksomhet | B42: =COUNTIFS('Database kontormøbler - 2021'!$H$3:$H$55,'Utregning av grafer'!$A26,'Database kontormøbler - 2021'!$Y$3:$Y$55,1)+COUNTIFS('Database kontormøbler - 2021'!$H$3:$H$55,"Universitet/Høyskole",'Database kontormøbler - 2021'!$Y$3:$Y$55,1) -> 8 | C42: =COUNTIFS('Database kontormøbler - 2021'!$H$3:$H$55,'Utregning av grafer'!$A26,'Database kontormøbler - 2021'!$Y$3:$Y$55,0)+COUNTIFS('Database kontormøbler - 2021'!$H$3:$H$55,"Universitet/Høyskole",'Database kontormøbler - 2021'!$Y$3:$Y$55,0) -> 18 | D42: =SUM(B42:C42) -> 26 | F42: Statlig virksomhet | G42: =B42/D42 -> 0.30769231 | I42: Andel anskaffelser som har brukt miljø som kontraktsvilkår | J42: Ikke brukt miljø som kontraktsvilkår' | L42: =SUMIFS('Database kontormøbler - 2021'!$N$3:$N$55,'Database kontormøbler - 2021'!$H$3:$H$55,'Utregning av grafer'!$A42,'Database kontormøbler - 2021'!$Y$3:$Y$55,1)+SUMIFS('Database kontormøbler - 2021'!$N$3:$N$55,'Database kontormøbler - 2021'!$H$3:$H$55,"Universitet/Høyskole",'Database kontormøbler - 2021'!$Y$3:$Y$55,1) -> 240550000 | M42: =SUMIFS('Database kontormøbler - 2021'!$N$3:$N$55,'Database kontormøbler - 2021'!$H$3:$H$55,'Utregning av grafer'!$A42,'Database kontormøbler - 2021'!$Y$3:$Y$55,0)+SUMIFS('Database kontormøbler - 2021'!$N$3:$N$55,'Database kontormøbler - 2021'!$H$3:$H$55,"Universitet/Høyskole",'Database kontormøbler - 2021'!$Y$3:$Y$55,0) -> 465359000 | N42: =SUM(L42:M42) -> 705909000 | P42: =L42/N42 -> 0.3407663 | R42: Andel av totalverdi der miljø er brukt som kontraktsvilkår | S42: Ikke brukt miljø som kontraktsvilkår
A43: Kommune | B43: =COUNTIFS('Database kontormøbler - 2021'!$H$3:$H$55,'Utregning av grafer'!$A27,'Database kontormøbler - 2021'!$Y$3:$Y$55,1) -> 9 | C43: =COUNTIFS('Database kontormøbler - 2021'!$H$3:$H$55,'Utregning av grafer'!$A27,'Database kontormøbler - 2021'!$Y$3:$Y$55,0) -> 15 | D43: =SUM(B43:C43) -> 24 | F43: Kommune | G43: =B43/D43 -> 0.375 | I43: =B45/D45 -> 0.33962264 | J43: =1-I43 -> 0.66037736 | L43: =SUMIFS('Database kontormøbler - 2021'!$N$3:$N$55,'Database kontormøbler - 2021'!$H$3:$H$55,'Utregning av grafer'!$A43,'Database kontormøbler - 2021'!$Y$3:$Y$55,1) -> 104800000 | M43: =SUMIFS('Database kontormøbler - 2021'!$N$3:$N$55,'Database kontormøbler - 2021'!$H$3:$H$55,'Utregning av grafer'!$A43,'Database kontormøbler - 2021'!$Y$3:$Y$55,0) -> 108700000 | N43: =SUM(L43:M43) -> 213500000 | P43: =L43/N43 -> 0.49086651 | R43: =SUM(L42:L44)/N45 -> 0.4005888 | S43: =1-R43 -> 0.5994112
A44: Fylkeskommune | B44: =COUNTIFS('Database kontormøbler - 2021'!$H$3:$H$55,'Utregning av grafer'!$A28,'Database kontormøbler - 2021'!$Y$3:$Y$55,1) -> 1 | C44: =COUNTIFS('Database kontormøbler - 2021'!$H$3:$H$55,'Utregning av grafer'!$A28,'Database kontormøbler - 2021'!$Y$3:$Y$55,0) -> 2 | D44: =SUM(B44:C44) -> 3 | F44: Fylkeskommune | G44: =B44/D44 -> 0.33333333 | L44: =SUMIFS('Database kontormøbler - 2021'!$N$3:$N$55,'Database kontormøbler - 2021'!$H$3:$H$55,'Utregning av grafer'!$A44,'Database kontormøbler - 2021'!$Y$3:$Y$55,1) -> 40000000 | M44: =SUMIFS('Database kontormøbler - 2021'!$N$3:$N$55,'Database kontormøbler - 2021'!$H$3:$H$55,'Utregning av grafer'!$A44,'Database kontormøbler - 2021'!$Y$3:$Y$55,0) -> 2550000 | N44: =SUM(L44:M44) -> 42550000 | P44: =L44/N44 -> 0.94007051
A45: Total | B45: =SUM(B42:B44) -> 18 | C45: =SUM(C42:C44) -> 35 | D45: =SUM(D42:D44) -> 53 | L45: =SUM(L42:L44) -> 385350000 | M45: =SUM(M42:M44) -> 576609000 | N45: =SUM(N42:N44) -> 961959000
A49: Miljø som kvalifikasjonskrav | B49: Ja | C49: Nei | D49: Total | F49: Oppdragsgiver | G49: Prosent | I49: Prosentvis fordeling av antall | L49: Ja | M49: Nei | N49: Total | P49: Estimert verdi som har miljø som kvalifikasjonskrav(%) | R49: Prosentvis fordeling av verdi
A50: Statlig virksomhet | B50: =COUNTIFS('Database kontormøbler - 2021'!$H$3:$H$55,'Utregning av grafer'!$A26,'Database kontormøbler - 2021'!$Z$3:$Z$55,1)+COUNTIFS('Database kontormøbler - 2021'!$H$3:$H$55,"Universitet/Høyskole",'Database kontormøbler - 2021'!$Z$3:$Z$55,1) -> 8 | C50: =COUNTIFS('Database kontormøbler - 2021'!$H$3:$H$55,'Utregning av grafer'!$A26,'Database kontormøbler - 2021'!$Z$3:$Z$55,0)+COUNTIFS('Database kontormøbler - 2021'!$H$3:$H$55,"Universitet/Høyskole",'Database kontormøbler - 2021'!$Z$3:$Z$55,0) -> 18 | D50: =SUM(B50:C50) -> 26 | F50: Statlig virksomhet | G50: =B50/D50 -> 0.30769231 | I50: Andel anskaffelser som har brukt miljø som kvalifikasjonskr | J50: Ikke brukt miljø som kvalifikasjonskrav | L50: =SUMIFS('Database kontormøbler - 2021'!$N$3:$N$55,'Database kontormøbler - 2021'!$H$3:$H$55,'Utregning av grafer'!$A50,'Database kontormøbler - 2021'!$Z$3:$Z$55,1)+SUMIFS('Database kontormøbler - 2021'!$N$3:$N$55,'Database kontormøbler - 2021'!$H$3:$H$55,"Universitet/Høyskole",'Database kontormøbler - 2021'!$Z$3:$Z$55,1) -> 303800000 | M50: =SUMIFS('Database kontormøbler - 2021'!$N$3:$N$55,'Database kontormøbler - 2021'!$H$3:$H$55,'Utregning av grafer'!$A50,'Database kontormøbler - 2021'!$Z$3:$Z$55,0)+SUMIFS('Database kontormøbler - 2021'!$N$3:$N$55,'Database kontormøbler - 2021'!$H$3:$H$55,"Universitet/Høyskole",'Database kontormøbler - 2021'!$Z$3:$Z$55,0) -> 402109000 | N50: =SUM(L50:M50) -> 705909000 | P50: =L50/N50 -> 0.43036709 | R50: Andel av totalverdi der miljø er brukt som kvalifikasjonskrav | S50: Ikke brukt miljø som kvalifikasjonskrav
A51: Kommune | B51: =COUNTIFS('Database kontormøbler - 2021'!$H$3:$H$55,'Utregning av grafer'!$A27,'Database kontormøbler - 2021'!$Z$3:$Z$55,1) -> 6 | C51: =COUNTIFS('Database kontormøbler - 2021'!$H$3:$H$55,'Utregning av grafer'!$A51,'Database kontormøbler - 2021'!$Z$3:$Z$55,0) -> 18 | D51: =SUM(B51:C51) -> 24 | F51: Kommune | G51: =B51/D51 -> 0.25 | I51: =B53/D53 -> 0.28301887 | J51: =1-I51 -> 0.71698113 | L51: =SUMIFS('Database kontormøbler - 2021'!$N$3:$N$55,'Database kontormøbler - 2021'!$H$3:$H$55,'Utregning av grafer'!$A51,'Database kontormøbler - 2021'!$Z$3:$Z$55,1) -> 119500000 | M51: =SUMIFS('Database kontormøbler - 2021'!$N$3:$N$55,'Database kontormøbler - 2021'!$H$3:$H$55,'Utregning av grafer'!$A51,'Database kontormøbler - 2021'!$Z$3:$Z$55,0) -> 94000000 | N51: =SUM(L51:M51) -> 213500000 | P51: =L51/N51 -> 0.55971897 | R51: =SUM(L50:L52)/N53 -> 0.48162136 | S51: =1-R51 -> 0.51837864
A52: Fylkeskommune | B52: =COUNTIFS('Database kontormøbler - 2021'!$H$3:$H$55,'Utregning av grafer'!$A28,'Database kontormøbler - 2021'!$Z$3:$Z$55,1) -> 1 | C52: =COUNTIFS('Database kontormøbler - 2021'!$H$3:$H$55,'Utregning av grafer'!$A52,'Database kontormøbler - 2021'!$Z$3:$Z$55,0) -> 2 | D52: =SUM(B52:C52) -> 3 | F52: Fylkeskommune | G52: =B52/D52 -> 0.33333333 | L52: =SUMIFS('Database kontormøbler - 2021'!$N$3:$N$55,'Database kontormøbler - 2021'!$H$3:$H$55,'Utregning av grafer'!$A52,'Database kontormøbler - 2021'!$Z$3:$Z$55,1) -> 40000000 | M52: =SUMIFS('Database kontormøbler - 2021'!$N$3:$N$55,'Database kontormøbler - 2021'!$H$3:$H$55,'Utregning av grafer'!$A52,'Database kontormøbler - 2021'!$Z$3:$Z$55,0) -> 2550000 | N52: =SUM(L52:M52) -> 42550000 | P52: =L52/N52 -> 0.94007051
A53: Total | B53: =SUM(B50:B52) -> 15 | C53: =SUM(C50:C52) -> 38 | D53: =SUM(B53:C53) -> 53 | L53: =SUM(L50:L52) -> 463300000 | M53: =SUM(M50:M52) -> 498659000 | N53: =SUM(N50:N52) -> 961959000
A57: Miljø som kravspesifikasjon | B57: Ja | C57: Nei | D57: Total | F57: Oppdragsgiver | G57: Prosent | I57: Prosentvis fordeling av antall | L57: Ja | M57: Nei | N57: Total | P57: Estimert verdi som har miljø som kravspesifikasjon(%) | R57: Prosentvis fordeling av verdi
A58: Statlig virksomhet | B58: =COUNTIFS('Database kontormøbler - 2021'!$H$3:$H$55,'Utregning av grafer'!$A34,'Database kontormøbler - 2021'!$AA$3:$AA$55,1)+COUNTIFS('Database kontormøbler - 2021'!$H$3:$H$55,"Universitet/Høyskole",'Database kontormøbler - 2021'!$AA$3:$AA$55,1) -> 22 | C58: =COUNTIFS('Database kontormøbler - 2021'!$H$3:$H$55,'Utregning av grafer'!$A34,'Database kontormøbler - 2021'!$AA$3:$AA$55,0)+COUNTIFS('Database kontormøbler - 2021'!$H$3:$H$55,"Universitet/Høyskole",'Database kontormøbler - 2021'!$AA$3:$AA$55,0) -> 4 | D58: =SUM(B58:C58) -> 26 | F58: Statlig virksomhet | G58: =B58/D58 -> 0.84615385 | I58: Andel anskaffelser som har brukt miljø som krspesifikasjon | J58: Ikke brukt miljø som kravspesifikasjon | L58: =SUMIFS('Database kontormøbler - 2021'!$N$3:$N$55,'Database kontormøbler - 2021'!$H$3:$H$55,'Utregning av grafer'!$A58,'Database kontormøbler - 2021'!$AA$3:$AA$55,1)+SUMIFS('Database kontormøbler - 2021'!$N$3:$N$55,'Database kontormøbler - 2021'!$H$3:$H$55,"Universitet/Høyskole",'Database kontormøbler - 2021'!$AA$3:$AA$55,1) -> 688909000 | M58: =SUMIFS('Database kontormøbler - 2021'!$N$3:$N$55,'Database kontormøbler - 2021'!$H$3:$H$55,'Utregning av grafer'!$A58,'Database kontormøbler - 2021'!$AA$3:$AA$55,0)+SUMIFS('Database kontormøbler - 2021'!$N$3:$N$55,'Database kontormøbler - 2021'!$H$3:$H$55,"Universitet/Høyskole",'Database kontormøbler - 2021'!$AA$3:$AA$55,0) -> 17000000 | N58: =SUM(L58:M58) -> 705909000 | P58: =L58/N58 -> 0.97591758 | R58: Andel av totalverdi der miljø er brukt som kravspesifikasjon | S58: Ikke brukt miljø som kravspesifikasjon
A59: Kommune | B59: =COUNTIFS('Database kontormøbler - 2021'!$H$3:$H$55,'Utregning av grafer'!$A35,'Database kontormøbler - 2021'!$AA$3:$AA$55,1) -> 17 | C59: =COUNTIFS('Database kontormøbler - 2021'!$H$3:$H$55,'Utregning av grafer'!$A35,'Database kontormøbler - 2021'!$AA$3:$AA$55,0) -> 7 | D59: =SUM(B59:C59) -> 24 | F59: Kommune | G59: =B59/D59 -> 0.70833333 | I59: =B61/D61 -> 0.79245283 | J59: =1-I59 -> 0.20754717 | L59: =SUMIFS('Database kontormøbler - 2021'!$N$3:$N$55,'Database kontormøbler - 2021'!$H$3:$H$55,'Utregning av grafer'!$A59,'Database kontormøbler - 2021'!$AA$3:$AA$55,1) -> 190200000 | M59: =SUMIFS('Database kontormøbler - 2021'!$N$3:$N$55,'Database kontormøbler - 2021'!$H$3:$H$55,'Utregning av grafer'!$A59,'Database kontormøbler - 2021'!$AA$3:$AA$55,0) -> 23300000 | N59: =SUM(L59:M59) -> 213500000 | P59: =L59/N59 -> 0.89086651 | R59: =SUM(L58:L60)/N61 -> 0.95810632 | S59: =1-R59 -> 0.041893677
A60: Fylkeskommune | B60: =COUNTIFS('Database kontormøbler - 2021'!$H$3:$H$55,'Utregning av grafer'!$A36,'Database kontormøbler - 2021'!$AA$3:$AA$55,1) -> 3 | C60: =COUNTIFS('Database kontormøbler - 2021'!$H$3:$H$55,'Utregning av grafer'!$A36,'Database kontormøbler - 2021'!$AA$3:$AA$55,0) -> 0 | D60: =SUM(B60:C60) -> 3 | F60: Fylkeskommune | G60: =B60/D60 -> 1 | L60: =SUMIFS('Database kontormøbler - 2021'!$N$3:$N$55,'Database kontormøbler - 2021'!$H$3:$H$55,'Utregning av grafer'!$A60,'Database kontormøbler - 2021'!$AA$3:$AA$55,1) -> 42550000 | M60: =SUMIFS('Database kontormøbler - 2021'!$N$3:$N$55,'Database kontormøbler - 2021'!$H$3:$H$55,'Utregning av grafer'!$A60,'Database kontormøbler - 2021'!$AA$3:$AA$55,0) -> 0 | N60: =SUM(L60:M60) -> 42550000 | P60: =L60/N60 -> 1
A61: Total | B61: =SUM(B58:B60) -> 42 | C61: =SUM(C58:C60) -> 11 | D61: =SUM(B61:C61) -> 53 | L61: =SUM(L58:L60) -> 921659000 | M61: =SUM(M58:M60) -> 40300000 | N61: =SUM(N58:N60) -> 961959000
A65: Miljøledelsessystem som tildelingskriterium | B65: Ja | C65: Nei | D65: Total | F65: Oppdragsgiver | G65: Prosent | I65: Prosentvis fordeling av antall | L65: Ja | M65: Nei | N65: Total | P65: Estimert verdi som har krav til miljøledelsessystem | R65: Prosentvis fordeling av verdi
A66: Statlig virksomhet | B66: =COUNTIFS('Database kontormøbler - 2021'!$H$3:$H$55,'Utregning av grafer'!$A42,'Database kontormøbler - 2021'!$AG$3:$AG$55,1)+COUNTIFS('Database kontormøbler - 2021'!$H$3:$H$55,"Universitet/Høyskole",'Database kontormøbler - 2021'!$AG$3:$AG$55,1) -> 10 | C66: =COUNTIFS('Database kontormøbler - 2021'!$H$3:$H$55,'Utregning av grafer'!$A42,'Database kontormøbler - 2021'!$AG$3:$AG$55,0)+COUNTIFS('Database kontormøbler - 2021'!$H$3:$H$55,"Universitet/Høyskole",'Database kontormøbler - 2021'!$AG$3:$AG$55,0) -> 16 | D66: =SUM(B66:C66) -> 26 | F66: Statlig virksomhet | G66: =B66/D66 -> 0.38461538 | I66: Andel anskaffelser som har krav til miljøledelsessystem | J66: Ikke brukt miljøledelsessystem | L66: =SUMIFS('Database kontormøbler - 2021'!$N$3:$N$55,'Database kontormøbler - 2021'!$H$3:$H$55,'Utregning av grafer'!$A66,'Database kontormøbler - 2021'!$AG$3:$AG$55,1)+SUMIFS('Database kontormøbler - 2021'!$N$3:$N$55,'Database kontormøbler - 2021'!$H$3:$H$55,"Universitet/Høyskole",'Database kontormøbler - 2021'!$AG$3:$AG$55,1) -> 305099000 | M66: =SUMIFS('Database kontormøbler - 2021'!$N$3:$N$55,'Database kontormøbler - 2021'!$H$3:$H$55,'Utregning av grafer'!$A66,'Database kontormøbler - 2021'!$AG$3:$AG$55,0)+SUMIFS('Database kontormøbler - 2021'!$N$3:$N$55,'Database kontormøbler - 2021'!$H$3:$H$55,"Universitet/Høyskole",'Database kontormøbler - 2021'!$AG$3:$AG$55,0) -> 400810000 | N66: =SUM(L66:M66) -> 705909000 | P66: =L66/N66 -> 0.43220727 | R66: Andel av totalverdi der det er krav til miljøledelsessystem | S66: Ikke brukt miljøledelsessystem
